{"text_format":"3","workbook":"xlsx","n_sheets":16,"sheets":["Informatie","L1 - L2","B","L1","L2","M1","M2","M1 - M2","Z1","Z2","ZZL","Z1 - Z2","Kampioenen","Diversen","Instellingen","Afvaardiging"],"not_rendered":{"macros":1,"external_links":1,"defined_names":21},"read":"whole","date_system":"1900"}

{"sheet":"Informatie","index":0,"n_rows":3,"n_cols":1,"rows_kept":3}
["LEES ONDERSTAANDE INFO EERST!!"]
[]
["Zowel de afgevaardigden als de reserves dienen zich aan te melden via Mijn KNHS voor de regiokampioenschappen\n"]

{"sheet":"L1 - L2","index":1,"n_rows":8,"n_cols":66,"rows_kept":8,"hidden":true,"merged":[[0,0,0,65],[2,0,2,1],[2,2,2,4],[2,5,2,13],[2,14,2,21],[2,22,4,53],[2,54,2,62],[2,65,6,65],[3,0,3,1],[3,2,3,4],[3,5,3,13],[3,14,3,21],[3,54,3,62],[4,0,4,1],[4,2,4,4],[4,5,4,13],[4,14,4,21],[4,54,4,62],[5,0,6,4],[5,6,5,13],[5,14,5,21],[5,22,5,29],[5,30,5,37],[5,38,5,45],[5,46,5,53],[5,54,5,59],[6,6,6,13],[6,14,6,21],[6,22,6,29],[6,30,6,37],[6,38,6,45],[6,46,6,53]]}
["Selectie uitslagen"]
[null,null,1,{"$f":"FLOOR((C2+3)/4,1)","v":1},null,null,192,192,190,{"$f":"H2+I2","v":382},{"$nulls":3},1,193,193,193,{"$f":"P2+Q2","v":386},{"$nulls":3},2,198,198,198,{"$f":"X2+Y2","v":396},{"$nulls":3},3,177,177,177,{"$f":"AF2+AG2","v":354},{"$nulls":3},4,178,178,178,{"$f":"AN2+AO2","v":356},{"$nulls":3},5,179,179,179,{"$f":"AV2+AW2","v":358},{"$nulls":3},6,{"$f":"N2+V2+AD2+AL2+AT2+BB2","v":21},{"$f":"J2+R2+Z2+AH2+AP2+AX2","v":2232},{"$f":"IF($O$4>0,(LARGE(($N2,$V2,$AD2,$AL2,$AT2,$BB2),1)),\"0\")","v":6},{"$f":"IF($O$4>0,(LARGE(($N2,$V2,$AD2,$AL2,$AT2,$BB2),2)),\"0\")","v":5},354,354,{"$f":"BC2-BE2-BF2","v":10},{"$f":"BD2-BG2-BH2","v":1524}]
["Kring:",null,{"$f":"Instellingen!B3","v":"Kring NVF"},{"$nulls":51},"Aantal wedstrijden:",{"$nulls":8},{"$f":"Instellingen!B6","v":3}]
["Klasse:",null,"L1 - L2",null,null,"Aantal afval resultaten:",{"$nulls":8},{"$f":"Instellingen!B7","v":1}]
["Cat.:",{"$nulls":4},"Plaatsingspunten niet gestart:",{"$nulls":8},{"$f":"Instellingen!B5","v":99}]
[{"$nulls":5},"Lokatie:",{"$f":"Instellingen!B36","v":"Hulshorst_Nunspeet"},{"$nulls":7},{"$f":"Instellingen!B37","v":"Vaassen_Wezep"},{"$nulls":7},{"$f":"Instellingen!B38","v":"Dronten_Hierden"},{"$nulls":7},{"$f":"Instellingen!B39","v":0},{"$nulls":7},{"$f":"Instellingen!B40","v":0},{"$nulls":7},{"$f":"Instellingen!B41","v":0},{"$nulls":7},"Dressuur"]
[{"$nulls":5},"Datum:",{"$f":"Instellingen!C36","v":"03_04 nov 2023"},{"$nulls":7},{"$f":"Instellingen!C37","v":"01_02 dec 2023"},{"$nulls":7},{"$f":"Instellingen!C38","v":"08_09_15_16 dec 2023"},{"$nulls":7},{"$f":"Instellingen!C39","v":" "},{"$nulls":7},{"$f":"Instellingen!C40","v":" "},{"$nulls":7},{"$f":"Instellingen!C41","v":" "},{"$nulls":7},"Tot.","Tot.","afval","afval","afval","afval","Beste","Beste"]
["Pl.","Comb.nr.","Ruiter/amazone","Paard/pony","kl.","vereniging","Ring","pnt.C","pnt.H","pnt.tot","ex 1","ex 2","pl.","pl.p.","Ring","pnt.C","pnt.H","pnt.tot.","ex 1","ex 2","pl.","pl.p.","Ring","pnt.C","pnt. H","pnt.tot.","ex 1","ex 2","pl.","pl.p.","Ring","pnt.C","pnt.H","pnt.tot.","ex 1","ex 2","pl.","pl.p.","Ring","pnt.C","pnt.H","pnt.tot.","ex 1","ex 2","pl.","pl.p.","Ring","pnt.C","pnt.H","pnt.tot.","ex 1","ex 2","pl.","pl.p.","pl.pnt","punten","pl.pnt","pl.pnt","punten","punten","pl.pnt","punten","Afv.","Res.",null,"opmerking"]

{"sheet":"B","index":2,"n_rows":45,"n_cols":66,"rows_kept":45,"merged":[[0,0,0,65],[2,0,2,1],[2,2,2,4],[2,5,2,13],[2,14,2,21],[2,22,4,53],[2,54,2,62],[2,64,6,65],[3,0,3,1],[3,2,3,4],[3,5,3,13],[3,14,3,21],[3,54,3,62],[4,0,4,1],[4,2,4,4],[4,5,4,13],[4,14,4,21],[4,54,4,62],[5,0,6,4],[5,6,5,13],[5,14,5,21],[5,22,5,29],[5,30,5,37],[5,38,5,45],[5,46,5,53],[5,54,5,59],[6,6,6,13],[6,14,6,21],[6,22,6,29],[6,30,6,37],[6,38,6,45],[6,46,6,53]]}
["Selectie uitslagen"]
[null,null,1,{"$f":"FLOOR((C2+3)/4,1)","v":1},{"$nulls":3},192,190,{"$f":"H2+I2","v":382},{"$nulls":3},1,null,193,193,{"$f":"P2+Q2","v":386},{"$nulls":3},2,null,198,198,{"$f":"X2+Y2","v":396},{"$nulls":3},3,null,177,177,{"$f":"AF2+AG2","v":354},{"$nulls":3},4,null,178,178,{"$f":"AN2+AO2","v":356},{"$nulls":3},5,null,179,179,{"$f":"AV2+AW2","v":358},{"$nulls":3},6,{"$f":"N2+V2+AD2+AL2+AT2+BB2","v":21},{"$f":"J2+R2+Z2+AH2+AP2+AX2","v":2232},{"$f":"IF($O$4>0,(LARGE(($N2,$V2,$AD2,$AL2,$AT2,$BB2),1)),\"0\")","v":6},{"$f":"IF($O$4>0,(LARGE(($N2,$V2,$AD2,$AL2,$AT2,$BB2),2)),\"0\")","v":5},354,354,{"$f":"BC2-BE2-BF2","v":10},{"$f":"BD2-BG2-BH2","v":1524}]
["Kring:",null,{"$f":"[1]Instellingen!B3","v":"Kring NVF"},null,null,"Aantal afvaardiging Regio:",{"$nulls":8},5,{"$nulls":39},"Aantal wedstrijden:",{"$nulls":8},{"$f":"[1]Instellingen!B6","v":3}]
["Klasse:",null,"B",null,null,"Aantal afval resultaten:",{"$nulls":8},{"$f":"[1]Instellingen!B7","v":1}]
["Cat.:",{"$nulls":4},"Plaatsingspunten niet gestart:",{"$nulls":8},{"$f":"[1]Instellingen!B5","v":99},{"$nulls":39},"Aantal reserves:",{"$nulls":8},2]
[{"$nulls":5},"Lokatie:",{"$f":"[1]Instellingen!B36","v":"Hulshorst_Nunspeet"},{"$nulls":7},{"$f":"[1]Instellingen!B37","v":"Vaassen_Wezep"},{"$nulls":7},{"$f":"[1]Instellingen!B38","v":"Dronten_Hierden"},{"$nulls":7},{"$f":"[1]Instellingen!B39","v":0},{"$nulls":7},{"$f":"[1]Instellingen!B40","v":0},{"$nulls":7},{"$f":"[1]Instellingen!B41","v":0},{"$nulls":7},"Dressuur",{"$nulls":5},"Pnt. 60% regel",null,null,180]
[{"$nulls":5},"Datum:",{"$f":"[1]Instellingen!C36","v":"03_04 nov 2023"},{"$nulls":7},{"$f":"[1]Instellingen!C37","v":"01_02 dec 2023"},{"$nulls":7},{"$f":"[1]Instellingen!C38","v":"08_09_15_16 dec 2023"},{"$nulls":7},{"$f":"[1]Instellingen!C39","v":" "},{"$nulls":7},{"$f":"[1]Instellingen!C40","v":" "},{"$nulls":7},{"$f":"[1]Instellingen!C41","v":" "},{"$nulls":7},"Tot.","Tot.","afval","afval","afval","afval","Beste","Beste"]
["Pl.","Comb.nr.","Ruiter/amazone","Paard/pony","kl.","vereniging","Ring","pnt.C","pnt.H","pnt.tot","ex 1","ex 2","pl.","pl.p.","Ring","pnt.C","pnt.H","pnt.tot.","ex 1","ex 2","pl.","pl.p.","Ring","pnt.C","pnt. H","pnt.tot.","ex 1","ex 2","pl.","pl.p.","Ring","pnt.C","pnt.H","pnt.tot.","ex 1","ex 2","pl.","pl.p.","Ring","pnt.C","pnt.H","pnt.tot.","ex 1","ex 2","pl.","pl.p.","Ring","pnt.C","pnt.H","pnt.tot.","ex 1","ex 2","pl.","pl.p.","pl.pnt","punten","pl.pnt","pl.pnt","punten","punten","pl.pnt","punten","Afv.","Res.","Afv. Regio","opmerking"]
[1,"945785NZ","Kyara van der Ziel","No Mercy  WV","B","Noord Veluwe, RV. PSV",null,206.5,0,{"$f":"H9+I9","v":206.5},7,7.5,2,2,1,202,0,{"$f":"P9+Q9","v":202},6,6.5,2,2,1,200.5,null,{"$f":"X9+Y9","v":200.5},7,7,2,2,{"$nulls":24},{"$f":"N9+V9+AD9+AL9+AT9+BB9","v":6},{"$f":"J9+R9+Z9+AH9+AP9+AX9","v":609},{"$f":"IF($O$4>0,(LARGE(($N9,$V9,$AD9,$AL9,$AT9,$BB9),1)),\"0\")","v":2},null,200.5,0,{"$f":"BC9-BE9-BF9","v":4},{"$f":"BD9-BG9-BH9","v":408.5},1,null,null,"Kringkampioen"]
[2,"846769RV","Luna Veldkamp","Royally Impressed","B","Heuvelruiters, RV.",{"$nulls":3},0,{"$nulls":3},99,1,202,0,202,6,7,1,1,1,194.5,null,194.5,6.5,7,3,3,{"$nulls":24},103,396.5,{"$f":"IF($O$4>0,(LARGE(($N10,$V10,$AD10,$AL10,$AT10,$BB10),1)),\"0\")","v":99},null,0,0,4,396.5,2]
[3,"991594MV","Denise Vonk","Maigret","B","Nunspeetse Ruiterclub, RV.",null,200,0,200,6.5,6.5,4,4,{"$nulls":3},0,{"$nulls":3},99,1,202.5,null,202.5,7,7,1,1,{"$nulls":24},104,402.5,{"$f":"IF($O$4>0,(LARGE(($N11,$V11,$AD11,$AL11,$AT11,$BB11),1)),\"0\")","v":99},null,0,0,5,402.5,3]
[4,"992423ND","Noreen van den Dragt","Nanisina","B","Nunspeetse Ruiterclub, RV.",null,197,0,197,6.5,7,7,7,1,201,0,201,7,7,3,3,1,194.5,null,194.5,6.5,6.5,5,5,{"$nulls":24},15,592.5,{"$f":"IF($O$4>0,(LARGE(($N12,$V12,$AD12,$AL12,$AT12,$BB12),1)),\"0\")","v":7},null,197,0,8,395.5,4]
[5,"991870OK","Chayenne Karel","Odin Royal DDH","B","Heuvelruiters, RV.",null,185,0,185,6,6,18,18,1,201,0,201,6.5,6.5,4,4,1,192,null,192,6.5,6.5,7,7,{"$nulls":24},29,578,{"$f":"IF($O$4>0,(LARGE(($N13,$V13,$AD13,$AL13,$AT13,$BB13),1)),\"0\")","v":18},null,185,0,11,393,5]
[6,"962598IH","Tamara Van der Hilst","Irma","B","Noord Veluwe, RV. PSV",null,213,0,213,7.5,8,1,1,1,192.5,0,192.5,6,6.5,10,10,{"$nulls":3},0,{"$nulls":3},99,{"$nulls":24},110,405.5,{"$f":"IF($O$4>0,(LARGE(($N14,$V14,$AD14,$AL14,$AT14,$BB14),1)),\"0\")","v":99},null,0,0,11,405.5,null,1]
[7,"981943OH","Malou Haverkamp","Odivo","B","Schaapskooiruiters, RV. De",null,195,0,195,6.5,7,9,9,1,191,0,191,6,6.5,12,12,1,194.5,null,194.5,6.5,7,3,3,{"$nulls":24},24,580.5,{"$f":"IF($O$4>0,(LARGE(($N15,$V15,$AD15,$AL15,$AT15,$BB15),1)),\"0\")","v":12},null,191,0,12,389.5,null,2]
[8,"986358OH","Agnes Van Halewijn","Obengel","B","Hulshorst, RV.",null,197,0,197,6.5,7,7,7,1,198.5,0,198.5,6,6.5,6,6,1,192.5,null,192.5,6.5,6.5,6,6,{"$nulls":24},19,588,{"$f":"IF($O$4>0,(LARGE(($N16,$V16,$AD16,$AL16,$AT16,$BB16),1)),\"0\")","v":7},null,197,0,12,391]
[9,"987923MD","Lottah Doornewaard","Miezelma","B","Hippisch Oosterwolde, RV.",null,199.5,0,199.5,6.5,7.5,5,5,1,197.5,0,197.5,6,6.5,7,7,1,189.5,null,189.5,6,6.5,11,11,{"$nulls":24},23,586.5,{"$f":"IF($O$4>0,(LARGE(($N17,$V17,$AD17,$AL17,$AT17,$BB17),1)),\"0\")","v":11},null,189.5,0,12,397]
[10,"926031ET","Irsa van der Tuin","Easter Surprise Z","B","Oost-Veluwse R.J.V., RV.",null,188.5,0,188.5,6,6.5,13,13,1,200,0,200,6.5,6.5,5,5,1,177.5,null,177.5,5.5,6,25,25,{"$nulls":24},43,566,{"$f":"IF($O$4>0,(LARGE(($N18,$V18,$AD18,$AL18,$AT18,$BB18),1)),\"0\")","v":25},null,177.5,0,18,388.5]
[11,"983595AH","Mendya Hoedt","Aphrodite B","B","Bosruiters, RV. De",null,197.5,0,197.5,6.5,7,6,6,1,188.5,0,188.5,6,6,16,16,1,186.5,null,186.5,6,6,14,14,{"$nulls":24},36,572.5,{"$f":"IF($O$4>0,(LARGE(($N19,$V19,$AD19,$AL19,$AT19,$BB19),1)),\"0\")","v":16},null,188.5,0,20,384]
[12,"983390MS","Agnes Scholten","My Melody","B","Heuvelruiters, RV.",null,187.5,0,187.5,6,6.5,14,14,1,192.5,0,192.5,6.5,6.5,9,9,1,188,null,188,6.5,6.5,13,13,{"$nulls":24},36,568,{"$f":"IF($O$4>0,(LARGE(($N20,$V20,$AD20,$AL20,$AT20,$BB20),1)),\"0\")","v":14},null,187.5,0,22,380.5]
[13,"978459NP","Iris Pater","Novelle","B","Marleruiters, RV.",null,0,0,0,null,null,26,90,1,196.5,0,196.5,6,6.5,8,8,1,186,null,186,6.5,6.5,15,15,{"$nulls":24},113,382.5,{"$f":"IF($O$4>0,(LARGE(($N21,$V21,$AD21,$AL21,$AT21,$BB21),1)),\"0\")","v":90},null,0,0,23,382.5]
[14,"932101GJ","Sandy De Jong - Tichelaar","Ghaira","B","Flevoruiters, RV.",null,179,0,179,5.5,6,24,24,1,171.5,0,171.5,5,5.5,22,22,1,178,null,178,6,6.5,23,2,{"$nulls":24},48,528.5,{"$f":"IF($O$4>0,(LARGE(($N22,$V22,$AD22,$AL22,$AT22,$BB22),1)),\"0\")","v":24},null,179,0,24,349.5]
[15,"965516FA","Quiana Altena","Florida's Flirt","B","Heuvelruiters, RV.",null,189,0,189,6,6.5,11,11,1,189.5,0,189.5,6,6,15,15,1,184.5,null,184.5,6,7,16,16,{"$nulls":24},42,563,{"$f":"IF($O$4>0,(LARGE(($N23,$V23,$AD23,$AL23,$AT23,$BB23),1)),\"0\")","v":16},null,184.5,0,26,378.5]
[16,"991400OB","Javaj Van Bregt","Oo Blacky","B","Heuvelruiters, RV.",null,185,0,185,6,6.5,17,17,1,185.5,0,185.5,6,6,17,17,1,189.5,null,189.5,6,7,10,10,{"$nulls":24},44,560,{"$f":"IF($O$4>0,(LARGE(($N24,$V24,$AD24,$AL24,$AT24,$BB24),1)),\"0\")","v":17},null,185,0,27,375]
[17,"987917NB","Bertina Wajer - Beelen","Nelson B.K.","B","Randmeerruiters, RV. De",null,183,0,183,6,6,21,21,1,192.5,0,192.5,5.5,6.5,11,11,1,183,null,183,6,6.5,18,18,{"$nulls":24},50,558.5,{"$f":"IF($O$4>0,(LARGE(($N25,$V25,$AD25,$AL25,$AT25,$BB25),1)),\"0\")","v":21},null,183,0,29,375.5]
[18,"988758LR","Zara de Ree","Liszt D","B","Heuvelruiters, RV.",null,186.5,0,186.5,6,6.5,15,15,1,190,0,190,6,6.5,14,14,{"$nulls":3},0,{"$nulls":3},99,{"$nulls":24},128,376.5,{"$f":"IF($O$4>0,(LARGE(($N26,$V26,$AD26,$AL26,$AT26,$BB26),1)),\"0\")","v":99},null,0,0,29,376.5]
[19,"921293JT","Lynn Van Tienderen","Jackie","B","Flevoruiters, RV.",null,192,0,192,6.5,6.5,10,10,1,181.5,0,181.5,5.5,6,20,20,1,178.5,null,178.5,6,6.5,22,22,{"$nulls":24},52,552,{"$f":"IF($O$4>0,(LARGE(($N27,$V27,$AD27,$AL27,$AT27,$BB27),1)),\"0\")","v":22},null,178.5,0,30,373.5]
[20,"992356OB","José Bosman","Obsession Vs","B","Heuvelruiters, RV.",null,182,0,182,6,6,22,22,1,185,0,185,5,6,19,19,1,188.5,null,188.5,6.5,6.5,12,12,{"$nulls":24},53,555.5,{"$f":"IF($O$4>0,(LARGE(($N28,$V28,$AD28,$AL28,$AT28,$BB28),1)),\"0\")","v":22},null,182,0,31,373.5]
[21,"983877LS","Lindsay van de Streek","Let'S Dance","B","Nunspeetse Ruiterclub, RV.",null,184,0,184,6,6.5,19,19,1,185,0,185,6,6,18,18,1,180.5,null,180.5,6,6.5,21,21,{"$nulls":24},58,549.5,{"$f":"IF($O$4>0,(LARGE(($N29,$V29,$AD29,$AL29,$AT29,$BB29),1)),\"0\")","v":21},null,180.5,0,37,369]
[22,"991935KS","Louna Sanderse","Karamella","B","WWNA, RV.",null,185.5,0,185.5,6,6.5,16,16,1,178,0,178,5,6,21,21,{"$nulls":3},0,{"$nulls":3},99,{"$nulls":24},136,363.5,{"$f":"IF($O$4>0,(LARGE(($N30,$V30,$AD30,$AL30,$AT30,$BB30),1)),\"0\")","v":99},null,0,0,37,363.5]
[23,"992866HV","Amber Vriesema","Havana Hero","B","Nunspeetse Ruiterclub, RV.",{"$nulls":3},0,{"$nulls":3},99,1,171.5,0,171.5,5,6,23,23,{"$nulls":3},0,{"$nulls":3},99,{"$nulls":24},221,171.5,{"$f":"IF($O$4>0,(LARGE(($N31,$V31,$AD31,$AL31,$AT31,$BB31),1)),\"0\")","v":99},null,0,0,122,171.5]
[24,"988867JZ","Ingrid Wichers - Zorge","Jersey L","B","Cannenburgh, RV. HV. De",null,168,0,168,5,5,25,25,1,191,0,191,6,6.5,12,12,{"$nulls":3},0,{"$nulls":3},99,{"$nulls":24},136,359,{"$f":"IF($O$4>0,(LARGE(($N32,$V32,$AD32,$AL32,$AT32,$BB32),1)),\"0\")","v":99},null,0,0,37,359]
[25,"978728DH","Chantalle Halfwerk","Dansa's Onniedan","B","Heuvelruiters, RV.",null,206,0,206,6.5,7,3,3,{"$nulls":3},0,{"$nulls":3},99,{"$nulls":3},0,{"$nulls":3},99,{"$nulls":24},201,206,{"$f":"IF($O$4>0,(LARGE(($N33,$V33,$AD33,$AL33,$AT33,$BB33),1)),\"0\")","v":99},null,0,0,102,206]
[26,"949881MW","Daisy Wagenaar","Marcato",null,"Lelyruiters, RV",{"$nulls":3},0,{"$nulls":3},99,{"$nulls":3},0,{"$nulls":3},99,1,191.5,null,191.5,6.5,7,8,8,{"$nulls":24},206,191.5,{"$f":"IF($O$4>0,(LARGE(($N34,$V34,$AD34,$AL34,$AT34,$BB34),1)),\"0\")","v":99},null,0,0,107,191.5]
[27,"978286ZK","Luna van der Kruk","Zela",null,"Flevoruiters, RV.",{"$nulls":3},0,{"$nulls":3},99,{"$nulls":3},0,{"$nulls":3},99,1,190.5,null,190.5,6.5,6.5,9,9,{"$nulls":24},207,190.5,{"$f":"IF($O$4>0,(LARGE(($N35,$V35,$AD35,$AL35,$AT35,$BB35),1)),\"0\")","v":99},null,0,0,108,190.5]
[28,"957051MO","Marinda Van Omme","My Balou B","B","Hulshorst, RV.",null,189,0,189,6,6.5,11,11,{"$nulls":3},0,{"$nulls":3},99,{"$nulls":3},0,{"$nulls":3},99,{"$nulls":24},209,189,{"$f":"IF($O$4>0,(LARGE(($N36,$V36,$AD36,$AL36,$AT36,$BB36),1)),\"0\")","v":99},null,0,0,110,189]
[29,"888383AD","Carolien van de Bunt - Duijfjes","Siem",null,"Flevoruiters, RV.",{"$nulls":3},0,{"$nulls":3},99,{"$nulls":3},0,{"$nulls":3},99,1,184,null,184,6.5,6.5,17,17,{"$nulls":24},215,184,{"$f":"IF($O$4>0,(LARGE(($N37,$V37,$AD37,$AL37,$AT37,$BB37),1)),\"0\")","v":99},null,0,0,116,184]
[30,"946518BB","Nikki van Bergen","Bau",null,"Flevoruiters, RV.",{"$nulls":3},0,{"$nulls":3},99,{"$nulls":3},0,{"$nulls":3},99,1,183,null,183,6,6.5,18,18,{"$nulls":24},216,183,{"$f":"IF($O$4>0,(LARGE(($N38,$V38,$AD38,$AL38,$AT38,$BB38),1)),\"0\")","v":99},null,0,0,117,183]
[31,"837091KB","Jolijn Boots","Kaya",null,"Flevoruiters, RV.",{"$nulls":3},0,{"$nulls":3},99,{"$nulls":3},0,{"$nulls":3},99,1,181.5,null,181.5,6,6.5,20,20,{"$nulls":24},218,181.5,{"$f":"IF($O$4>0,(LARGE(($N39,$V39,$AD39,$AL39,$AT39,$BB39),1)),\"0\")","v":99},null,0,0,119,181.5]
[32,"967855NV","Imke Vredenberg","Nimarilla","B","Oost-Veluwse R.J.V., RV.",null,183.5,0,183.5,6.5,6.5,20,20,{"$nulls":3},0,{"$nulls":3},99,{"$nulls":3},0,{"$nulls":3},99,{"$nulls":24},218,183.5,{"$f":"IF($O$4>0,(LARGE(($N40,$V40,$AD40,$AL40,$AT40,$BB40),1)),\"0\")","v":99},null,0,0,119,183.5]
[33,"984074PB","Emma Bremer","Uno Momento","B","Flevoruiters, RV.",null,181.5,0,181.5,5.5,6,23,23,{"$nulls":3},0,{"$nulls":3},99,{"$nulls":3},0,{"$nulls":3},99,{"$nulls":24},221,181.5,{"$f":"IF($O$4>0,(LARGE(($N41,$V41,$AD41,$AL41,$AT41,$BB41),1)),\"0\")","v":99},null,0,0,122,181.5]
[34,"992866HV","Amber Vriesema","Havana Hero",null,"Nunspeetse Ruiterclub, RV.",{"$nulls":3},0,{"$nulls":3},99,{"$nulls":3},0,{"$nulls":3},99,1,178,null,178,5,6.5,24,24,{"$nulls":24},222,178,{"$f":"IF($O$4>0,(LARGE(($N42,$V42,$AD42,$AL42,$AT42,$BB42),1)),\"0\")","v":99},null,0,0,123,178]
[35,"953386SS","Andrys Stienstra","Super Sonnic ",null,"Flevoruiters, RV.",{"$nulls":3},0,{"$nulls":3},99,{"$nulls":3},0,{"$nulls":3},99,1,173,null,173,6,6.5,26,26,{"$nulls":24},224,173,{"$f":"IF($O$4>0,(LARGE(($N43,$V43,$AD43,$AL43,$AT43,$BB43),1)),\"0\")","v":99},null,0,0,125,173]
[36,"992644ZK","Felice de Klerk","Ziteldo","B","Randmeerruiters, RV. De",null,0,0,0,null,null,26,90,{"$nulls":3},0,{"$nulls":3},99,{"$nulls":3},0,{"$nulls":3},99,{"$nulls":24},288,0,{"$f":"IF($O$4>0,(LARGE(($N44,$V44,$AD44,$AL44,$AT44,$BB44),1)),\"0\")","v":99},null,0,0,189,0]
[36,"984469ME","Jose Van Egteren","Mata Hari D","B","Cannenburgh, RV. HV. De",null,0,0,0,null,null,26,90,{"$nulls":3},0,{"$nulls":3},99,{"$nulls":3},0,{"$nulls":3},99,{"$nulls":24},288,0,{"$f":"IF($O$4>0,(LARGE(($N45,$V45,$AD45,$AL45,$AT45,$BB45),1)),\"0\")","v":99},null,0,0,189,0]

{"sheet":"L1","index":3,"n_rows":49,"n_cols":66,"rows_kept":49,"merged":[[0,0,0,65],[2,0,2,1],[2,2,2,4],[2,5,2,13],[2,14,2,21],[2,22,4,53],[2,54,2,62],[2,64,6,65],[3,0,3,1],[3,2,3,4],[3,5,3,13],[3,14,3,21],[3,54,3,62],[4,0,4,1],[4,2,4,4],[4,5,4,13],[4,14,4,21],[4,54,4,62],[5,0,6,4],[5,6,5,13],[5,14,5,21],[5,22,5,29],[5,30,5,37],[5,38,5,45],[5,46,5,53],[5,54,5,59],[6,6,6,13],[6,14,6,21],[6,22,6,29],[6,30,6,37],[6,38,6,45],[6,46,6,53]]}
["Selectie uitslagen"]
[null,null,1,{"$f":"FLOOR((C2+3)/4,1)","v":1},{"$nulls":3},192,190,{"$f":"H2+I2","v":382},{"$nulls":3},1,null,193,193,{"$f":"P2+Q2","v":386},{"$nulls":3},2,null,198,198,{"$f":"X2+Y2","v":396},{"$nulls":3},3,null,177,177,{"$f":"AF2+AG2","v":354},{"$nulls":3},4,null,178,178,{"$f":"AN2+AO2","v":356},{"$nulls":3},5,null,179,179,{"$f":"AV2+AW2","v":358},{"$nulls":3},6,{"$f":"N2+V2+AD2+AL2+AT2+BB2","v":21},{"$f":"J2+R2+Z2+AH2+AP2+AX2","v":2232},{"$f":"IF($O$4>0,(LARGE(($N2,$V2,$AD2,$AL2,$AT2,$BB2),1)),\"0\")","v":6},{"$f":"IF($O$4>0,(LARGE(($N2,$V2,$AD2,$AL2,$AT2,$BB2),2)),\"0\")","v":5},354,354,{"$f":"BC2-BE2-BF2","v":10},{"$f":"BD2-BG2-BH2","v":1524}]
["Kring:",null,{"$f":"[1]Instellingen!B3","v":"Kring NVF"},null,null,"Aantal afvaardiging Regio:",{"$nulls":8},5,{"$nulls":39},"Aantal wedstrijden:",{"$nulls":8},{"$f":"[1]Instellingen!B6","v":3}]
["Klasse:",null,"L1",null,null,"Aantal afval resultaten:",{"$nulls":8},{"$f":"[1]Instellingen!B7","v":1}]
["Cat.:",{"$nulls":4},"Plaatsingspunten niet gestart:",{"$nulls":8},{"$f":"[1]Instellingen!B5","v":99},{"$nulls":39},"Aantal reserves:",{"$nulls":8},2]
[{"$nulls":5},"Lokatie:",{"$f":"[1]Instellingen!B36","v":"Hulshorst_Nunspeet"},{"$nulls":7},{"$f":"[1]Instellingen!B37","v":"Vaassen_Wezep"},{"$nulls":7},{"$f":"[1]Instellingen!B38","v":"Dronten_Hierden"},{"$nulls":7},{"$f":"[1]Instellingen!B39","v":0},{"$nulls":7},{"$f":"[1]Instellingen!B40","v":0},{"$nulls":7},{"$f":"[1]Instellingen!B41","v":0},{"$nulls":7},"Dressuur",{"$nulls":5},"Pnt. 60% regel",null,null,180]
[{"$nulls":5},"Datum:",{"$f":"[1]Instellingen!C36","v":"03_04 nov 2023"},{"$nulls":7},{"$f":"[1]Instellingen!C37","v":"01_02 dec 2023"},{"$nulls":7},{"$f":"[1]Instellingen!C38","v":"08_09_15_16 dec 2023"},{"$nulls":7},{"$f":"[1]Instellingen!C39","v":" "},{"$nulls":7},{"$f":"[1]Instellingen!C40","v":" "},{"$nulls":7},{"$f":"[1]Instellingen!C41","v":" "},{"$nulls":7},"Tot.","Tot.","afval","afval","afval","afval","Beste","Beste"]
["Pl.","Comb.nr.","Ruiter/amazone","Paard/pony","kl.","vereniging","Ring","pnt.C","pnt.H","pnt.tot","ex 1","ex 2","pl.","pl.p.","Ring","pnt.C","pnt.H","pnt.tot.","ex 1","ex 2","pl.","pl.p.","Ring","pnt.C","pnt. H","pnt.tot.","ex 1","ex 2","pl.","pl.p.","Ring","pnt.C","pnt.H","pnt.tot.","ex 1","ex 2","pl.","pl.p.","Ring","pnt.C","pnt.H","pnt.tot.","ex 1","ex 2","pl.","pl.p.","Ring","pnt.C","pnt.H","pnt.tot.","ex 1","ex 2","pl.","pl.p.","pl.pnt","punten","pl.pnt","pl.pnt","punten","punten","pl.pnt","punten","Afv.","Res.","Afv. Regio","opmerking"]
[1,"972943OS","Laura Spronk","Olympia Ds","L1","Heuvelruiters, RV.",{"$nulls":3},{"$f":"H9+I9","v":0},{"$nulls":3},99,1,226,0,{"$f":"P9+Q9","v":226},8,8.5,1,1,1,221.5,null,{"$f":"X9+Y9","v":221.5},7.5,8,1,1,{"$nulls":24},{"$f":"N9+V9+AD9+AL9+AT9+BB9","v":101},{"$f":"J9+R9+Z9+AH9+AP9+AX9","v":447.5},{"$f":"IF($O$4>0,(LARGE(($N9,$V9,$AD9,$AL9,$AT9,$BB9),1)),\"0\")","v":99},null,0,0,{"$f":"BC9-BE9-BF9","v":2},{"$f":"BD9-BG9-BH9","v":447.5},1,null,null,"Kringkampioen"]
[2,"987599OB","Wendy Uijt de Boogaardt","Ojay","L1","Hippisch Oosterwolde, RV.",1,208,0,208,7,7,1,1,1,211,0,211,7,7,3,3,{"$nulls":3},0,{"$nulls":3},99,{"$nulls":24},103,419,{"$f":"IF($O$4>0,(LARGE(($N10,$V10,$AD10,$AL10,$AT10,$BB10),1)),\"0\")","v":99},null,0,0,4,419,2]
[3,"984186OS","Laura Spronk","Orlando Ds","L1","Heuvelruiters, RV.",1,184.5,0,184.5,6,6.5,8,8,1,213.5,0,213.5,7.5,7,2,2,1,206.5,null,206.5,7,7,3,3,{"$nulls":24},13,604.5,{"$f":"IF($O$4>0,(LARGE(($N11,$V11,$AD11,$AL11,$AT11,$BB11),1)),\"0\")","v":8},null,184.5,0,5,420,3]
[4,"979731MG","Elise Geschiere","Mon Toto DC","L1","Flevoruiters, RV.",2,183.5,0,183.5,6,6.5,7,7,1,205.5,0,205.5,7,7.5,5,5,1,208.5,null,208.5,7,7,2,2,{"$nulls":24},14,597.5,{"$f":"IF($O$4>0,(LARGE(($N12,$V12,$AD12,$AL12,$AT12,$BB12),1)),\"0\")","v":7},null,183.5,0,7,414,4]
[5,"972741OH","Liesbeth Hop","Oscar GW","L1","Randmeerruiters, RV. De",1,203,0,203,7,7.5,2,2,1,195.5,0,195.5,6,6.5,15,15,1,203.5,null,203.5,7,7,5,5,{"$nulls":24},22,602,{"$f":"IF($O$4>0,(LARGE(($N13,$V13,$AD13,$AL13,$AT13,$BB13),1)),\"0\")","v":15},null,195.5,0,7,406.5,5]
[6,"973703NB","Willeke Den Besten","Nathalie DB","L1","Noord Veluwe, RV. PSV",2,202.5,0,202.5,7,7,1,1,1,198.5,0,198.5,6.5,7,9,9,1,200.5,null,200.5,7,7,6,6,{"$nulls":24},16,601.5,{"$f":"IF($O$4>0,(LARGE(($N14,$V14,$AD14,$AL14,$AT14,$BB14),1)),\"0\")","v":9},null,198.5,0,7,403,null,1]
[7,"945906ML","Anouk Linthorst","Macho DS","L1","WWNA, RV.",2,197,0,197,7,7,2,2,1,204.5,0,204.5,7,7,6,6,1,185,null,185,6.5,6.5,14,14,{"$nulls":24},22,586.5,{"$f":"IF($O$4>0,(LARGE(($N15,$V15,$AD15,$AL15,$AT15,$BB15),1)),\"0\")","v":14},null,185,0,8,401.5,null,2]
[8,"953332MT","Rosalie Tessemaker","Mighty Mike","L1","Horsthoekruiters, RV.",1,191,0,191,6,6.5,6,6,1,198.5,0,198.5,6.5,7,9,9,1,205,null,205,6.5,7,4,4,{"$nulls":24},19,594.5,{"$f":"IF($O$4>0,(LARGE(($N16,$V16,$AD16,$AL16,$AT16,$BB16),1)),\"0\")","v":9},null,198.5,0,10,396]
[9,"973547OK","Lisa Kleijer","Othello","L1","Nunspeetse Ruiterclub, RV.",{"$nulls":3},0,{"$nulls":3},99,1,209,0,209,7,7.5,4,4,1,198.5,null,198.5,7,7,7,7,{"$nulls":24},110,407.5,{"$f":"IF($O$4>0,(LARGE(($N17,$V17,$AD17,$AL17,$AT17,$BB17),1)),\"0\")","v":99},null,0,0,11,407.5]
[10,"875464MS","Lotte de Smet","Mary's Ann","L1","Nunspeetse Ruiterclub, RV.",1,193,0,193,7,7.5,4,4,1,200.5,0,200.5,6.5,7.5,7,7,1,189,null,189,6.5,6.5,10,10,{"$nulls":24},21,582.5,{"$f":"IF($O$4>0,(LARGE(($N18,$V18,$AD18,$AL18,$AT18,$BB18),1)),\"0\")","v":10},null,189,0,11,393.5]
[11,"971388ND","Liset Dezijn","Nice Surprise","L1","Horsthoekruiters, RV.",2,195.5,0,195.5,6.5,7,3,3,1,199,0,199,6.5,7,8,8,1,177.5,null,177.5,5.5,6,21,21,{"$nulls":24},32,572,{"$f":"IF($O$4>0,(LARGE(($N19,$V19,$AD19,$AL19,$AT19,$BB19),1)),\"0\")","v":21},null,177.5,0,11,394.5]
[12,"856202JW","Irene van Straten - Waterweg","Joepie Van Landlust","L1","Nunspeetse Ruiterclub, RV.",2,189.5,0,189.5,6,6.5,4,4,1,190.5,0,190.5,5,7,22,22,1,193.5,null,193.5,6.5,6.5,8,8,{"$nulls":24},34,573.5,{"$f":"IF($O$4>0,(LARGE(($N20,$V20,$AD20,$AL20,$AT20,$BB20),1)),\"0\")","v":22},null,190.5,0,12,383]
[13,"983868LD","Reina Van Duinen","Lexus","L1","Randmeerruiters, RV. De",1,194,0,194,7,7,3,3,{"$nulls":3},0,{"$nulls":3},99,1,187.5,null,187.5,6,6.5,11,11,{"$nulls":24},113,381.5,{"$f":"IF($O$4>0,(LARGE(($N21,$V21,$AD21,$AL21,$AT21,$BB21),1)),\"0\")","v":99},null,0,0,14,381.5]
[14,"973753TB","Diane Beelen","Totalis","L1","Randmeerruiters, RV. De",2,189,0,189,6.5,6.5,5,5,1,197.5,0,197.5,6.5,7,12,12,1,181.5,null,181.5,5.5,6,20,20,{"$nulls":24},37,568,{"$f":"IF($O$4>0,(LARGE(($N22,$V22,$AD22,$AL22,$AT22,$BB22),1)),\"0\")","v":20},null,181.5,0,17,386.5]
[15,"991559NF","Gabrielle Faber","Navy-Star","L1","Schaapskooiruiters, RV. De",{"$nulls":3},0,{"$nulls":3},99,1,196,0,196,7,7,14,14,1,191,null,191,6,6.5,9,9,{"$nulls":24},122,387,{"$f":"IF($O$4>0,(LARGE(($N23,$V23,$AD23,$AL23,$AT23,$BB23),1)),\"0\")","v":99},null,0,0,23,387]
[16,"925110BR","Jo-ann Rosner","Beukenoord's Bonjour","L1","Nunspeetse Ruiterclub, RV.",{"$nulls":3},0,{"$nulls":3},99,1,195.5,0,195.5,6,7,16,16,{"$nulls":3},0,null,null,16,16,{"$nulls":24},131,195.5,{"$f":"IF($O$4>0,(LARGE(($N24,$V24,$AD24,$AL24,$AT24,$BB24),1)),\"0\")","v":99},null,0,0,32,195.5]
[17,"963007DH","Marije Huiskamp","Dansa's Osadansa","L1","Cannenburgh, RV. HV. De",1,175.5,0,175.5,6,6.5,12,12,1,198.5,0,198.5,6,6.5,11,11,1,181.5,null,181.5,6,6.5,19,19,{"$nulls":24},42,555.5,{"$f":"IF($O$4>0,(LARGE(($N25,$V25,$AD25,$AL25,$AT25,$BB25),1)),\"0\")","v":19},null,181.5,0,23,374]
[18,"954818LB","Daisy Bosse","Lewis","L1","Noord Veluwe, RV. PSV",2,185.5,0,185.5,6.5,6.5,6,6,1,194,0,194,6,7,18,18,1,183,null,183,6,6.5,18,18,{"$nulls":24},42,562.5,{"$f":"IF($O$4>0,(LARGE(($N26,$V26,$AD26,$AL26,$AT26,$BB26),1)),\"0\")","v":18},null,183,0,24,379.5]
[19,"988369OH","Tamara Van 't Hof","Olaf","L1","Randmeerruiters, RV. De",1,186.5,0,186.5,6.5,6.5,7,7,1,194.5,0,194.5,6.5,7,17,17,1,175,null,175,5,6,24,24,{"$nulls":24},48,556,{"$f":"IF($O$4>0,(LARGE(($N27,$V27,$AD27,$AL27,$AT27,$BB27),1)),\"0\")","v":24},null,175,0,24,381]
[20,"866080IA","Danielle Akster","Idolieni","L1","Nunspeetse Ruiterclub, RV.",{"$nulls":3},0,{"$nulls":3},99,1,196.5,0,196.5,6.5,7,13,13,1,186,null,186,6,6,13,13,{"$nulls":24},125,382.5,{"$f":"IF($O$4>0,(LARGE(($N28,$V28,$AD28,$AL28,$AT28,$BB28),1)),\"0\")","v":99},null,0,0,26,382.5]
[21,"963463OH","Malou Haverkamp","Onita","L1","Schaapskooiruiters, RV. De",1,176.5,0,176.5,6,6.5,11,11,1,187,0,187,6.5,6.5,24,24,1,185,null,185,6,6,15,15,{"$nulls":24},50,548.5,{"$f":"IF($O$4>0,(LARGE(($N29,$V29,$AD29,$AL29,$AT29,$BB29),1)),\"0\")","v":24},null,187,0,26,361.5]
[22,"960030CO","Demi van 't Oever","Ostergårdens Chiko","L1","Stal Rodeo, RV. RSV.",1,184,0,184,6.5,6.5,9,9,1,192.5,0,192.5,6,7,19,19,1,175.5,null,175.5,5.5,6,22,22,{"$nulls":24},50,552,{"$f":"IF($O$4>0,(LARGE(($N30,$V30,$AD30,$AL30,$AT30,$BB30),1)),\"0\")","v":22},null,175.5,0,28,376.5]
[23,"953277UQ","Eline Quik","Uncle Bob","L1","Hulshorst, RV.",1,177,0,177,6,6.5,10,10,1,190,0,190,6.5,7,23,23,{"$nulls":3},0,{"$nulls":3},99,{"$nulls":24},132,367,{"$f":"IF($O$4>0,(LARGE(($N31,$V31,$AD31,$AL31,$AT31,$BB31),1)),\"0\")","v":99},null,0,0,33,367]
[24,"985112OK","Pascalle De Klerk","Ocean Pk","L1","Cannenburgh, RV. HV. De",1,164,0,164,5,5,16,16,1,191.5,0,191.5,5,7,20,20,1,174.5,null,174.5,5.5,6,25,25,{"$nulls":24},61,530,{"$f":"IF($O$4>0,(LARGE(($N32,$V32,$AD32,$AL32,$AT32,$BB32),1)),\"0\")","v":25},null,174.5,0,36,355.5]
[25,"976291FG","Marlou Grovenstein","Fantastico","L1","Flevoruiters, RV.",2,173,0,173,5,6,12,12,1,181,0,181,6.5,6.5,27,27,1,168,null,168,5,6,28,28,{"$nulls":24},67,522,{"$f":"IF($O$4>0,(LARGE(($N33,$V33,$AD33,$AL33,$AT33,$BB33),1)),\"0\")","v":28},null,168,0,39,354]
[26,"967312MF","Paula Farke","Mister M&M Jr.","L1","Flevoruiters, RV.",1,165.5,0,165.5,6,6,15,15,1,182,0,182,6.5,7,25,25,1,172,null,172,5.5,6,26,26,{"$nulls":24},66,519.5,{"$f":"IF($O$4>0,(LARGE(($N34,$V34,$AD34,$AL34,$AT34,$BB34),1)),\"0\")","v":26},null,172,0,40,347.5]
[27,"977559MB","Nele Beck","Miss Sunshine","L1","Flevoruiters, RV.",{"$nulls":3},0,{"$nulls":3},99,1,179.5,0,179.5,5,6,29,29,1,186,null,186,6,6.5,12,12,{"$nulls":24},140,365.5,{"$f":"IF($O$4>0,(LARGE(($N35,$V35,$AD35,$AL35,$AT35,$BB35),1)),\"0\")","v":99},null,0,0,41,365.5]
[28,"943753GD","Jacqueline Van Drunen","Gurbe van de Randmeerhoeve","L1","Hulshorst, RV.",1,192.5,0,192.5,6.5,6.5,5,5,{"$nulls":3},0,{"$nulls":3},99,{"$nulls":3},0,{"$nulls":3},99,{"$nulls":24},203,192.5,{"$f":"IF($O$4>0,(LARGE(($N36,$V36,$AD36,$AL36,$AT36,$BB36),1)),\"0\")","v":99},null,0,0,104,192.5]
[29,"978257AL","Ellen Lambers","Argona II","L1","Cannenburgh, RV. HV. De",2,181.5,0,181.5,6,6.5,8,8,{"$nulls":3},0,{"$nulls":3},99,{"$nulls":3},0,{"$nulls":3},99,{"$nulls":24},206,181.5,{"$f":"IF($O$4>0,(LARGE(($N37,$V37,$AD37,$AL37,$AT37,$BB37),1)),\"0\")","v":99},null,0,0,107,181.5]
[30,"962358IH","Nienke Hagen","Ivion Van Heemstate","L1","Cannenburgh, PSC. De",1,162,0,162,5,5.5,17,17,1,0,0,0,null,null,30,90,{"$nulls":3},0,{"$nulls":3},99,{"$nulls":24},206,162,{"$f":"IF($O$4>0,(LARGE(($N38,$V38,$AD38,$AL38,$AT38,$BB38),1)),\"0\")","v":99},null,0,0,107,162]
[31,"882046CV","Savannah Veldman","Campsterhoven's Vicharo","L1","Nunspeetse Ruiterclub, RV.",2,181,0,181,6,6.5,9,9,{"$nulls":3},0,{"$nulls":3},99,{"$nulls":3},0,{"$nulls":3},99,{"$nulls":24},207,181,{"$f":"IF($O$4>0,(LARGE(($N39,$V39,$AD39,$AL39,$AT39,$BB39),1)),\"0\")","v":99},null,0,0,108,181]
[32,"987690FF","Anne Faber","FHS Friso T","L1","Hulshorst, RV.",2,175,0,175,6,6,10,10,{"$nulls":3},0,{"$nulls":3},99,{"$nulls":3},0,{"$nulls":3},99,{"$nulls":24},208,175,{"$f":"IF($O$4>0,(LARGE(($N40,$V40,$AD40,$AL40,$AT40,$BB40),1)),\"0\")","v":99},null,0,0,109,175]
[33,"848631HB","Tanja Boeve","Haisha","L1","Epe, RV. HV.",2,174.5,0,174.5,5,6.5,11,11,{"$nulls":3},0,{"$nulls":3},99,{"$nulls":3},0,{"$nulls":3},99,{"$nulls":24},209,174.5,{"$f":"IF($O$4>0,(LARGE(($N41,$V41,$AD41,$AL41,$AT41,$BB41),1)),\"0\")","v":99},null,0,0,110,174.5]
[34,"958614NO","Jolien Van Omme","Naughty Boy of Invictus","L1","Hulshorst, RV.",1,175,0,175,5.5,6.5,13,13,{"$nulls":3},0,{"$nulls":3},99,{"$nulls":3},0,{"$nulls":3},99,{"$nulls":24},211,175,{"$f":"IF($O$4>0,(LARGE(($N42,$V42,$AD42,$AL42,$AT42,$BB42),1)),\"0\")","v":99},null,0,0,112,175]
[35,"962655NB","Naomi Bosmans","Navarro","L1","Nunspeetse Ruiterclub, RV.",1,173.5,0,173.5,6,6,14,14,{"$nulls":3},0,{"$nulls":3},99,{"$nulls":3},0,{"$nulls":3},99,{"$nulls":24},212,173.5,{"$f":"IF($O$4>0,(LARGE(($N43,$V43,$AD43,$AL43,$AT43,$BB43),1)),\"0\")","v":99},null,0,0,113,173.5]
[36,"925110BR","Jo -anne Rosner","Beukenoord's Bonjour",null,"Nunspeetse Ruiterclub, RV.",{"$nulls":3},0,{"$nulls":3},99,{"$nulls":3},0,{"$nulls":3},99,1,183.5,null,183.5,6,6,17,17,{"$nulls":24},215,183.5,{"$f":"IF($O$4>0,(LARGE(($N44,$V44,$AD44,$AL44,$AT44,$BB44),1)),\"0\")","v":99},null,0,0,116,183.5]
[37,"941389CN","Eipie Nagelhout","Cinora","L1","Heuvelruiters, RV.",2,0,0,0,null,null,13,90,1,182,0,182,5,6.5,26,26,{"$nulls":3},0,{"$nulls":3},99,{"$nulls":24},215,182,{"$f":"IF($O$4>0,(LARGE(($N45,$V45,$AD45,$AL45,$AT45,$BB45),1)),\"0\")","v":99},null,0,0,116,182]
[38,"969657GM","Jorja Mensink","Guus Geluk","L1","WWNA, RV.",{"$nulls":3},0,{"$nulls":3},99,1,190.5,0,190.5,6.5,7,21,21,{"$nulls":3},0,{"$nulls":3},99,{"$nulls":24},219,190.5,{"$f":"IF($O$4>0,(LARGE(($N46,$V46,$AD46,$AL46,$AT46,$BB46),1)),\"0\")","v":99},null,0,0,120,190.5]
[39,"873890DB","Mikki Boas","Dairo",null,"Flevoruiters, RV.",{"$nulls":3},0,{"$nulls":3},99,{"$nulls":3},0,{"$nulls":3},99,1,175.5,null,175.5,5,5.5,23,23,{"$nulls":24},221,175.5,{"$f":"IF($O$4>0,(LARGE(($N47,$V47,$AD47,$AL47,$AT47,$BB47),1)),\"0\")","v":99},null,0,0,122,175.5]
[40,"974755SH","Fleur van Haagen","Sterrelijn vd Bentinckhoeve",null,"Flevoruiters, RV.",{"$nulls":3},0,{"$nulls":3},99,{"$nulls":3},0,{"$nulls":3},99,1,171,null,171,6,6,27,27,{"$nulls":24},225,171,{"$f":"IF($O$4>0,(LARGE(($N48,$V48,$AD48,$AL48,$AT48,$BB48),1)),\"0\")","v":99},null,0,0,126,171]
[41,"986704NB","Noa Van Beek","Nouveau - Mere Dcs","L1","Heuvelruiters, RV.",{"$nulls":3},0,{"$nulls":3},99,1,181,0,181,5.5,6,28,28,{"$nulls":3},0,{"$nulls":3},99,{"$nulls":24},226,181,{"$f":"IF($O$4>0,(LARGE(($N49,$V49,$AD49,$AL49,$AT49,$BB49),1)),\"0\")","v":99},null,0,0,127,181]

{"sheet":"L2","index":4,"n_rows":33,"n_cols":66,"rows_kept":33,"merged":[[0,0,0,65],[2,0,2,1],[2,2,2,4],[2,5,2,13],[2,14,2,21],[2,22,4,53],[2,54,2,62],[2,64,6,65],[3,0,3,1],[3,2,3,4],[3,5,3,13],[3,14,3,21],[3,54,3,62],[4,0,4,1],[4,2,4,4],[4,5,4,13],[4,14,4,21],[4,54,4,62],[5,0,6,4],[5,6,5,13],[5,14,5,21],[5,22,5,29],[5,30,5,37],[5,38,5,45],[5,46,5,53],[5,54,5,59],[6,6,6,13],[6,14,6,21],[6,22,6,29],[6,30,6,37],[6,38,6,45],[6,46,6,53]]}
["Selectie uitslagen"]
[null,null,1,{"$f":"FLOOR((C2+3)/4,1)","v":1},{"$nulls":3},192,190,{"$f":"H2+I2","v":382},{"$nulls":3},1,null,193,193,{"$f":"P2+Q2","v":386},{"$nulls":3},2,null,198,198,{"$f":"X2+Y2","v":396},{"$nulls":3},3,null,177,177,{"$f":"AF2+AG2","v":354},{"$nulls":3},4,null,178,178,{"$f":"AN2+AO2","v":356},{"$nulls":3},5,null,179,179,{"$f":"AV2+AW2","v":358},{"$nulls":3},6,{"$f":"N2+V2+AD2+AL2+AT2+BB2","v":21},{"$f":"J2+R2+Z2+AH2+AP2+AX2","v":2232},{"$f":"IF($O$4>0,(LARGE(($N2,$V2,$AD2,$AL2,$AT2,$BB2),1)),\"0\")","v":6},{"$f":"IF($O$4>0,(LARGE(($N2,$V2,$AD2,$AL2,$AT2,$BB2),2)),\"0\")","v":5},354,354,{"$f":"BC2-BE2-BF2","v":10},{"$f":"BD2-BG2-BH2","v":1524}]
["Kring:",null,{"$f":"[1]Instellingen!B3","v":"Kring NVF"},null,null,"Aantal afvaardiging Regio:",{"$nulls":8},4,{"$nulls":39},"Aantal wedstrijden:",{"$nulls":8},{"$f":"[1]Instellingen!B6","v":3}]
["Klasse:",null,"L2",null,null,"Aantal afval resultaten:",{"$nulls":8},{"$f":"[1]Instellingen!B7","v":1}]
["Cat.:",{"$nulls":4},"Plaatsingspunten niet gestart:",{"$nulls":8},{"$f":"[1]Instellingen!B5","v":99},{"$nulls":39},"Aantal reserves:",{"$nulls":8},2]
[{"$nulls":5},"Lokatie:",{"$f":"[1]Instellingen!B36","v":"Hulshorst_Nunspeet"},{"$nulls":7},{"$f":"[1]Instellingen!B37","v":"Vaassen_Wezep"},{"$nulls":7},{"$f":"[1]Instellingen!B38","v":"Dronten_Hierden"},{"$nulls":7},{"$f":"[1]Instellingen!B39","v":0},{"$nulls":7},{"$f":"[1]Instellingen!B40","v":0},{"$nulls":7},{"$f":"[1]Instellingen!B41","v":0},{"$nulls":7},"Dressuur",{"$nulls":5},"Pnt. 60% regel",null,null,180]
[{"$nulls":5},"Datum:",{"$f":"[1]Instellingen!C36","v":"03_04 nov 2023"},{"$nulls":7},{"$f":"[1]Instellingen!C37","v":"01_02 dec 2023"},{"$nulls":7},{"$f":"[1]Instellingen!C38","v":"08_09_15_16 dec 2023"},{"$nulls":7},{"$f":"[1]Instellingen!C39","v":" "},{"$nulls":7},{"$f":"[1]Instellingen!C40","v":" "},{"$nulls":7},{"$f":"[1]Instellingen!C41","v":" "},{"$nulls":7},"Tot.","Tot.","afval","afval","afval","afval","Beste","Beste"]
["Pl.","Comb.nr.","Ruiter/amazone","Paard/pony","kl.","vereniging","Ring","pnt.C","pnt.H","pnt.tot","ex 1","ex 2","pl.","pl.p.","Ring","pnt.C","pnt.H","pnt.tot.","ex 1","ex 2","pl.","pl.p.","Ring","pnt.C","pnt. H","pnt.tot.","ex 1","ex 2","pl.","pl.p.","Ring","pnt.C","pnt.H","pnt.tot.","ex 1","ex 2","pl.","pl.p.","Ring","pnt.C","pnt.H","pnt.tot.","ex 1","ex 2","pl.","pl.p.","Ring","pnt.C","pnt.H","pnt.tot.","ex 1","ex 2","pl.","pl.p.","pl.pnt","punten","pl.pnt","pl.pnt","punten","punten","pl.pnt","punten","Afv.","Res.","Afv. Regio","opmerking"]
[1,"946858NS","Laura Spronk","New Star","L2","Heuvelruiters, RV.",2,207.5,0,{"$f":"H9+I9","v":207.5},7,7,1,1,1,209,0,{"$f":"P9+Q9","v":209},7.5,8,3,3,1,236.5,null,{"$f":"X9+Y9","v":236.5},8,8.5,1,1,{"$nulls":24},{"$f":"N9+V9+AD9+AL9+AT9+BB9","v":5},{"$f":"J9+R9+Z9+AH9+AP9+AX9","v":653},{"$f":"IF($O$4>0,(LARGE(($N9,$V9,$AD9,$AL9,$AT9,$BB9),1)),\"0\")","v":3},null,209,0,{"$f":"BC9-BE9-BF9","v":2},{"$f":"BD9-BG9-BH9","v":444},1,null,null,"Kringkampioen"]
[2,"992809NS","Romy Schaftenaar","NOU NOU","L2","Schaapskooiruiters, RV. De",2,202,0,202,7,7,3,3,1,199.5,0,199.5,7,7,9,9,1,212.5,null,212.5,7.5,7.5,2,2,{"$nulls":24},14,614,{"$f":"IF($O$4>0,(LARGE(($N10,$V10,$AD10,$AL10,$AT10,$BB10),1)),\"0\")","v":9},null,199.5,0,5,414.5,2]
[3,"984443NV","Diana Vinke","Navaro","L2","Nunspeetse Ruiterclub, RV.",2,203,0,203,6.5,6.5,2,2,1,204,0,204,6.5,7,7,7,1,212,null,212,7,7.5,3,3,{"$nulls":24},12,619,{"$f":"IF($O$4>0,(LARGE(($N11,$V11,$AD11,$AL11,$AT11,$BB11),1)),\"0\")","v":7},null,204,0,5,415,3]
[4,"959838NR","Satu Pleijter - Rahikka","Nicolai","L2","Noord Veluwe, RV. PSV",2,199,0,199,6,6.5,4,4,1,212,0,212,8,8,1,1,1,202.5,null,202.5,6.5,7,8,8,{"$nulls":24},13,613.5,{"$f":"IF($O$4>0,(LARGE(($N12,$V12,$AD12,$AL12,$AT12,$BB12),1)),\"0\")","v":8},null,202.5,0,5,411,4]
[5,"971842NV","Arnoud Te Velde","Noud FZ","L2","Oost-Veluwse R.J.V., RV.",2,192.5,0,192.5,6,6.5,7,7,1,210,0,210,8,8,2,2,{"$nulls":3},0,{"$nulls":3},99,{"$nulls":24},108,402.5,{"$f":"IF($O$4>0,(LARGE(($N13,$V13,$AD13,$AL13,$AT13,$BB13),1)),\"0\")","v":99},null,0,0,9,402.5,null,1]
[6,"972903OG","Stefanie De Groot","Odile","L2","Heuvelruiters, RV.",2,182,0,182,5,6,14,14,1,204,0,204,7.5,8,6,6,1,205,null,205,7,7.5,6,6,{"$nulls":24},26,591,{"$f":"IF($O$4>0,(LARGE(($N14,$V14,$AD14,$AL14,$AT14,$BB14),1)),\"0\")","v":14},null,182,0,12,409,null,2]
[7,"992732DS","Romy Schaftenaar","Don Valiente","L2","Schaapskooiruiters, RV. De",2,0,0,0,null,null,21,90,1,204.5,0,204.5,7.5,8,5,5,1,204,null,204,7,7.5,7,7,{"$nulls":24},102,408.5,{"$f":"IF($O$4>0,(LARGE(($N15,$V15,$AD15,$AL15,$AT15,$BB15),1)),\"0\")","v":90},null,0,0,12,408.5]
[8,"992369ZN","Emma Nieuwenhuis","Zilfire K","L2","WWNA, RV.",2,192,0,192,6,6.5,8,8,1,168,0,168,5.5,6,21,21,1,207.5,null,207.5,7,7.5,5,5,{"$nulls":24},34,567.5,{"$f":"IF($O$4>0,(LARGE(($N16,$V16,$AD16,$AL16,$AT16,$BB16),1)),\"0\")","v":21},null,168,0,13,399.5]
[9,"971400LD","Steane Dijkslag","Lurzelma","L2","Schaapskooiruiters, RV. De",2,194.5,0,194.5,6,6.5,6,6,1,201.5,0,201.5,7,7,8,8,1,198.5,null,198.5,6.5,7,10,10,{"$nulls":24},24,594.5,{"$f":"IF($O$4>0,(LARGE(($N17,$V17,$AD17,$AL17,$AT17,$BB17),1)),\"0\")","v":10},null,198.5,0,14,396]
[10,"976686OS","Romy Schaftenaar","On Fire","L2","Schaapskooiruiters, RV. De",{"$nulls":3},0,{"$nulls":3},99,1,206,0,206,8,8,4,4,1,192.5,null,192.5,6,6.5,12,12,{"$nulls":24},115,398.5,{"$f":"IF($O$4>0,(LARGE(($N18,$V18,$AD18,$AL18,$AT18,$BB18),1)),\"0\")","v":99},null,0,0,16,398.5]
[11,"991991CW","Jan pieter Weenink","Customzadels Okeechobee","L2","Heuvelruiters, RV.",2,196,0,196,6.5,6.5,5,5,1,189,0,189,7,7,11,11,1,192,null,192,6,6.5,14,14,{"$nulls":24},30,577,{"$f":"IF($O$4>0,(LARGE(($N19,$V19,$AD19,$AL19,$AT19,$BB19),1)),\"0\")","v":14},null,192,0,16,385]
[12,"968564NS","Ilona Moeken - Souman","Nairobi C","L2","Heuvelruiters, RV.",2,184,0,184,5.5,6,13,13,1,184,0,184,5.5,6.5,15,15,1,208.5,null,208.5,7,7,4,4,{"$nulls":24},32,576.5,{"$f":"IF($O$4>0,(LARGE(($N20,$V20,$AD20,$AL20,$AT20,$BB20),1)),\"0\")","v":15},null,184,0,17,392.5]
[13,"904370LP","Petrice Polinder","Leon","L2","Nunspeetse Ruiterclub, RV.",2,181.5,0,181.5,6,6,15,15,1,192.5,0,192.5,6,7,10,10,1,201.5,null,201.5,6.5,7,9,9,{"$nulls":24},34,575.5,{"$f":"IF($O$4>0,(LARGE(($N21,$V21,$AD21,$AL21,$AT21,$BB21),1)),\"0\")","v":15},null,181.5,0,19,394]
[14,"941663MB","Nicole Broekhuis","Manet D' Orlandaise","L2","Cannenburgh, RV. HV. De",2,189.5,0,189.5,6,6,9,9,1,186.5,0,186.5,6,6.5,14,14,1,195.5,null,195.5,6.5,6.5,11,11,{"$nulls":24},34,571.5,{"$f":"IF($O$4>0,(LARGE(($N22,$V22,$AD22,$AL22,$AT22,$BB22),1)),\"0\")","v":14},null,186.5,0,20,385]
[15,"963547MD","Elisa Driehuis","Miss Magic","L2","WWNA, RV.",2,189.5,0,189.5,6,6,9,9,1,187,0,187,6,6.5,12,12,{"$nulls":3},0,{"$nulls":3},99,{"$nulls":24},120,376.5,{"$f":"IF($O$4>0,(LARGE(($N23,$V23,$AD23,$AL23,$AT23,$BB23),1)),\"0\")","v":99},null,0,0,21,376.5]
[16,"946962NF","Gabrielle Faber","Noblesse","L2","Schaapskooiruiters, RV. De",2,187.5,0,187.5,6,6,11,11,1,187,0,187,6,6,13,13,{"$nulls":3},0,{"$nulls":3},99,{"$nulls":24},123,374.5,{"$f":"IF($O$4>0,(LARGE(($N24,$V24,$AD24,$AL24,$AT24,$BB24),1)),\"0\")","v":99},null,0,0,24,374.5]
[17,"954321NL","Geke Lokhorst","Nova Nazu M.","L2","Noord Veluwe, RV. PSV",2,181.5,0,181.5,6,6,15,15,1,181.5,0,181.5,6.5,6.5,16,16,{"$nulls":3},0,{"$nulls":3},99,{"$nulls":24},130,363,{"$f":"IF($O$4>0,(LARGE(($N25,$V25,$AD25,$AL25,$AT25,$BB25),1)),\"0\")","v":99},null,0,0,31,363]
[18,"866179KB","Annelise Boeve","King Kenzo","L2","Heuvelruiters, RV.",2,186.5,0,186.5,6,6,12,12,1,170.5,0,170.5,6,6,20,20,{"$nulls":3},0,{"$nulls":3},99,{"$nulls":24},131,357,{"$f":"IF($O$4>0,(LARGE(($N26,$V26,$AD26,$AL26,$AT26,$BB26),1)),\"0\")","v":99},null,0,0,32,357]
[19,"924486AI","Amber Van Ittersum","Adolf","L2","Marleruiters, RV.",2,177,0,177,5.5,6,18,18,1,172,0,172,6,6,19,19,{"$nulls":3},0,{"$nulls":3},99,{"$nulls":24},136,349,{"$f":"IF($O$4>0,(LARGE(($N27,$V27,$AD27,$AL27,$AT27,$BB27),1)),\"0\")","v":99},null,0,0,37,349]
[20,"732804EI","Lisanne Van Ittersum","Ezra Joline","L2","Marleruiters, RV.",2,175.5,0,175.5,5.5,6,20,20,1,175,0,175,5.5,6,18,18,{"$nulls":3},0,{"$nulls":3},99,{"$nulls":24},137,350.5,{"$f":"IF($O$4>0,(LARGE(($N28,$V28,$AD28,$AL28,$AT28,$BB28),1)),\"0\")","v":99},null,0,0,38,350.5]
[21,"918384EF","Rosa Foppen","Elena",null,"Flevoruiters, RV.",{"$nulls":3},0,{"$nulls":3},99,{"$nulls":3},0,{"$nulls":3},99,1,192,null,192,6.5,7,13,13,{"$nulls":24},211,192,{"$f":"IF($O$4>0,(LARGE(($N29,$V29,$AD29,$AL29,$AT29,$BB29),1)),\"0\")","v":99},null,0,0,112,192]
[22,"918384EF","Rosa Foppen","Elena","L2","Flevoruiters, RV.",{"$nulls":3},0,{"$nulls":3},99,1,167,0,167,5.5,6,22,22,{"$nulls":3},0,{"$nulls":3},99,{"$nulls":24},220,167,{"$f":"IF($O$4>0,(LARGE(($N30,$V30,$AD30,$AL30,$AT30,$BB30),1)),\"0\")","v":99},null,0,0,121,167]
[23,"954482DK","Suzanne Kroese","Dilana","L2","Noord Veluwe, RV. PSV",2,179.5,0,179.5,6,6,17,17,{"$nulls":3},0,{"$nulls":3},99,{"$nulls":3},0,{"$nulls":3},99,{"$nulls":24},215,179.5,{"$f":"IF($O$4>0,(LARGE(($N31,$V31,$AD31,$AL31,$AT31,$BB31),1)),\"0\")","v":99},null,0,0,116,179.5]
[24,"900939WA","Desiree Agterhuis","Wilana","L2","Marleruiters, RV.",{"$nulls":3},0,{"$nulls":3},99,1,177,0,177,5,6,17,17,{"$nulls":3},0,{"$nulls":3},99,{"$nulls":24},215,177,{"$f":"IF($O$4>0,(LARGE(($N32,$V32,$AD32,$AL32,$AT32,$BB32),1)),\"0\")","v":99},null,0,0,116,177]
[25,"935871FH","Tamara Ten Hove","First Lady","L2","Oost-Veluwse R.J.V., RV.",2,176.5,0,176.5,5,6,19,19,{"$nulls":3},0,{"$nulls":3},99,{"$nulls":3},0,{"$nulls":3},99,{"$nulls":24},217,176.5,{"$f":"IF($O$4>0,(LARGE(($N33,$V33,$AD33,$AL33,$AT33,$BB33),1)),\"0\")","v":99},null,0,0,118,176.5]

{"sheet":"M1","index":5,"n_rows":24,"n_cols":66,"rows_kept":24,"merged":[[0,0,0,65],[2,0,2,1],[2,2,2,4],[2,5,2,13],[2,14,2,21],[2,22,4,53],[2,54,2,62],[2,64,6,65],[3,0,3,1],[3,2,3,4],[3,5,3,13],[3,14,3,21],[3,54,3,62],[4,0,4,1],[4,2,4,4],[4,5,4,13],[4,14,4,21],[4,54,4,62],[5,0,6,4],[5,6,5,13],[5,14,5,21],[5,22,5,29],[5,30,5,37],[5,38,5,45],[5,46,5,53],[5,54,5,59],[6,6,6,13],[6,14,6,21],[6,22,6,29],[6,30,6,37],[6,38,6,45],[6,46,6,53]]}
["Selectie uitslagen"]
[null,null,1,{"$f":"FLOOR((C2+3)/4,1)","v":1},{"$nulls":3},192,190,{"$f":"H2+I2","v":382},{"$nulls":3},1,null,193,193,{"$f":"P2+Q2","v":386},{"$nulls":3},2,null,198,198,{"$f":"X2+Y2","v":396},{"$nulls":3},3,null,177,177,{"$f":"AF2+AG2","v":354},{"$nulls":3},4,null,178,178,{"$f":"AN2+AO2","v":356},{"$nulls":3},5,null,179,179,{"$f":"AV2+AW2","v":358},{"$nulls":3},6,{"$f":"N2+V2+AD2+AL2+AT2+BB2","v":21},{"$f":"J2+R2+Z2+AH2+AP2+AX2","v":2232},{"$f":"IF($O$4>0,(LARGE(($N2,$V2,$AD2,$AL2,$AT2,$BB2),1)),\"0\")","v":6},{"$f":"IF($O$4>0,(LARGE(($N2,$V2,$AD2,$AL2,$AT2,$BB2),2)),\"0\")","v":5},354,354,{"$f":"BC2-BE2-BF2","v":10},{"$f":"BD2-BG2-BH2","v":1524}]
["Kring:",null,{"$f":"Instellingen!B3","v":"Kring NVF"},null,null,"Aantal afvaardiging Regio:",{"$nulls":8},3,{"$nulls":39},"Aantal wedstrijden:",{"$nulls":8},{"$f":"Instellingen!B6","v":3}]
["Klasse:",null,"M1",null,null,"Aantal afval resultaten:",{"$nulls":8},{"$f":"Instellingen!B7","v":1}]
["Cat.:",{"$nulls":4},"Plaatsingspunten niet gestart:",{"$nulls":8},{"$f":"Instellingen!B5","v":99},{"$nulls":39},"Aantal reserves:",{"$nulls":8},2]
[{"$nulls":5},"Lokatie:",{"$f":"Instellingen!B36","v":"Hulshorst_Nunspeet"},{"$nulls":7},{"$f":"Instellingen!B37","v":"Vaassen_Wezep"},{"$nulls":7},{"$f":"Instellingen!B38","v":"Dronten_Hierden"},{"$nulls":7},{"$f":"Instellingen!B39","v":0},{"$nulls":7},{"$f":"Instellingen!B40","v":0},{"$nulls":7},{"$f":"Instellingen!B41","v":0},{"$nulls":7},"Dressuur",{"$nulls":5},"Pnt. 60% regel",null,null,180]
[{"$nulls":5},"Datum:",{"$f":"Instellingen!C36","v":"03_04 nov 2023"},{"$nulls":7},{"$f":"Instellingen!C37","v":"01_02 dec 2023"},{"$nulls":7},{"$f":"Instellingen!C38","v":"08_09_15_16 dec 2023"},{"$nulls":7},{"$f":"Instellingen!C39","v":" "},{"$nulls":7},{"$f":"Instellingen!C40","v":" "},{"$nulls":7},{"$f":"Instellingen!C41","v":" "},{"$nulls":7},"Tot.","Tot.","afval","afval","afval","afval","Beste","Beste"]
["Pl.","Comb.nr.","Ruiter/amazone","Paard/pony","kl.","vereniging","Ring","pnt.C","pnt.H","pnt.tot","ex 1","ex 2","pl.","pl.p.","Ring","pnt.C","pnt.H","pnt.tot.","ex 1","ex 2","pl.","pl.p.","Ring","pnt.C","pnt. H","pnt.tot.","ex 1","ex 2","pl.","pl.p.","Ring","pnt.C","pnt.H","pnt.tot.","ex 1","ex 2","pl.","pl.p.","Ring","pnt.C","pnt.H","pnt.tot.","ex 1","ex 2","pl.","pl.p.","Ring","pnt.C","pnt.H","pnt.tot.","ex 1","ex 2","pl.","pl.p.","pl.pnt","punten","pl.pnt","pl.pnt","punten","punten","pl.pnt","punten","Afv.","Res.","Afv. Regio","opmerking"]
[1,"990847NV","Carlijn Vaessen","Nexter Carlos O","M1","Heuvelruiters, RV.",null,211.5,0,{"$f":"H9+I9","v":211.5},7,7,2,2,null,227,0,{"$f":"P9+Q9","v":227},8,8.5,1,1,1,207,null,{"$f":"X9+Y9","v":207},7,7,1,1,{"$nulls":24},{"$f":"N9+V9+AD9+AL9+AT9+BB9","v":4},{"$f":"J9+R9+Z9+AH9+AP9+AX9","v":645.5},{"$f":"IF($O$4>0,(LARGE(($N9,$V9,$AD9,$AL9,$AT9,$BB9),1)),\"0\")","v":2},null,211.5,0,{"$f":"BC9-BE9-BF9","v":2},{"$f":"BD9-BG9-BH9","v":434},1,null,null,"Kringkampioen"]
[2,"986959NP","Kimberly Pap","Nyatrichta","M1","Nunspeetse Ruiterclub, RV.",null,214.5,0,214.5,7,7.5,1,1,{"$nulls":3},0,{"$nulls":3},99,1,207,null,207,7,7,1,1,{"$nulls":24},101,421.5,{"$f":"IF($O$4>0,(LARGE(($N10,$V10,$AD10,$AL10,$AT10,$BB10),1)),\"0\")","v":99},null,0,0,2,421.5,null,null,"nee","lichte tour"]
[3,"978454CP","Kimberly Pap","Custom Zadels Nespresso","M1","Nunspeetse Ruiterclub, RV.",null,206.5,0,206.5,6.5,7,3,3,{"$nulls":3},0,{"$nulls":3},99,1,206,null,206,7,7,3,3,{"$nulls":24},105,412.5,{"$f":"IF($O$4>0,(LARGE(($N11,$V11,$AD11,$AL11,$AT11,$BB11),1)),\"0\")","v":99},null,0,0,6,412.5,null,null,"nee","lichte tour"]
[4,"991317FV","Diana Vinke","Kimberly","M1","Nunspeetse Ruiterclub, RV.",null,206.5,0,206.5,6.5,7,3,3,null,201.5,0,201.5,7,7,3,3,{"$nulls":3},0,{"$nulls":3},99,{"$nulls":24},105,408,{"$f":"IF($O$4>0,(LARGE(($N12,$V12,$AD12,$AL12,$AT12,$BB12),1)),\"0\")","v":99},null,0,0,6,408,2]
[5,"970931NU","Marieta Doornwaard - Uitslag","Nadiesch","M1","Heuvelruiters, RV.",null,200.5,0,200.5,6.5,7,5,5,null,195.5,0,195.5,6.5,6.5,4,4,1,203,null,203,7,7,4,4,{"$nulls":24},13,599,{"$f":"IF($O$4>0,(LARGE(($N13,$V13,$AD13,$AL13,$AT13,$BB13),1)),\"0\")","v":5},null,200.5,0,8,398.5,3]
[6,"928668MB","Dianne Den Besten","Michigan DB","M1","Noord Veluwe, RV. PSV",null,194,0,194,6.5,6.5,8,8,null,202,0,202,7,7,2,2,1,195,null,195,7,7,6,6,{"$nulls":24},16,591,{"$f":"IF($O$4>0,(LARGE(($N14,$V14,$AD14,$AL14,$AT14,$BB14),1)),\"0\")","v":8},null,194,0,8,397,null,1]
[7,"981651MK","Anne Klein","Ma Bel La","M1","Heuvelruiters, RV.",{"$nulls":3},0,{"$nulls":3},99,null,185.5,0,185.5,6.5,6.5,5,5,1,190,null,190,6,7,7,7,{"$nulls":24},111,375.5,{"$f":"IF($O$4>0,(LARGE(($N15,$V15,$AD15,$AL15,$AT15,$BB15),1)),\"0\")","v":99},null,0,0,12,375.5,null,2]
[8,"989495NB","Wiebeke Frens - Brummer","Notorious Nolan IWF","M1","Nunspeetse Ruiterclub, RV.",null,198,0,198,6.5,7,7,7,null,185,0,185,6.5,6.5,6,6,1,186,null,186,7,6,9,9,{"$nulls":24},22,569,{"$f":"IF($O$4>0,(LARGE(($N16,$V16,$AD16,$AL16,$AT16,$BB16),1)),\"0\")","v":9},null,186,0,13,383]
[9,"944705HH","Tinette Holzscherer","Hauke van de Randmeerhoeve","M1","Hulshorst, RV.",null,193,0,193,6.5,7,9,9,{"$nulls":3},0,{"$nulls":3},99,1,199,null,199,6,7,5,5,{"$nulls":24},113,392,{"$f":"IF($O$4>0,(LARGE(($N17,$V17,$AD17,$AL17,$AT17,$BB17),1)),\"0\")","v":99},null,0,0,14,392]
[10,"909770LS","Helga Schuurman","Lamborghini Jb","M1","Noord Veluwe, RV. PSV",null,199,0,199,6.5,7,6,6,null,179.5,0,179.5,6,6.5,8,8,1,189,null,189,7,6,8,8,{"$nulls":24},22,567.5,{"$f":"IF($O$4>0,(LARGE(($N18,$V18,$AD18,$AL18,$AT18,$BB18),1)),\"0\")","v":8},null,179.5,0,14,388]
[11,"965850FW","Babet Westerink","Falstan","M1","Flevoruiters, RV.",null,173.5,0,173.5,6.5,5.5,13,13,null,184.5,0,184.5,6.5,6.5,7,7,1,180,null,180,6,6,11,11,{"$nulls":24},31,538,{"$f":"IF($O$4>0,(LARGE(($N19,$V19,$AD19,$AL19,$AT19,$BB19),1)),\"0\")","v":13},null,173.5,0,18,364.5]
[12,"920219FG","Sabiene Goudriaan","Flamenco","M1","Oost-Veluwse R.J.V., RV.",null,187.5,0,187.5,6.5,6.5,10,10,null,179,0,179,5,6,9,9,1,185,null,185,5,6,10,10,{"$nulls":24},29,551.5,{"$f":"IF($O$4>0,(LARGE(($N20,$V20,$AD20,$AL20,$AT20,$BB20),1)),\"0\")","v":10},null,185,0,19,366.5]
[13,"895679MT","Irsa van der Tuin","Magic Dream","M1","Oost-Veluwse R.J.V., RV.",null,174,0,174,5,6,12,12,null,162.5,0,162.5,5.5,6,10,10,{"$nulls":3},0,{"$nulls":3},99,{"$nulls":24},121,336.5,{"$f":"IF($O$4>0,(LARGE(($N21,$V21,$AD21,$AL21,$AT21,$BB21),1)),\"0\")","v":99},null,0,0,22,336.5]
[14,"822777HN","Aaltje Neijmeijer","Highlight m","M1","Nunspeetse Ruiterclub, RV.",null,181.5,0,181.5,5.5,6,11,11,{"$nulls":3},0,{"$nulls":3},99,{"$nulls":3},0,{"$nulls":3},99,{"$nulls":24},209,181.5,{"$f":"IF($O$4>0,(LARGE(($N22,$V22,$AD22,$AL22,$AT22,$BB22),1)),\"0\")","v":99},null,0,0,110,181.5]
[15,"986835LK","Mandy Koops","L'Expression","M1","Hippisch Oosterwolde, RV.",null,159.5,0,159.5,5,5.5,14,14,{"$nulls":3},0,{"$nulls":3},99,{"$nulls":3},0,{"$nulls":3},99,{"$nulls":24},212,159.5,{"$f":"IF($O$4>0,(LARGE(($N23,$V23,$AD23,$AL23,$AT23,$BB23),1)),\"0\")","v":99},null,0,0,113,159.5]
[16,"888868BM","Yvette Mijnheer","Brechtje Van 't Klaphek","M1","Nunspeetse Ruiterclub, RV.",null,158.5,0,158.5,6,5,15,15,{"$nulls":3},0,{"$nulls":3},99,{"$nulls":3},0,{"$nulls":3},99,{"$nulls":24},213,158.5,{"$f":"IF($O$4>0,(LARGE(($N24,$V24,$AD24,$AL24,$AT24,$BB24),1)),\"0\")","v":99},null,0,0,114,158.5]

{"sheet":"M2","index":6,"n_rows":28,"n_cols":66,"rows_kept":28,"merged":[[0,0,0,65],[2,0,2,1],[2,2,2,4],[2,5,2,13],[2,14,2,21],[2,22,4,53],[2,54,2,62],[2,64,6,65],[3,0,3,1],[3,2,3,4],[3,5,3,13],[3,14,3,21],[3,54,3,62],[4,0,4,1],[4,2,4,4],[4,5,4,13],[4,14,4,21],[4,54,4,62],[5,0,6,4],[5,6,5,13],[5,14,5,21],[5,22,5,29],[5,30,5,37],[5,38,5,45],[5,46,5,53],[5,54,5,59],[6,6,6,13],[6,14,6,21],[6,22,6,29],[6,30,6,37],[6,38,6,45],[6,46,6,53]]}
["Selectie uitslagen"]
[null,null,1,{"$f":"FLOOR((C2+3)/4,1)","v":1},{"$nulls":3},192,190,{"$f":"H2+I2","v":382},{"$nulls":3},1,null,193,193,{"$f":"P2+Q2","v":386},{"$nulls":3},2,null,198,198,{"$f":"X2+Y2","v":396},{"$nulls":3},3,null,177,177,{"$f":"AF2+AG2","v":354},{"$nulls":3},4,null,178,178,{"$f":"AN2+AO2","v":356},{"$nulls":3},5,null,179,179,{"$f":"AV2+AW2","v":358},{"$nulls":3},6,{"$f":"N2+V2+AD2+AL2+AT2+BB2","v":21},{"$f":"J2+R2+Z2+AH2+AP2+AX2","v":2232},{"$f":"IF($O$4>0,(LARGE(($N2,$V2,$AD2,$AL2,$AT2,$BB2),1)),\"0\")","v":6},{"$f":"IF($O$4>0,(LARGE(($N2,$V2,$AD2,$AL2,$AT2,$BB2),2)),\"0\")","v":5},354,354,{"$f":"BC2-BE2-BF2","v":10},{"$f":"BD2-BG2-BH2","v":1524}]
["Kring:",null,{"$f":"Instellingen!B3","v":"Kring NVF"},null,null,"Aantal afvaardiging Regio:",{"$nulls":8},6,{"$nulls":39},"Aantal wedstrijden:",{"$nulls":8},{"$f":"Instellingen!B6","v":3}]
["Klasse:",null,"M2",null,null,"Aantal afval resultaten:",{"$nulls":8},{"$f":"Instellingen!B7","v":1}]
["Cat.:",{"$nulls":4},"Plaatsingspunten niet gestart:",{"$nulls":8},{"$f":"Instellingen!B5","v":99},{"$nulls":39},"Aantal reserves:",{"$nulls":8},2]
[{"$nulls":5},"Lokatie:",{"$f":"Instellingen!B36","v":"Hulshorst_Nunspeet"},{"$nulls":7},{"$f":"Instellingen!B37","v":"Vaassen_Wezep"},{"$nulls":7},{"$f":"Instellingen!B38","v":"Dronten_Hierden"},{"$nulls":7},{"$f":"Instellingen!B39","v":0},{"$nulls":7},{"$f":"Instellingen!B40","v":0},{"$nulls":7},{"$f":"Instellingen!B41","v":0},{"$nulls":7},"Dressuur",{"$nulls":5},"Pnt. 60% regel",null,null,180]
[{"$nulls":5},"Datum:",{"$f":"Instellingen!C36","v":"03_04 nov 2023"},{"$nulls":7},{"$f":"Instellingen!C37","v":"01_02 dec 2023"},{"$nulls":7},{"$f":"Instellingen!C38","v":"08_09_15_16 dec 2023"},{"$nulls":7},{"$f":"Instellingen!C39","v":" "},{"$nulls":7},{"$f":"Instellingen!C40","v":" "},{"$nulls":7},{"$f":"Instellingen!C41","v":" "},{"$nulls":7},"Tot.","Tot.","afval","afval","afval","afval","Beste","Beste"]
["Pl.","Comb.nr.","Ruiter/amazone","Paard/pony","kl.","vereniging","Ring","pnt.C","pnt.H","pnt.tot","ex 1","ex 2","pl.","pl.p.","Ring","pnt.C","pnt.H","pnt.tot.","ex 1","ex 2","pl.","pl.p.","Ring","pnt.C","pnt. H","pnt.tot.","ex 1","ex 2","pl.","pl.p.","Ring","pnt.C","pnt.H","pnt.tot.","ex 1","ex 2","pl.","pl.p.","Ring","pnt.C","pnt.H","pnt.tot.","ex 1","ex 2","pl.","pl.p.","Ring","pnt.C","pnt.H","pnt.tot.","ex 1","ex 2","pl.","pl.p.","pl.pnt","punten","pl.pnt","pl.pnt","punten","punten","pl.pnt","punten","Afv.","Res.","Afv. Regio","opmerking"]
[1,"959143CB","Robin Blok","Customzadels Lausanne","M2","Heuvelruiters, RV.",null,196,0,{"$f":"H9+I9","v":196},6.5,6.5,5,5,null,197,0,{"$f":"P9+Q9","v":197},7,7.5,1,1,1,208,null,{"$f":"X9+Y9","v":208},7,7,1,1,{"$nulls":24},{"$f":"N9+V9+AD9+AL9+AT9+BB9","v":7},{"$f":"J9+R9+Z9+AH9+AP9+AX9","v":601},{"$f":"IF($O$4>0,(LARGE(($N9,$V9,$AD9,$AL9,$AT9,$BB9),1)),\"0\")","v":5},null,196,0,{"$f":"BC9-BE9-BF9","v":2},{"$f":"BD9-BG9-BH9","v":405},1,null,null,"Kringkampioen"]
[2,"962881MF","Suzanne Feberwee","Morgenster Norel","M2","WWNA, RV.",null,185.5,0,185.5,6.5,6.5,13,13,null,195.5,0,195.5,6.5,7,2,2,1,196,null,196,7,7,3,3,{"$nulls":24},18,577,{"$f":"IF($O$4>0,(LARGE(($N10,$V10,$AD10,$AL10,$AT10,$BB10),1)),\"0\")","v":13},null,185.5,0,5,391.5,2]
[3,"946899NH","Alexandra Hayes","Noblesse Fortuna","M2","Oost-Veluwse R.J.V., RV.",null,199.5,0,199.5,6.5,7,3,3,null,176,0,176,5.5,6.5,12,12,1,196,null,196,7,7,3,3,{"$nulls":24},18,571.5,{"$f":"IF($O$4>0,(LARGE(($N11,$V11,$AD11,$AL11,$AT11,$BB11),1)),\"0\")","v":12},null,176,0,6,395.5,3]
[4,"888687KH","Angela Hooghordel","Kryptonite","M2","Nunspeetse Ruiterclub, RV.",null,201,0,201,6.5,7,1,1,null,187,0,187,6.5,6.5,8,8,1,191,null,191,7,7,6,6,{"$nulls":24},15,579,{"$f":"IF($O$4>0,(LARGE(($N12,$V12,$AD12,$AL12,$AT12,$BB12),1)),\"0\")","v":8},null,187,0,7,392,4]
[5,"874868JT","Rosalie Tessemaker","Jana-L","M2","Horsthoekruiters, RV.",null,200,0,200,6.5,7,2,2,null,189.5,0,189.5,6,6.5,6,6,1,191,null,191,7,7,6,6,{"$nulls":24},14,580.5,{"$f":"IF($O$4>0,(LARGE(($N13,$V13,$AD13,$AL13,$AT13,$BB13),1)),\"0\")","v":6},null,189.5,0,8,391,5]
[6,"926598MG","Elise Geschiere","Mydrea V/D Sfeerhoeve","M2","Flevoruiters, RV.",null,190,0,190,6,6.5,10,10,null,185,0,185,6.5,6.5,9,9,1,202,null,202,7,7,2,2,{"$nulls":24},21,577,{"$f":"IF($O$4>0,(LARGE(($N14,$V14,$AD14,$AL14,$AT14,$BB14),1)),\"0\")","v":10},null,190,0,11,387,6]
[7,"955913NJ","Laura Jansen","New Star","M2","Nunspeetse Ruiterclub, RV.",null,193.5,0,193.5,7,7,7,7,null,184.5,0,184.5,6,6.5,10,10,1,195,null,195,7,7,5,5,{"$nulls":24},22,573,{"$f":"IF($O$4>0,(LARGE(($N15,$V15,$AD15,$AL15,$AT15,$BB15),1)),\"0\")","v":10},null,184.5,0,12,388.5,null,1]
[8,"938825NV","Julia Vrolijken","Nashville SC","M2","Nunspeetse Ruiterclub, RV.",null,191.5,0,191.5,6.5,6.5,9,9,null,190,0,190,6.5,7,3,3,1,174,null,174,6,6,11,11,{"$nulls":24},23,555.5,{"$f":"IF($O$4>0,(LARGE(($N16,$V16,$AD16,$AL16,$AT16,$BB16),1)),\"0\")","v":11},null,174,0,12,381.5,null,2]
[9,"924475LK","Annemieke Kool","Lincoln","M2","Heuvelruiters, RV.",{"$nulls":3},0,{"$nulls":3},99,null,189.5,0,189.5,6,7,5,5,1,186,null,186,7,7,8,8,{"$nulls":24},112,375.5,{"$f":"IF($O$4>0,(LARGE(($N17,$V17,$AD17,$AL17,$AT17,$BB17),1)),\"0\")","v":99},null,0,0,13,375.5]
[10,"968370JO","Denise den Ouden","Jupiler","M2","Nunspeetse Ruiterclub, RV.",null,195,0,195,6.5,6.5,6,6,null,188.5,0,188.5,6.5,7,7,7,1,185,null,185,6,6,9,9,{"$nulls":24},22,568.5,{"$f":"IF($O$4>0,(LARGE(($N18,$V18,$AD18,$AL18,$AT18,$BB18),1)),\"0\")","v":9},null,185,0,13,383.5]
[11,"977655GV","Helma Franken - Vromen","Gruyters medley","M2","Nunspeetse Ruiterclub, RV.",null,197.5,0,197.5,7,7.5,4,4,null,179.5,0,179.5,6,6.5,11,11,1,172,null,172,6,7,12,12,{"$nulls":24},27,549,{"$f":"IF($O$4>0,(LARGE(($N19,$V19,$AD19,$AL19,$AT19,$BB19),1)),\"0\")","v":12},null,172,0,15,377]
[12,"932416MB","Marleen Bronsink","Dansa's Modansa","M2","Heuvelruiters, RV.",null,167,0,167,6,6,18,18,null,189.5,0,189.5,6.5,7,4,4,1,162,null,162,4,4,14,14,{"$nulls":24},36,518.5,{"$f":"IF($O$4>0,(LARGE(($N20,$V20,$AD20,$AL20,$AT20,$BB20),1)),\"0\")","v":18},null,167,0,18,351.5]
[13,"932227LK","Susanne Kogelman","Dansa's La Dansa","M2","Heuvelruiters, RV.",null,181.5,0,181.5,6,6.5,15,15,null,168,0,168,5.5,6,15,15,1,181,null,181,7,6,10,10,{"$nulls":24},40,530.5,{"$f":"IF($O$4>0,(LARGE(($N21,$V21,$AD21,$AL21,$AT21,$BB21),1)),\"0\")","v":15},null,168,0,25,362.5]
[14,"818386EK","Miriam Kaal","Earlyways","M2","Oost-Veluwse R.J.V., RV.",null,186.5,0,186.5,6,6.5,12,12,null,176,0,176,5.5,6,13,13,1,166,null,166,6,6,13,13,{"$nulls":24},38,528.5,{"$f":"IF($O$4>0,(LARGE(($N22,$V22,$AD22,$AL22,$AT22,$BB22),1)),\"0\")","v":13},null,166,0,25,362.5]
[15,"919958MG","Rosan Van de Goor","Massaro","M2","Heuvelruiters, RV.",null,188.5,0,188.5,7,7,11,11,null,173.5,0,173.5,6,6.5,14,14,{"$nulls":3},0,{"$nulls":3},99,{"$nulls":24},124,362,{"$f":"IF($O$4>0,(LARGE(($N23,$V23,$AD23,$AL23,$AT23,$BB23),1)),\"0\")","v":99},null,0,0,25,362]
[16,"921846LC","Hetty De Weerdt - Colijn","Let'S Dance Str","M2","Schaapskooiruiters, RV. De",null,172,0,172,6,6,17,17,null,165,0,165,6,6,16,16,{"$nulls":3},0,{"$nulls":3},99,{"$nulls":24},132,337,{"$f":"IF($O$4>0,(LARGE(($N24,$V24,$AD24,$AL24,$AT24,$BB24),1)),\"0\")","v":99},null,0,0,33,337]
[17,"825859HP","Sanne Platte","Hopes and Fears","M2","Nunspeetse Ruiterclub, RV.",null,193,0,193,6.5,7,8,8,{"$nulls":3},0,{"$nulls":3},99,{"$nulls":3},0,{"$nulls":3},99,{"$nulls":24},206,193,{"$f":"IF($O$4>0,(LARGE(($N25,$V25,$AD25,$AL25,$AT25,$BB25),1)),\"0\")","v":99},null,0,0,107,193]
[18,"713295AD","Aliene Van Dijk","Armani uit Tonsel","M2","Stal Rodeo, RV. RSV.",null,183.5,0,183.5,6.5,7,14,14,{"$nulls":3},0,{"$nulls":3},99,{"$nulls":3},0,{"$nulls":3},99,{"$nulls":24},212,183.5,{"$f":"IF($O$4>0,(LARGE(($N26,$V26,$AD26,$AL26,$AT26,$BB26),1)),\"0\")","v":99},null,0,0,113,183.5]
[19,"853873GN","Ilse van der Niet","Gentleman van de vingerling","M2","Randmeerruiters, RV. De",null,181,0,181,6.5,7,16,16,{"$nulls":3},0,{"$nulls":3},99,{"$nulls":3},0,{"$nulls":3},99,{"$nulls":24},214,181,{"$f":"IF($O$4>0,(LARGE(($N27,$V27,$AD27,$AL27,$AT27,$BB27),1)),\"0\")","v":99},null,0,0,115,181]
[20,"672235DP","Tamara Ploeg","Doneur","M2","Oost-Veluwse R.J.V., RV.",null,0,0,0,null,null,19,90,{"$nulls":3},0,{"$nulls":3},99,{"$nulls":3},0,{"$nulls":3},99,{"$nulls":24},288,0,{"$f":"IF($O$4>0,(LARGE(($N28,$V28,$AD28,$AL28,$AT28,$BB28),1)),\"0\")","v":99},null,0,0,189,0]

{"sheet":"M1 - M2","index":7,"n_rows":8,"n_cols":66,"rows_kept":8,"hidden":true,"merged":[[0,0,0,65],[2,0,2,1],[2,2,2,4],[2,5,2,13],[2,14,2,21],[2,22,4,53],[2,54,2,62],[2,65,6,65],[3,0,3,1],[3,2,3,4],[3,5,3,13],[3,14,3,21],[3,54,3,62],[4,0,4,1],[4,2,4,4],[4,5,4,13],[4,14,4,21],[4,54,4,62],[5,0,6,4],[5,6,5,13],[5,14,5,21],[5,22,5,29],[5,30,5,37],[5,38,5,45],[5,46,5,53],[5,54,5,59],[6,6,6,13],[6,14,6,21],[6,22,6,29],[6,30,6,37],[6,38,6,45],[6,46,6,53]]}
["Selectie uitslagen"]
[null,null,1,{"$f":"FLOOR((C2+3)/4,1)","v":1},null,null,192,192,190,{"$f":"H2+I2","v":382},{"$nulls":3},1,193,193,193,{"$f":"P2+Q2","v":386},{"$nulls":3},2,198,198,198,{"$f":"X2+Y2","v":396},{"$nulls":3},3,177,177,177,{"$f":"AF2+AG2","v":354},{"$nulls":3},4,178,178,178,{"$f":"AN2+AO2","v":356},{"$nulls":3},5,179,179,179,{"$f":"AV2+AW2","v":358},{"$nulls":3},6,{"$f":"N2+V2+AD2+AL2+AT2+BB2","v":21},{"$f":"J2+R2+Z2+AH2+AP2+AX2","v":2232},{"$f":"IF($O$4>0,(LARGE(($N2,$V2,$AD2,$AL2,$AT2,$BB2),1)),\"0\")","v":6},{"$f":"IF($O$4>0,(LARGE(($N2,$V2,$AD2,$AL2,$AT2,$BB2),2)),\"0\")","v":5},354,354,{"$f":"BC2-BE2-BF2","v":10},{"$f":"BD2-BG2-BH2","v":1524}]
["Kring:",null,{"$f":"Instellingen!B3","v":"Kring NVF"},{"$nulls":51},"Aantal wedstrijden:",{"$nulls":8},{"$f":"Instellingen!B6","v":3}]
["Klasse:",null,"M1 - M2",null,null,"Aantal afval resultaten:",{"$nulls":8},{"$f":"Instellingen!B7","v":1}]
["Cat.:",{"$nulls":4},"Plaatsingspunten niet gestart:",{"$nulls":8},{"$f":"Instellingen!B5","v":99}]
[{"$nulls":5},"Lokatie:",{"$f":"Instellingen!B36","v":"Hulshorst_Nunspeet"},{"$nulls":7},{"$f":"Instellingen!B37","v":"Vaassen_Wezep"},{"$nulls":7},{"$f":"Instellingen!B38","v":"Dronten_Hierden"},{"$nulls":7},{"$f":"Instellingen!B39","v":0},{"$nulls":7},{"$f":"Instellingen!B40","v":0},{"$nulls":7},{"$f":"Instellingen!B41","v":0},{"$nulls":7},"Dressuur"]
[{"$nulls":5},"Datum:",{"$f":"Instellingen!C36","v":"03_04 nov 2023"},{"$nulls":7},{"$f":"Instellingen!C37","v":"01_02 dec 2023"},{"$nulls":7},{"$f":"Instellingen!C38","v":"08_09_15_16 dec 2023"},{"$nulls":7},{"$f":"Instellingen!C39","v":" "},{"$nulls":7},{"$f":"Instellingen!C40","v":" "},{"$nulls":7},{"$f":"Instellingen!C41","v":" "},{"$nulls":7},"Tot.","Tot.","afval","afval","afval","afval","Beste","Beste"]
["Pl.","Comb.nr.","Ruiter/amazone","Paard/pony","kl.","vereniging","Ring","pnt.C","pnt.H","pnt.tot","ex 1","ex 2","pl.","pl.p.","Ring","pnt.C","pnt.H","pnt.tot.","ex 1","ex 2","pl.","pl.p.","Ring","pnt.C","pnt. H","pnt.tot.","ex 1","ex 2","pl.","pl.p.","Ring","pnt.C","pnt.H","pnt.tot.","ex 1","ex 2","pl.","pl.p.","Ring","pnt.C","pnt.H","pnt.tot.","ex 1","ex 2","pl.","pl.p.","Ring","pnt.C","pnt.H","pnt.tot.","ex 1","ex 2","pl.","pl.p.","pl.pnt","punten","pl.pnt","pl.pnt","punten","punten","pl.pnt","punten","Afv.","Res.",null,"opmerking"]

{"sheet":"Z1","index":8,"n_rows":28,"n_cols":66,"rows_kept":28,"merged":[[0,0,0,65],[2,0,2,1],[2,2,2,4],[2,5,2,13],[2,14,2,21],[2,22,4,53],[2,54,2,62],[2,64,6,65],[3,0,3,1],[3,2,3,4],[3,5,3,13],[3,14,3,21],[3,54,3,62],[4,0,4,1],[4,2,4,4],[4,5,4,13],[4,14,4,21],[4,54,4,62],[5,0,6,4],[5,6,5,13],[5,14,5,21],[5,22,5,29],[5,30,5,37],[5,38,5,45],[5,46,5,53],[5,54,5,59],[6,6,6,13],[6,14,6,21],[6,22,6,29],[6,30,6,37],[6,38,6,45],[6,46,6,53]]}
["Selectie uitslagen"]
[null,null,1,{"$f":"FLOOR((C2+3)/4,1)","v":1},{"$nulls":3},192,190,{"$f":"H2+I2","v":382},{"$nulls":3},1,null,193,193,{"$f":"P2+Q2","v":386},{"$nulls":3},2,null,198,198,{"$f":"X2+Y2","v":396},{"$nulls":3},3,null,177,177,{"$f":"AF2+AG2","v":354},{"$nulls":3},4,null,178,178,{"$f":"AN2+AO2","v":356},{"$nulls":3},5,null,179,179,{"$f":"AV2+AW2","v":358},{"$nulls":3},6,{"$f":"N2+V2+AD2+AL2+AT2+BB2","v":21},{"$f":"J2+R2+Z2+AH2+AP2+AX2","v":2232},{"$f":"IF($O$4>0,(LARGE(($N2,$V2,$AD2,$AL2,$AT2,$BB2),1)),\"0\")","v":6},{"$f":"IF($O$4>0,(LARGE(($N2,$V2,$AD2,$AL2,$AT2,$BB2),2)),\"0\")","v":5},354,354,{"$f":"BC2-BE2-BF2","v":10},{"$f":"BD2-BG2-BH2","v":1524}]
["Kring:",null,{"$f":"Instellingen!B3","v":"Kring NVF"},null,null,"Aantal afvaardiging Regio:",{"$nulls":8},5,{"$nulls":39},"Aantal wedstrijden:",{"$nulls":8},{"$f":"Instellingen!B6","v":3}]
["Klasse:",null,"Z1",null,null,"Aantal afval resultaten:",{"$nulls":8},{"$f":"Instellingen!B7","v":1}]
["Cat.:",{"$nulls":4},"Plaatsingspunten niet gestart:",{"$nulls":8},{"$f":"Instellingen!B5","v":99},{"$nulls":39},"Aantal reserves:",{"$nulls":8},2]
[{"$nulls":5},"Lokatie:",{"$f":"Instellingen!B36","v":"Hulshorst_Nunspeet"},{"$nulls":7},{"$f":"Instellingen!B37","v":"Vaassen_Wezep"},{"$nulls":7},{"$f":"Instellingen!B38","v":"Dronten_Hierden"},{"$nulls":7},{"$f":"Instellingen!B39","v":0},{"$nulls":7},{"$f":"Instellingen!B40","v":0},{"$nulls":7},{"$f":"Instellingen!B41","v":0},{"$nulls":7},"Dressuur",{"$nulls":5},"Pnt. 60% regel",null,null,210]
[{"$nulls":5},"Datum:",{"$f":"Instellingen!C36","v":"03_04 nov 2023"},{"$nulls":7},{"$f":"Instellingen!C37","v":"01_02 dec 2023"},{"$nulls":7},{"$f":"Instellingen!C38","v":"08_09_15_16 dec 2023"},{"$nulls":7},{"$f":"Instellingen!C39","v":" "},{"$nulls":7},{"$f":"Instellingen!C40","v":" "},{"$nulls":7},{"$f":"Instellingen!C41","v":" "},{"$nulls":7},"Tot.","Tot.","afval","afval","afval","afval","Beste","Beste"]
["Pl.","Comb.nr.","Ruiter/amazone","Paard/pony","kl.","vereniging","Ring","pnt.C","pnt.H","pnt.tot","ex 1","ex 2","pl.","pl.p.","Ring","pnt.C","pnt.H","pnt.tot.","ex 1","ex 2","pl.","pl.p.","Ring","pnt.C","pnt. H","pnt.tot.","ex 1","ex 2","pl.","pl.p.","Ring","pnt.C","pnt.H","pnt.tot.","ex 1","ex 2","pl.","pl.p.","Ring","pnt.C","pnt.H","pnt.tot.","ex 1","ex 2","pl.","pl.p.","Ring","pnt.C","pnt.H","pnt.tot.","ex 1","ex 2","pl.","pl.p.","pl.pnt","punten","pl.pnt","pl.pnt","punten","punten","pl.pnt","punten","Afv.","Res.","Afv. Regio","opmerking"]
[1,"991171HN","Ellemijn van Norel","Holly","Z1","Schaapskooiruiters, RV. De",null,69.286,0,{"$f":"H9+I9","v":69.286},70,80,1,1,null,238.5,0,{"$f":"P9+Q9","v":238.5},7,7,1,1,1,216.5,null,{"$f":"X9+Y9","v":216.5},6,6.5,6,6,{"$nulls":24},{"$f":"N9+V9+AD9+AL9+AT9+BB9","v":8},{"$f":"J9+R9+Z9+AH9+AP9+AX9","v":524.2860000000001},{"$f":"IF($O$4>0,(LARGE(($N9,$V9,$AD9,$AL9,$AT9,$BB9),1)),\"0\")","v":6},null,216.5,0,{"$f":"BC9-BE9-BF9","v":2},{"$f":"BD9-BG9-BH9","v":307.78600000000006},1,null,null,"Kringkampioen"]
[2,"876144JS","Lotte Schut","Jazzy T","Z1","Schaapskooiruiters, RV. De",null,64,0,64,50,65,8,8,null,234,0,234,7,7,2,2,1,228,null,228,7,7,1,1,{"$nulls":24},11,526,{"$f":"IF($O$4>0,(LARGE(($N10,$V10,$AD10,$AL10,$AT10,$BB10),1)),\"0\")","v":8},null,64,0,3,462,2]
[3,"927495LH","Liesbeth Hop","Larouche","Z1","Randmeerruiters, RV. De",null,67.714,0,67.714,70,80,2,2,null,232,0,232,6.5,7,3,3,1,220,null,220,6,7,4,4,{"$nulls":24},9,519.7139999999999,{"$f":"IF($O$4>0,(LARGE(($N11,$V11,$AD11,$AL11,$AT11,$BB11),1)),\"0\")","v":4},null,220,0,5,299.71399999999994,3]
[4,"904477LW","Stefanie Waaijenberg","Lago Maggiore","Z1","Nunspeetse Ruiterclub, RV.",null,65.714,0,65.714,65,70,5,5,null,229.5,0,229.5,6,7,4,4,1,222.5,null,222.5,6.5,7,2,2,{"$nulls":24},11,517.7139999999999,{"$f":"IF($O$4>0,(LARGE(($N12,$V12,$AD12,$AL12,$AT12,$BB12),1)),\"0\")","v":5},null,65.714,0,6,451.99999999999994,4]
[5,"897187LG","Rosan Van de Goor","Lavendel","Z1","Heuvelruiters, RV.",null,64.857,0,64.857,65,70,6,6,null,225.5,0,225.5,6.5,7.5,5,5,1,222.5,null,222.5,6.5,7,2,2,{"$nulls":24},13,512.857,{"$f":"IF($O$4>0,(LARGE(($N13,$V13,$AD13,$AL13,$AT13,$BB13),1)),\"0\")","v":6},null,64.857,0,7,448,5]
[6,"884764KG","Anna Te Grotenhuis","King Arthur","Z1","Heuvelruiters, RV.",null,65.857,0,65.857,65,70,3,3,null,214.5,0,214.5,6,6.5,8,8,1,211.5,null,211.5,6,6.5,7,7,{"$nulls":24},18,491.85699999999997,{"$f":"IF($O$4>0,(LARGE(($N14,$V14,$AD14,$AL14,$AT14,$BB14),1)),\"0\")","v":8},null,214.5,0,10,277.35699999999997,null,1]
[7,"865730IS","Marianne Freriks - Schutte","Ikeja","Z1","Cannenburgh, RV. HV. De",null,62.571,0,62.571,60,65,12,12,null,214.5,0,214.5,6.5,6.5,7,7,1,197,null,197,6,6,8,8,{"$nulls":24},27,474.071,{"$f":"IF($O$4>0,(LARGE(($N15,$V15,$AD15,$AL15,$AT15,$BB15),1)),\"0\")","v":12},null,62.571,0,15,411.5,null,2]
[8,"766513BB","Fleur Berkhof","Bambino DB","Z1","Cannenburgh, RV. HV. De",null,61.571,0,61.571,60,65,14,14,null,198.5,0,198.5,6,6.5,10,10,{"$nulls":3},0,{"$nulls":3},99,{"$nulls":24},123,260.071,{"$f":"IF($O$4>0,(LARGE(($N16,$V16,$AD16,$AL16,$AT16,$BB16),1)),\"0\")","v":99},null,0,0,24,260.071]
[9,"937352MA","Ant Anema","Mylan","Z1","WWNA, RV.",{"$nulls":3},0,{"$nulls":3},99,null,210.5,0,210.5,5.5,6,9,9,{"$nulls":3},0,{"$nulls":3},99,{"$nulls":24},207,210.5,{"$f":"IF($O$4>0,(LARGE(($N17,$V17,$AD17,$AL17,$AT17,$BB17),1)),\"0\")","v":99},null,0,0,108,210.5]
[10,"993305FM","Wesley Mulder","Floris","Z1","WWNA, RV.",null,65.714,0,65.714,70,70,4,4,{"$nulls":3},0,{"$nulls":3},99,{"$nulls":3},0,{"$nulls":3},99,{"$nulls":24},202,65.714,{"$f":"IF($O$4>0,(LARGE(($N18,$V18,$AD18,$AL18,$AT18,$BB18),1)),\"0\")","v":99},null,0,0,103,65.714]
[11,"927477JG","Iris Groeneveld","Just-In Case",null,"Randmeerruiters, RV. De",{"$nulls":3},0,{"$nulls":3},99,{"$nulls":3},0,{"$nulls":3},99,1,218.5,null,218.5,6,7,5,5,{"$nulls":24},203,218.5,{"$f":"IF($O$4>0,(LARGE(($N19,$V19,$AD19,$AL19,$AT19,$BB19),1)),\"0\")","v":99},null,0,0,104,218.5]
[12,"917123JS","Diana van der Spek","Jersey Ds","Z1","Oost-Veluwse R.J.V., RV.",{"$nulls":3},0,{"$nulls":3},99,null,222.5,0,222.5,6,7,6,6,{"$nulls":3},0,{"$nulls":3},99,{"$nulls":24},204,222.5,{"$f":"IF($O$4>0,(LARGE(($N20,$V20,$AD20,$AL20,$AT20,$BB20),1)),\"0\")","v":99},null,0,0,105,222.5]
[13,"825045IS","Thersa Schrijver","Ilana","Z1","Nunspeetse Ruiterclub, RV.",null,64.857,0,64.857,60,65,7,7,{"$nulls":3},0,{"$nulls":3},99,{"$nulls":3},0,{"$nulls":3},99,{"$nulls":24},205,64.857,{"$f":"IF($O$4>0,(LARGE(($N21,$V21,$AD21,$AL21,$AT21,$BB21),1)),\"0\")","v":99},null,0,0,106,64.857]
[14,"948027MM","Wesley Mulder","Mascotte-Strh.","Z1","WWNA, RV.",null,63.571,0,63.571,70,70,9,9,{"$nulls":3},0,{"$nulls":3},99,{"$nulls":3},0,{"$nulls":3},99,{"$nulls":24},207,63.571,{"$f":"IF($O$4>0,(LARGE(($N22,$V22,$AD22,$AL22,$AT22,$BB22),1)),\"0\")","v":99},null,0,0,108,63.571]
[15,"812597OS","Lotte Schut","Orchard Jus de Pommes","Z1","Schaapskooiruiters, RV. De",null,62.857,0,62.857,65,65,10,10,{"$nulls":3},0,{"$nulls":3},99,{"$nulls":3},0,{"$nulls":3},99,{"$nulls":24},208,62.857,{"$f":"IF($O$4>0,(LARGE(($N23,$V23,$AD23,$AL23,$AT23,$BB23),1)),\"0\")","v":99},null,0,0,109,62.857]
[16,"944582MA","Ant Anema","Matrix A","Z1","WWNA, RV.",{"$nulls":3},0,{"$nulls":3},99,null,190,0,190,5,6,11,11,{"$nulls":3},0,{"$nulls":3},99,{"$nulls":24},209,190,{"$f":"IF($O$4>0,(LARGE(($N24,$V24,$AD24,$AL24,$AT24,$BB24),1)),\"0\")","v":99},null,0,0,110,190]
[17,"992169EB","Wendy Uijt de Boogaardt","Evitalena","Z1","Hippisch Oosterwolde, RV.",null,62.714,0,62.714,60,65,11,11,{"$nulls":3},0,{"$nulls":3},99,{"$nulls":3},0,{"$nulls":3},99,{"$nulls":24},209,62.714,{"$f":"IF($O$4>0,(LARGE(($N25,$V25,$AD25,$AL25,$AT25,$BB25),1)),\"0\")","v":99},null,0,0,110,62.714]
[18,"938137ZB","Linda Den Boer","Zuchero Swing","Z1","Nunspeetse Ruiterclub, RV.",null,62.429,0,62.429,60,65,13,13,{"$nulls":3},0,{"$nulls":3},99,{"$nulls":3},0,{"$nulls":3},99,{"$nulls":24},211,62.429,{"$f":"IF($O$4>0,(LARGE(($N26,$V26,$AD26,$AL26,$AT26,$BB26),1)),\"0\")","v":99},null,0,0,112,62.429]
[19,"923199LA","Chantal Van Ark","Lexmary","Z1","Randmeerruiters, RV. De",null,61.429,0,61.429,60,65,15,15,{"$nulls":3},0,{"$nulls":3},99,{"$nulls":3},0,{"$nulls":3},99,{"$nulls":24},213,61.429,{"$f":"IF($O$4>0,(LARGE(($N27,$V27,$AD27,$AL27,$AT27,$BB27),1)),\"0\")","v":99},null,0,0,114,61.429]
[20,"817830GE","Natalie van Emden","Glennis v","Z1","Oost-Veluwse R.J.V., RV.",null,57.429,0,57.429,60,65,16,16,{"$nulls":3},0,{"$nulls":3},99,{"$nulls":3},0,{"$nulls":3},99,{"$nulls":24},214,57.429,{"$f":"IF($O$4>0,(LARGE(($N28,$V28,$AD28,$AL28,$AT28,$BB28),1)),\"0\")","v":99},null,0,0,115,57.429]

{"sheet":"Z2","index":9,"n_rows":18,"n_cols":66,"rows_kept":18,"merged":[[0,0,0,65],[2,0,2,1],[2,2,2,4],[2,5,2,13],[2,14,2,21],[2,22,4,53],[2,54,2,62],[2,64,6,65],[3,0,3,1],[3,2,3,4],[3,5,3,13],[3,14,3,21],[3,54,3,62],[4,0,4,1],[4,2,4,4],[4,5,4,13],[4,14,4,21],[4,54,4,62],[5,0,6,4],[5,6,5,13],[5,14,5,21],[5,22,5,29],[5,30,5,37],[5,38,5,45],[5,46,5,53],[5,54,5,59],[6,6,6,13],[6,14,6,21],[6,22,6,29],[6,30,6,37],[6,38,6,45],[6,46,6,53]]}
["Selectie uitslagen"]
[null,null,1,{"$f":"FLOOR((C2+3)/4,1)","v":1},{"$nulls":3},192,190,{"$f":"H2+I2","v":382},{"$nulls":3},1,null,193,193,{"$f":"P2+Q2","v":386},{"$nulls":3},2,null,198,198,{"$f":"X2+Y2","v":396},{"$nulls":3},3,null,177,177,{"$f":"AF2+AG2","v":354},{"$nulls":3},4,null,178,178,{"$f":"AN2+AO2","v":356},{"$nulls":3},5,null,179,179,{"$f":"AV2+AW2","v":358},{"$nulls":3},6,{"$f":"N2+V2+AD2+AL2+AT2+BB2","v":21},{"$f":"J2+R2+Z2+AH2+AP2+AX2","v":2232},{"$f":"IF($O$4>0,(LARGE(($N2,$V2,$AD2,$AL2,$AT2,$BB2),1)),\"0\")","v":6},{"$f":"IF($O$4>0,(LARGE(($N2,$V2,$AD2,$AL2,$AT2,$BB2),2)),\"0\")","v":5},354,354,{"$f":"BC2-BE2-BF2","v":10},{"$f":"BD2-BG2-BH2","v":1524}]
["Kring:",null,{"$f":"Instellingen!B3","v":"Kring NVF"},null,null,"Aantal afvaardiging Regio:",{"$nulls":8},4,{"$nulls":39},"Aantal wedstrijden:",{"$nulls":8},{"$f":"Instellingen!B6","v":3}]
["Klasse:",null,"Z2",null,null,"Aantal afval resultaten:",{"$nulls":8},{"$f":"Instellingen!B7","v":1}]
["Cat.:",{"$nulls":4},"Plaatsingspunten niet gestart:",{"$nulls":8},{"$f":"Instellingen!B5","v":99},{"$nulls":39},"Aantal reserves:",{"$nulls":8},2]
[{"$nulls":5},"Lokatie:",{"$f":"Instellingen!B36","v":"Hulshorst_Nunspeet"},{"$nulls":7},{"$f":"Instellingen!B37","v":"Vaassen_Wezep"},{"$nulls":7},{"$f":"Instellingen!B38","v":"Dronten_Hierden"},{"$nulls":7},{"$f":"Instellingen!B39","v":0},{"$nulls":7},{"$f":"Instellingen!B40","v":0},{"$nulls":7},{"$f":"Instellingen!B41","v":0},{"$nulls":7},"Dressuur",{"$nulls":5},"Pnt. 60% regel",null,null,210]
[{"$nulls":5},"Datum:",{"$f":"Instellingen!C36","v":"03_04 nov 2023"},{"$nulls":7},{"$f":"Instellingen!C37","v":"01_02 dec 2023"},{"$nulls":7},{"$f":"Instellingen!C38","v":"08_09_15_16 dec 2023"},{"$nulls":7},{"$f":"Instellingen!C39","v":" "},{"$nulls":7},{"$f":"Instellingen!C40","v":" "},{"$nulls":7},{"$f":"Instellingen!C41","v":" "},{"$nulls":7},"Tot.","Tot.","afval","afval","afval","afval","Beste","Beste"]
["Pl.","Comb.nr.","Ruiter/amazone","Paard/pony","kl.","vereniging","Ring","pnt.C","pnt.H","pnt.tot","ex 1","ex 2","pl.","pl.p.","Ring","pnt.C","pnt.H","pnt.tot.","ex 1","ex 2","pl.","pl.p.","Ring","pnt.C","pnt. H","pnt.tot.","ex 1","ex 2","pl.","pl.p.","Ring","pnt.C","pnt.H","pnt.tot.","ex 1","ex 2","pl.","pl.p.","Ring","pnt.C","pnt.H","pnt.tot.","ex 1","ex 2","pl.","pl.p.","Ring","pnt.C","pnt.H","pnt.tot.","ex 1","ex 2","pl.","pl.p.","pl.pnt","punten","pl.pnt","pl.pnt","punten","punten","pl.pnt","punten","Afv.","Res.","Afv. Regio","opmerking"]
[1,"988187VS","Jennifer Sekreve","Velasco di Vitalis BF","Z2","Oost-Veluwse R.J.V., RV.",null,71.714,0,{"$f":"H9+I9","v":71.714},80,80,1,1,null,243,0,{"$f":"P9+Q9","v":243},7.5,7.5,1,1,{"$nulls":3},{"$f":"X9+Y9","v":0},{"$nulls":3},99,{"$nulls":24},{"$f":"N9+V9+AD9+AL9+AT9+BB9","v":101},{"$f":"J9+R9+Z9+AH9+AP9+AX9","v":314.714},{"$f":"IF($O$4>0,(LARGE(($N9,$V9,$AD9,$AL9,$AT9,$BB9),1)),\"0\")","v":99},null,0,0,{"$f":"BC9-BE9-BF9","v":2},{"$f":"BD9-BG9-BH9","v":314.714},1,null,null,"Kringkampioen"]
[2,"938773MP","Kimberly Pap","Martinez","Z2","Nunspeetse Ruiterclub, RV.",null,69.143,0,69.143,70,70,2,2,{"$nulls":3},0,{"$nulls":3},99,1,261.5,null,261.5,8,8,1,1,{"$nulls":24},102,330.64300000000003,{"$f":"IF($O$4>0,(LARGE(($N10,$V10,$AD10,$AL10,$AT10,$BB10),1)),\"0\")","v":99},null,0,0,3,330.64300000000003,2]
[3,"986604GN","Sophie van Norel","Gotcha-utopia","Z2","Nunspeetse Ruiterclub, RV.",null,65,0,65,65,65,6,6,null,237.5,0,237.5,7,7,3,3,1,236.5,null,236.5,7,7,2,2,{"$nulls":24},11,539,{"$f":"IF($O$4>0,(LARGE(($N11,$V11,$AD11,$AL11,$AT11,$BB11),1)),\"0\")","v":6},null,65,0,5,474,3]
[4,"962900KS","Romy Van der Schaft","Kenzi","Z2","Sprengenhorst, Africhtingsstal",null,67,0,67,70,80,4,4,null,238,0,238,7,7.5,2,2,1,236,null,236,7,7.5,3,3,{"$nulls":24},9,541,{"$f":"IF($O$4>0,(LARGE(($N12,$V12,$AD12,$AL12,$AT12,$BB12),1)),\"0\")","v":4},null,67,0,5,474,4]
[5,"776033BS","Lotte Scherpenzeel","Bandolero","Z2","Oost-Veluwse R.J.V., RV.",null,65.429,0,65.429,65,70,5,5,null,232,0,232,6.5,7,4,4,1,196.5,null,196.5,6,6,5,5,{"$nulls":24},14,493.929,{"$f":"IF($O$4>0,(LARGE(($N13,$V13,$AD13,$AL13,$AT13,$BB13),1)),\"0\")","v":5},null,65.429,0,9,428.5,null,1]
[6,"866953BV","Helma Franken - Vromen","Bon Jovi","Z2","Nunspeetse Ruiterclub, RV.",null,63.571,0,63.571,55,65,8,8,null,215,0,215,7,7,6,6,1,210.5,null,210.5,6,6,4,4,{"$nulls":24},18,489.071,{"$f":"IF($O$4>0,(LARGE(($N14,$V14,$AD14,$AL14,$AT14,$BB14),1)),\"0\")","v":8},null,63.571,0,10,425.5,null,2]
[7,"842119HJ","Christel Jansen van der sligte","Hazzle Woods","Z2","Cannenburgh, RV. HV. De",null,64.286,0,64.286,65,70,7,7,null,214,0,214,6.5,6.5,7,7,{"$nulls":3},0,{"$nulls":3},99,{"$nulls":24},113,278.286,{"$f":"IF($O$4>0,(LARGE(($N15,$V15,$AD15,$AL15,$AT15,$BB15),1)),\"0\")","v":99},null,0,0,14,278.286]
[8,"919278DM","Marijn Maas","D.j","Z2","Flevoruiters, RV.",null,62.286,0,62.286,60,65,9,9,null,201.5,0,201.5,6.5,6.5,8,8,{"$nulls":3},0,{"$nulls":3},99,{"$nulls":24},116,263.786,{"$f":"IF($O$4>0,(LARGE(($N16,$V16,$AD16,$AL16,$AT16,$BB16),1)),\"0\")","v":99},null,0,0,17,263.786]
[9,"989759MS","Romy Schaftenaar","Milan","Z2","Schaapskooiruiters, RV. De",null,67.571,0,67.571,65,70,3,3,{"$nulls":3},0,{"$nulls":3},99,{"$nulls":3},0,{"$nulls":3},99,{"$nulls":24},201,67.571,{"$f":"IF($O$4>0,(LARGE(($N17,$V17,$AD17,$AL17,$AT17,$BB17),1)),\"0\")","v":99},null,0,0,102,67.571]
[10,"852306JM","Melanie Mulder","Jody","Z2","Marleruiters, RV.",{"$nulls":3},0,{"$nulls":3},99,null,226.5,0,226.5,7,8,5,5,{"$nulls":3},0,{"$nulls":3},99,{"$nulls":24},203,226.5,{"$f":"IF($O$4>0,(LARGE(($N18,$V18,$AD18,$AL18,$AT18,$BB18),1)),\"0\")","v":99},null,0,0,104,226.5]

{"sheet":"ZZL","index":10,"n_rows":14,"n_cols":66,"rows_kept":14,"merged":[[0,0,0,65],[2,0,2,1],[2,2,2,4],[2,5,2,13],[2,14,2,21],[2,22,4,53],[2,54,2,62],[2,64,6,65],[3,0,3,1],[3,2,3,4],[3,5,3,13],[3,14,3,21],[3,54,3,62],[4,0,4,1],[4,2,4,4],[4,5,4,13],[4,14,4,21],[4,54,4,62],[5,0,6,4],[5,6,5,13],[5,14,5,21],[5,22,5,29],[5,30,5,37],[5,38,5,45],[5,46,5,53],[5,54,5,59],[6,6,6,13],[6,14,6,21],[6,22,6,29],[6,30,6,37],[6,38,6,45],[6,46,6,53]]}
["Selectie uitslagen"]
[null,null,1,{"$f":"FLOOR((C2+3)/4,1)","v":1},{"$nulls":3},192,190,{"$f":"H2+I2","v":382},{"$nulls":3},1,null,193,193,{"$f":"P2+Q2","v":386},{"$nulls":3},2,null,198,198,{"$f":"X2+Y2","v":396},{"$nulls":3},3,null,177,177,{"$f":"AF2+AG2","v":354},{"$nulls":3},4,null,178,178,{"$f":"AN2+AO2","v":356},{"$nulls":3},5,null,179,179,{"$f":"AV2+AW2","v":358},{"$nulls":3},6,{"$f":"N2+V2+AD2+AL2+AT2+BB2","v":21},{"$f":"J2+R2+Z2+AH2+AP2+AX2","v":2232},{"$f":"IF($O$4>0,(LARGE(($N2,$V2,$AD2,$AL2,$AT2,$BB2),1)),\"0\")","v":6},{"$f":"IF($O$4>0,(LARGE(($N2,$V2,$AD2,$AL2,$AT2,$BB2),2)),\"0\")","v":5},354,354,{"$f":"BC2-BE2-BF2","v":10},{"$f":"BD2-BG2-BH2","v":1524}]
["Kring:",null,{"$f":"Instellingen!B3","v":"Kring NVF"},null,null,"Aantal afvaardiging Regio:",{"$nulls":8},3,{"$nulls":39},"Aantal wedstrijden:",{"$nulls":8},{"$f":"Instellingen!B6","v":3}]
["Klasse:",null,"ZZL",null,null,"Aantal afval resultaten:",{"$nulls":8},{"$f":"Instellingen!B7","v":1}]
["Cat.:",{"$nulls":4},"Plaatsingspunten niet gestart:",{"$nulls":8},{"$f":"Instellingen!B5","v":99},{"$nulls":39},"Aantal reserves:",{"$nulls":8},2]
[{"$nulls":5},"Lokatie:",{"$f":"Instellingen!B36","v":"Hulshorst_Nunspeet"},{"$nulls":7},{"$f":"Instellingen!B37","v":"Vaassen_Wezep"},{"$nulls":7},{"$f":"Instellingen!B38","v":"Dronten_Hierden"},{"$nulls":7},{"$f":"Instellingen!B39","v":0},{"$nulls":7},{"$f":"Instellingen!B40","v":0},{"$nulls":7},{"$f":"Instellingen!B41","v":0},{"$nulls":7},"Dressuur",{"$nulls":5},"Pnt. 60% regel",null,null,210]
[{"$nulls":5},"Datum:",{"$f":"Instellingen!C36","v":"03_04 nov 2023"},{"$nulls":7},{"$f":"Instellingen!C37","v":"01_02 dec 2023"},{"$nulls":7},{"$f":"Instellingen!C38","v":"08_09_15_16 dec 2023"},{"$nulls":7},{"$f":"Instellingen!C39","v":" "},{"$nulls":7},{"$f":"Instellingen!C40","v":" "},{"$nulls":7},{"$f":"Instellingen!C41","v":" "},{"$nulls":7},"Tot.","Tot.","afval","afval","afval","afval","Beste","Beste"]
["Pl.","Comb.nr.","Ruiter/amazone","Paard/pony","kl.","vereniging","Ring","pnt.C","pnt.H","pnt.tot","ex 1","ex 2","pl.","pl.p.","Ring","pnt.C","pnt.H","pnt.tot.","ex 1","ex 2","pl.","pl.p.","Ring","pnt.C","pnt. H","pnt.tot.","ex 1","ex 2","pl.","pl.p.","Ring","pnt.C","pnt.H","pnt.tot.","ex 1","ex 2","pl.","pl.p.","Ring","pnt.C","pnt.H","pnt.tot.","ex 1","ex 2","pl.","pl.p.","Ring","pnt.C","pnt.H","pnt.tot.","ex 1","ex 2","pl.","pl.p.","pl.pnt","punten","pl.pnt","pl.pnt","punten","punten","pl.pnt","punten","Afv.","Res.","Afv. Regio","opmerking"]
[1,"833789IL","Corinda Luttjeboer","I-Go DC","ZZL","Nunspeetse Ruiterclub, RV.",null,67.143,0,{"$f":"H9+I9","v":67.143},70,70,1,1,null,231.5,0,{"$f":"P9+Q9","v":231.5},7,7,1,1,{"$nulls":3},{"$f":"X9+Y9","v":0},{"$nulls":3},99,{"$nulls":24},{"$f":"N9+V9+AD9+AL9+AT9+BB9","v":101},{"$f":"J9+R9+Z9+AH9+AP9+AX9","v":298.64300000000003},{"$f":"IF($O$4>0,(LARGE(($N9,$V9,$AD9,$AL9,$AT9,$BB9),1)),\"0\")","v":99},null,0,0,{"$f":"BC9-BE9-BF9","v":2},{"$f":"BD9-BG9-BH9","v":298.64300000000003},1,null,null,"Kringkampioen"]
[2,"903836LD","Sanne Diercks","Lydensie","ZZL","Oost-Veluwse R.J.V., RV.",null,67,0,67,65,70,2,2,null,228.5,0,228.5,6.5,7,2,2,1,223,null,223,6.5,7,1,1,{"$nulls":24},5,518.5,{"$f":"IF($O$4>0,(LARGE(($N10,$V10,$AD10,$AL10,$AT10,$BB10),1)),\"0\")","v":2},null,67,0,3,451.5,2]
[3,"836186DB","Nicole Broekhuis","Discovery","ZZL","Cannenburgh, RV. HV. De",null,60.429,0,60.429,60,60,6,6,null,210.5,0,210.5,6,7,4,4,1,215,null,215,6,6.5,2,2,{"$nulls":24},12,485.929,{"$f":"IF($O$4>0,(LARGE(($N11,$V11,$AD11,$AL11,$AT11,$BB11),1)),\"0\")","v":6},null,60.429,0,6,425.5,3]
[4,"892237DG","Marjolein Gevaert","Dansa's Isadansa","ZZL","Heuvelruiters, RV.",null,61.857,0,61.857,60,65,4,4,null,221.5,0,221.5,5,6,3,3,1,199,null,199,6,6.5,4,4,{"$nulls":24},11,482.35699999999997,{"$f":"IF($O$4>0,(LARGE(($N12,$V12,$AD12,$AL12,$AT12,$BB12),1)),\"0\")","v":4},null,61.857,0,7,420.5,null,1]
[5,"659180CF","Willeke Franken","Chanel","ZZL","Randmeerruiters, RV. De",null,60.429,0,60.429,60,65,5,5,{"$nulls":3},0,{"$nulls":3},99,1,204.5,null,204.5,6.5,7,3,3,{"$nulls":24},107,264.929,{"$f":"IF($O$4>0,(LARGE(($N13,$V13,$AD13,$AL13,$AT13,$BB13),1)),\"0\")","v":99},null,0,0,8,264.929,null,2]
[6,"878034FM","Annemarie Jansen - Migchelbrink","Feniks","ZZL","Nunspeetse Ruiterclub, RV.",null,63.143,0,63.143,65,65,3,3,null,204.5,0,204.5,6,6,5,5,{"$nulls":3},0,{"$nulls":3},99,{"$nulls":24},107,267.64300000000003,{"$f":"IF($O$4>0,(LARGE(($N14,$V14,$AD14,$AL14,$AT14,$BB14),1)),\"0\")","v":99},null,0,0,8,267.64300000000003]

{"sheet":"Z1 - Z2","index":11,"n_rows":8,"n_cols":66,"rows_kept":8,"hidden":true,"merged":[[0,0,0,65],[2,0,2,1],[2,2,2,4],[2,5,2,13],[2,14,2,21],[2,22,4,53],[2,54,2,62],[2,65,6,65],[3,0,3,1],[3,2,3,4],[3,5,3,13],[3,14,3,21],[3,54,3,62],[4,0,4,1],[4,2,4,4],[4,5,4,13],[4,14,4,21],[4,54,4,62],[5,0,6,4],[5,6,5,13],[5,14,5,21],[5,22,5,29],[5,30,5,37],[5,38,5,45],[5,46,5,53],[5,54,5,59],[6,6,6,13],[6,14,6,21],[6,22,6,29],[6,30,6,37],[6,38,6,45],[6,46,6,53]]}
["Selectie uitslagen"]
[null,null,1,{"$f":"FLOOR((C2+3)/4,1)","v":1},null,null,192,192,190,{"$f":"H2+I2","v":382},{"$nulls":3},1,193,193,193,{"$f":"P2+Q2","v":386},{"$nulls":3},2,198,198,198,{"$f":"X2+Y2","v":396},{"$nulls":3},3,177,177,177,{"$f":"AF2+AG2","v":354},{"$nulls":3},4,178,178,178,{"$f":"AN2+AO2","v":356},{"$nulls":3},5,179,179,179,{"$f":"AV2+AW2","v":358},{"$nulls":3},6,{"$f":"N2+V2+AD2+AL2+AT2+BB2","v":21},{"$f":"J2+R2+Z2+AH2+AP2+AX2","v":2232},{"$f":"IF($O$4>0,(LARGE(($N2,$V2,$AD2,$AL2,$AT2,$BB2),1)),\"0\")","v":6},{"$f":"IF($O$4>0,(LARGE(($N2,$V2,$AD2,$AL2,$AT2,$BB2),2)),\"0\")","v":5},354,354,{"$f":"BC2-BE2-BF2","v":10},{"$f":"BD2-BG2-BH2","v":1524}]
["Kring:",null,{"$f":"Instellingen!B3","v":"Kring NVF"},{"$nulls":51},"Aantal wedstrijden:",{"$nulls":8},{"$f":"Instellingen!B6","v":3}]
["Klasse:",null,"Z1 - Z2",null,null,"Aantal afval resultaten:",{"$nulls":8},{"$f":"Instellingen!B7","v":1}]
["Cat.:",{"$nulls":4},"Plaatsingspunten niet gestart:",{"$nulls":8},{"$f":"Instellingen!B5","v":99}]
[{"$nulls":5},"Lokatie:",{"$f":"Instellingen!B36","v":"Hulshorst_Nunspeet"},{"$nulls":7},{"$f":"Instellingen!B37","v":"Vaassen_Wezep"},{"$nulls":7},{"$f":"Instellingen!B38","v":"Dronten_Hierden"},{"$nulls":7},{"$f":"Instellingen!B39","v":0},{"$nulls":7},{"$f":"Instellingen!B40","v":0},{"$nulls":7},{"$f":"Instellingen!B41","v":0},{"$nulls":7},"Dressuur"]
[{"$nulls":5},"Datum:",{"$f":"Instellingen!C36","v":"03_04 nov 2023"},{"$nulls":7},{"$f":"Instellingen!C37","v":"01_02 dec 2023"},{"$nulls":7},{"$f":"Instellingen!C38","v":"08_09_15_16 dec 2023"},{"$nulls":7},{"$f":"Instellingen!C39","v":" "},{"$nulls":7},{"$f":"Instellingen!C40","v":" "},{"$nulls":7},{"$f":"Instellingen!C41","v":" "},{"$nulls":7},"Tot.","Tot.","afval","afval","afval","afval","Beste","Beste"]
["Pl.","Comb.nr.","Ruiter/amazone","Paard/pony","kl.","vereniging","Ring","pnt.C","pnt.H","pnt.tot","ex 1","ex 2","pl.","pl.p.","Ring","pnt.C","pnt.H","pnt.tot.","ex 1","ex 2","pl.","pl.p.","Ring","pnt.C","pnt. H","pnt.tot.","ex 1","ex 2","pl.","pl.p.","Ring","pnt.C","pnt.H","pnt.tot.","ex 1","ex 2","pl.","pl.p.","Ring","pnt.C","pnt.H","pnt.tot.","ex 1","ex 2","pl.","pl.p.","Ring","pnt.C","pnt.H","pnt.tot.","ex 1","ex 2","pl.","pl.p.","pl.pnt","punten","pl.pnt","pl.pnt","punten","punten","pl.pnt","punten","Afv.","Res.",null,"opmerking"]

{"sheet":"Kampioenen","index":12,"n_rows":29,"n_cols":11,"rows_kept":29,"merged":[[0,0,0,6],[0,7,0,8],[2,1,2,2],[2,4,2,5],[2,7,2,8]]}
["Regio Kampioenen"]
[{"$nulls":6},false,false]
["Kring:",{"$f":"Instellingen!B3","v":"Kring NVF"},null,null,"Handicap:",null,null,"Aantal per klasse:",null,1]
["Volgnr.","Comb.nr.","Ruiter/amazone","Paard/pony","Klasse","Cat.","Vereniging","Totaal beste","Totaal perc.","Totaal pl.pnt.","Opmerking"]
[]
[]
[null,null,"Klasse: B"]
[1,"945785NZ","Kyara van der Ziel","No Mercy  WV","B","B","Noord Veluwe, RV. PSV",4,"136,00",6,"Kringkampioen"]
[]
[null,null,"Klasse: L1"]
[1,"972943OS","Laura Spronk","Olympia Ds","L1","L1","Heuvelruiters, RV.",2,"149,33",101,"Kringkampioen"]
[]
[null,null,"Klasse: L2"]
[1,"946858NS","Laura Spronk","New Star","L2","L2","Heuvelruiters, RV.",2,"148,00",5,"Kringkampioen"]
[]
[null,null,"Klasse: M1"]
[1,"990847NV","Carlijn Vaessen","Nexter Carlos O","M1","M1","Heuvelruiters, RV.",2,"144,67",4,"Kringkampioen"]
[]
[null,null,"Klasse: M2"]
[1,"959143CB","Robin Blok","Customzadels Lausanne","M2","M2","Heuvelruiters, RV.",2,"135,00",7,"Kringkampioen"]
[]
[null,null,"Klasse: Z1"]
[1,"991171HN","Ellemijn van Norel","Holly","Z1","Z1","Schaapskooiruiters, RV. De",2,"88,00",8,"Kringkampioen"]
[]
[null,null,"Klasse: Z2"]
[1,"988187VS","Jennifer Sekreve","Velasco di Vitalis BF","Z2","Z2","Oost-Veluwse R.J.V., RV.",2,"90,00",101,"Kringkampioen"]
[]
[null,null,"Klasse: ZZL"]
[1,"833789IL","Corinda Luttjeboer","I-Go DC","ZZL","ZZL","Nunspeetse Ruiterclub, RV.",2,"85,43",101,"Kringkampioen"]

{"sheet":"Diversen","index":13,"n_rows":8,"n_cols":14,"rows_kept":8,"merged":[[0,0,0,11],[2,2,2,3],[2,4,2,6],[2,7,2,13],[5,0,6,13]]}
["Selectie wedstrijd"]
[null,null,48,{"$f":"FLOOR((C2+3)/4,1)","v":12},{"$nulls":3},192,190,{"$f":"H2+I2","v":382}]
["Kring:",null,{"$f":"Instellingen!B3","v":"Kring NVF"},null,"Wedstrijd nummer:",null,null,2]
[]
[]
["Import gegevens "]
[]
["Pl.","Comb.nr.","Ruiter/amazone","Paard/pony","klasse","cat.","vereniging","pnt.C","pnt.H","pnt.tot","ex 1","ex 2","perc.","opmerking"]

{"sheet":"Instellingen","index":14,"n_rows":41,"n_cols":3,"rows_kept":41}
[null,"Waarde","Opmerking"]
["Gegevens:"]
["Naam van de Kring:","Kring NVF"]
["Interval plaatsingspunten:",1,"1=(1,2,3,etc) / 2=(1,3,5,etc)"]
["Plaatsingspunten niet gestart:",99]
["Aantal selectie wedstrijden:",3]
["Aantal afval resultaten:",1]
["Aantal jury's:",1]
["Ex-aequo punten per wedstrijd",1,"1=ja / 0=nee"]
["Plaatsingspunten niet gefinisht",90,"Blanko is volgens plaatsing"]
["Importeren punten en/of plaatsing","1: Punten van de proef"]
[]
["Afvaardiging Regiokampioenschappen",null,"Aanmelden, Afmelden, Blanko is iedereen"]
["Klasse Z1-Z2 cat. CDE samenvoegen","Nee"]
["Klasse L1-L2 cat. AB samenvoegen","Nee"]
[]
["Klasse BB verbergen","Nee"]
["Tabbladen B, L1-L2, M1-M2, Z1-Z2 nodig","Nee"]
[]
[]
[]
[]
["Volgorde ex-aequo regeling:",null,"(De laagste waarde heeft voorrang, niet ingevulde gegevens doen niet mee voor de volgorde van het resultaat)"]
["Totaal beste plaatsingspunten:",1,"(dit is een vaste waarde en heeft de hoogste voorrang)"]
["Plaatsingspunten 6e wedstrijd:"]
["Plaatsingspunten 5e wedstrijd:"]
["Plaatsingspunten 4e wedstrijd:"]
["Plaatsingspunten 3e wedstrijd:",2]
["Plaatsingspunten 2e wedstrijd:"]
["Plaatsingspunten 1e wedstrijd:"]
["Totaal alle plaatsingspunten:",3]
["Totaal behaalde punten beste wedstrijden:"]
["Totaal behaalde punten alle wedstrijden:",4]
[]
["Omschrijving","Lokatie","Datum"]
["1e wedstrijd","Hulshorst_Nunspeet","03_04 nov 2023"]
["2e wedstrijd","Vaassen_Wezep","01_02 dec 2023"]
["3e wedstrijd","Dronten_Hierden","08_09_15_16 dec 2023"]
["4e wedstrijd",null," "]
["5e wedstrijd",null," "]
["6e wedstrijd",null," "]

{"sheet":"Afvaardiging","index":15,"n_rows":71,"n_cols":10,"rows_kept":71,"merged":[[0,0,0,7],[2,1,2,3],[2,4,2,5]]}
["Afvaardiging aan de Regio Kampioenschappen"]
[]
["Kring:",{"$f":"Instellingen!B3","v":"Kring NVF"},null,null,"Discipline:",null,"Dressuur"]
["Volgnr.","Comb.nr.","Ruiter / amazone","Paard/pony","Klasse","Cat.","Vereniging","Opmerking",{"$f":"IF(C4<>\"\",RIGHT(C4,LEN(C4)-SEARCH(\" \",C4,1)),\"\")","v":"/ amazone"},{"$f":"IF(C4<>\"\",LEFT(C4, SEARCH(\" \",C4,1)),\"\")","v":"Ruiter "}]
[]
[null,null,"Klasse: B","Afvaardiging: 5"]
[1,"945785NZ","Kyara van der Ziel","No Mercy  WV","B",null,"Noord Veluwe, RV. PSV","Kringkampioen"]
[2,"846769RV","Luna Veldkamp","Royally Impressed","B",null,"Heuvelruiters, RV."]
[3,"991594MV","Denise Vonk","Maigret","B",null,"Nunspeetse Ruiterclub, RV."]
[4,"992423ND","Noreen van den Dragt","Nanisina","B",null,"Nunspeetse Ruiterclub, RV."]
[5,"991870OK","Chayenne Karel","Odin Royal DDH","B",null,"Heuvelruiters, RV."]
["1e Res.","962598IH","Tamara Van der Hilst","Irma","B",null,"Noord Veluwe, RV. PSV"]
["2e Res.","981943OH","Malou Haverkamp","Odivo","B",null,"Schaapskooiruiters, RV. De"]
[]
[null,null,"Klasse: L1","Afvaardiging: 5"]
[1,"972943OS","Laura Spronk","Olympia Ds","L1",null,"Heuvelruiters, RV.","Kringkampioen"]
[2,"987599OB","Wendy Uijt de Boogaardt","Ojay","L1",null,"Hippisch Oosterwolde, RV."]
[3,"984186OS","Laura Spronk","Orlando Ds","L1",null,"Heuvelruiters, RV."]
[4,"979731MG","Elise Geschiere","Mon Toto DC","L1",null,"Flevoruiters, RV."]
[5,"972741OH","Liesbeth Hop","Oscar GW","L1",null,"Randmeerruiters, RV. De"]
["1e Res.","973703NB","Willeke Den Besten","Nathalie DB","L1",null,"Noord Veluwe, RV. PSV"]
["2e Res.","945906ML","Anouk Linthorst","Macho DS","L1",null,"WWNA, RV."]
[]
[null,null,"Klasse: L2","Afvaardiging: 4"]
[1,"946858NS","Laura Spronk","New Star","L2",null,"Heuvelruiters, RV.","Kringkampioen"]
[2,"992809NS","Romy Schaftenaar","NOU NOU","L2",null,"Schaapskooiruiters, RV. De"]
[3,"984443NV","Diana Vinke","Navaro","L2",null,"Nunspeetse Ruiterclub, RV."]
[4,"959838NR","Satu Pleijter - Rahikka","Nicolai","L2",null,"Noord Veluwe, RV. PSV"]
["1e Res.","971842NV","Arnoud Te Velde","Noud FZ","L2",null,"Oost-Veluwse R.J.V., RV."]
["2e Res.","972903OG","Stefanie De Groot","Odile","L2",null,"Heuvelruiters, RV."]
[]
[null,null,"Klasse: M1","Afvaardiging: 3"]
[1,"990847NV","Carlijn Vaessen","Nexter Carlos O","M1",null,"Heuvelruiters, RV.","Kringkampioen"]
[2,"991317FV","Diana Vinke","Kimberly","M1",null,"Nunspeetse Ruiterclub, RV."]
[3,"970931NU","Marieta Doornwaard - Uitslag","Nadiesch","M1",null,"Heuvelruiters, RV."]
["1e Res.","928668MB","Dianne Den Besten","Michigan DB","M1",null,"Noord Veluwe, RV. PSV"]
["2e Res.","981651MK","Anne Klein","Ma Bel La","M1",null,"Heuvelruiters, RV."]
[]
[null,null,"Klasse: M2","Afvaardiging: 6"]
[1,"959143CB","Robin Blok","Customzadels Lausanne","M2",null,"Heuvelruiters, RV.","Kringkampioen"]
[2,"962881MF","Suzanne Feberwee","Morgenster Norel","M2",null,"WWNA, RV."]
[3,"946899NH","Alexandra Hayes","Noblesse Fortuna","M2",null,"Oost-Veluwse R.J.V., RV."]
[4,"888687KH","Angela Hooghordel","Kryptonite","M2",null,"Nunspeetse Ruiterclub, RV."]
[5,"874868JT","Rosalie Tessemaker","Jana-L","M2",null,"Horsthoekruiters, RV."]
[6,"926598MG","Elise Geschiere","Mydrea V/D Sfeerhoeve","M2",null,"Flevoruiters, RV."]
["1e Res.","955913NJ","Laura Jansen","New Star","M2",null,"Nunspeetse Ruiterclub, RV."]
["2e Res.","938825NV","Julia Vrolijken","Nashville SC","M2",null,"Nunspeetse Ruiterclub, RV."]
[]
[null,null,"Klasse: Z1","Afvaardiging: 5"]
[1,"991171HN","Ellemijn van Norel","Holly","Z1",null,"Schaapskooiruiters, RV. De","Kringkampioen"]
[2,"876144JS","Lotte Schut","Jazzy T","Z1",null,"Schaapskooiruiters, RV. De"]
[3,"927495LH","Liesbeth Hop","Larouche","Z1",null,"Randmeerruiters, RV. De"]
[4,"904477LW","Stefanie Waaijenberg","Lago Maggiore","Z1",null,"Nunspeetse Ruiterclub, RV."]
[5,"897187LG","Rosan Van de Goor","Lavendel","Z1",null,"Heuvelruiters, RV."]
["1e Res.","884764KG","Anna Te Grotenhuis","King Arthur","Z1",null,"Heuvelruiters, RV."]
["2e Res.","865730IS","Marianne Freriks - Schutte","Ikeja","Z1",null,"Cannenburgh, RV. HV. De"]
[]
[null,null,"Klasse: Z2","Afvaardiging: 4"]
[1,"988187VS","Jennifer Sekreve","Velasco di Vitalis BF","Z2",null,"Oost-Veluwse R.J.V., RV.","Kringkampioen"]
[2,"938773MP","Kimberly Pap","Martinez","Z2",null,"Nunspeetse Ruiterclub, RV."]
[3,"986604GN","Sophie van Norel","Gotcha-utopia","Z2",null,"Nunspeetse Ruiterclub, RV."]
[4,"962900KS","Romy Van der Schaft","Kenzi","Z2",null,"Sprengenhorst, Africhtingsstal"]
["1e Res.","776033BS","Lotte Scherpenzeel","Bandolero","Z2",null,"Oost-Veluwse R.J.V., RV."]
["2e Res.","866953BV","Helma Franken - Vromen","Bon Jovi","Z2",null,"Nunspeetse Ruiterclub, RV."]
[]
[null,null,"Klasse: ZZL","Afvaardiging: 3"]
[1,"833789IL","Corinda Luttjeboer","I-Go DC","ZZL",null,"Nunspeetse Ruiterclub, RV.","Kringkampioen"]
[2,"903836LD","Sanne Diercks","Lydensie","ZZL",null,"Oost-Veluwse R.J.V., RV."]
[3,"836186DB","Nicole Broekhuis","Discovery","ZZL",null,"Cannenburgh, RV. HV. De"]
["1e Res.","892237DG","Marjolein Gevaert","Dansa's Isadansa","ZZL",null,"Heuvelruiters, RV."]
["2e Res.","659180CF","Willeke Franken","Chanel","ZZL",null,"Randmeerruiters, RV. De"]