{"text_format":"3","workbook":"xlsx","n_sheets":16,"sheets":["Informatie","B","L1","L2","L1 - L2","M1","M2","M1 - M2","Z1","Z2","ZZL","Z1 - Z2","Kampioenen","Diversen","Instellingen","Afvaardiging"],"not_rendered":{"macros":1,"defined_names":16},"read":"whole","date_system":"1900"}

{"sheet":"Informatie","index":0,"n_rows":5,"n_cols":1,"rows_kept":5}
["LEES ONDERSTAANDE INFO EERST!!"]
[]
["Zowel de afgevaardigden als de reserves dienen zich aan te melden met een digitaal inschrijf formulier bij het secretariaat van de kring ."]
[]
["Heb je vragen over de inschrijving, mail dan naar: "]

{"sheet":"B","index":1,"n_rows":42,"n_cols":66,"rows_kept":42,"merged":[[0,0,0,65],[2,0,2,1],[2,2,2,4],[2,5,2,13],[2,14,2,21],[2,22,4,53],[2,54,2,62],[2,64,6,65],[3,0,3,1],[3,2,3,4],[3,5,3,13],[3,14,3,21],[3,54,3,62],[4,0,4,1],[4,2,4,4],[4,5,4,13],[4,14,4,21],[4,54,4,62],[5,0,6,4],[5,6,5,13],[5,14,5,21],[5,22,5,29],[5,30,5,37],[5,38,5,45],[5,46,5,53],[5,54,5,59],[6,6,6,13],[6,14,6,21],[6,22,6,29],[6,30,6,37],[6,38,6,45],[6,46,6,53]]}
["Selectie uitslagen"]
[null,null,1,{"$f":"FLOOR((C2+3)/4,1)","v":1},{"$nulls":3},192,190,{"$f":"H2+I2","v":382},{"$nulls":3},1,null,193,193,{"$f":"P2+Q2","v":386},{"$nulls":3},2,null,198,198,{"$f":"X2+Y2","v":396},{"$nulls":3},3,null,177,177,{"$f":"AF2+AG2","v":354},{"$nulls":3},4,null,178,178,{"$f":"AN2+AO2","v":356},{"$nulls":3},5,null,179,179,{"$f":"AV2+AW2","v":358},{"$nulls":3},6,{"$f":"N2+V2+AD2+AL2+AT2+BB2","v":21},{"$f":"J2+R2+Z2+AH2+AP2+AX2","v":2232},{"$f":"IF($O$4>0,(LARGE(($N2,$V2,$AD2,$AL2,$AT2,$BB2),1)),\"0\")","v":6},{"$f":"IF($O$4>0,(LARGE(($N2,$V2,$AD2,$AL2,$AT2,$BB2),2)),\"0\")","v":5},354,354,{"$f":"BC2-BE2-BF2","v":10},{"$f":"BD2-BG2-BH2","v":1524}]
["Kring:",null,{"$f":"Instellingen!B3","v":"Kring NVF"},null,null,"Aantal afvaardiging Regio:",{"$nulls":8},7,{"$nulls":39},"Aantal wedstrijden:",{"$nulls":8},{"$f":"Instellingen!B6","v":3}]
["Klasse:",null,"B",null,null,"Aantal afval resultaten:",{"$nulls":8},{"$f":"Instellingen!B7","v":1}]
["Cat.:",{"$nulls":4},"Plaatsingspunten niet gestart:",{"$nulls":8},{"$f":"Instellingen!B5","v":99},{"$nulls":39},"Aantal reserves:",{"$nulls":8},2]
[{"$nulls":5},"Lokatie:",{"$f":"Instellingen!B36","v":"Hattem"},{"$nulls":7},{"$f":"Instellingen!B37","v":"Ermelo"},{"$nulls":7},{"$f":"Instellingen!B38","v":"Nunspeet"},{"$nulls":7},{"$f":"Instellingen!B39","v":0},{"$nulls":7},{"$f":"Instellingen!B40","v":0},{"$nulls":7},{"$f":"Instellingen!B41","v":0},{"$nulls":7},"Dressuur",{"$nulls":5},"Pnt. 60% regel",null,null,180]
[{"$nulls":5},"Datum:",{"$f":"Instellingen!C36","v":"06 jun 2022"},{"$nulls":7},{"$f":"Instellingen!C37","v":"18 jun 2022"},{"$nulls":7},{"$f":"Instellingen!C38","v":"02 jul 2022"},{"$nulls":7},{"$f":"Instellingen!C39","v":" "},{"$nulls":7},{"$f":"Instellingen!C40","v":" "},{"$nulls":7},{"$f":"Instellingen!C41","v":" "},{"$nulls":7},"Tot.","Tot.","afval","afval","afval","afval","Beste","Beste"]
["Pl.","Comb.nr.","Ruiter/amazone","Paard/pony","kl.","vereniging","Ring","pnt.C","pnt.H","pnt.tot","ex 1","ex 2","pl.","pl.p.","Ring","pnt.C","pnt.H","pnt.tot.","ex 1","ex 2","pl.","pl.p.","Ring","pnt.C","pnt. H","pnt.tot.","ex 1","ex 2","pl.","pl.p.","Ring","pnt.C","pnt.H","pnt.tot.","ex 1","ex 2","pl.","pl.p.","Ring","pnt.C","pnt.H","pnt.tot.","ex 1","ex 2","pl.","pl.p.","Ring","pnt.C","pnt.H","pnt.tot.","ex 1","ex 2","pl.","pl.p.","pl.pnt","punten","pl.pnt","pl.pnt","punten","punten","pl.pnt","punten","Afv.","Res.","Afv. Regio","opmerking"]
[1,"941224MR","Mendy De Ruiter","Montserrat-Beau","B","Nunspeetse Ruiterclub, RV.",5,207,0,{"$f":"H9+I9","v":207},6.5,7,1,1,3,207.5,0,{"$f":"P9+Q9","v":207.5},7,6.5,1,1,{"$nulls":3},{"$f":"X9+Y9","v":0},{"$nulls":3},99,{"$nulls":24},{"$f":"N9+V9+AD9+AL9+AT9+BB9","v":101},{"$f":"J9+R9+Z9+AH9+AP9+AX9","v":414.5},{"$f":"IF($O$4>0,(LARGE(($N9,$V9,$AD9,$AL9,$AT9,$BB9),1)),\"0\")","v":99},null,0,0,{"$f":"BC9-BE9-BF9","v":2},{"$f":"BD9-BG9-BH9","v":414.5},1,null,null,"Kringkampioen"]
[2,"952978LW","Armanda Van der Wal","Lyandra-Cara Vdw","B","Schaapskooiruiters, RV.",5,201.5,0,201.5,6.5,6.5,4,4,3,200,0,200,7,6.5,2,2,1,209.5,null,209.5,7,8,2,2,{"$nulls":24},8,611,{"$f":"IF($O$4>0,(LARGE(($N10,$V10,$AD10,$AL10,$AT10,$BB10),1)),\"0\")","v":4},null,201.5,0,4,409.5,2]
[3,"910069LD","Nathanie Baron","Ludovica","B","Heuvelruiters, RV.",5,189.5,0,189.5,6,6.5,18,18,3,199,0,199,6.5,6.5,4,4,1,208.5,null,208.5,7,7.5,3,3,{"$nulls":24},25,597,{"$f":"IF($O$4>0,(LARGE(($N11,$V11,$AD11,$AL11,$AT11,$BB11),1)),\"0\")","v":18},null,189.5,0,7,407.5,3]
[4,"945180UD","Tara Draaijer","Ulie","B","Kromme Zweppe, RV.",5,203,0,203,6,6.5,3,3,3,198.5,0,198.5,6,6.5,5,5,{"$nulls":3},0,{"$nulls":3},99,{"$nulls":24},107,401.5,{"$f":"IF($O$4>0,(LARGE(($N12,$V12,$AD12,$AL12,$AT12,$BB12),1)),\"0\")","v":99},null,0,0,8,401.5,4]
[5,"946518BB","Nikki van Bergen","Beau","B","Dronten, Paardencentrum",5,198,0,198,6.5,7,8,8,3,191,0,191,6,6,12,12,1,213,null,213,7,7,1,1,{"$nulls":24},21,602,{"$f":"IF($O$4>0,(LARGE(($N13,$V13,$AD13,$AL13,$AT13,$BB13),1)),\"0\")","v":12},null,191,0,9,411,5]
[6,"953136NB","Dianne Den Besten","Ninaronia Norel","B","Noord Veluwe, RV. PSV",5,206,0,206,6,7,2,2,3,193,0,193,5.5,6.5,11,11,1,200.5,null,200.5,5.5,7,7,7,{"$nulls":24},20,599.5,{"$f":"IF($O$4>0,(LARGE(($N14,$V14,$AD14,$AL14,$AT14,$BB14),1)),\"0\")","v":11},null,193,0,9,406.5,6]
[7,"946204ND","Elvira Van den Dragt","Nanisina","B","Nunspeetse Ruiterclub, RV.",5,198.5,0,198.5,7,7,7,7,3,200,0,200,6.5,6.5,3,3,1,197,null,197,6,6.5,9,9,{"$nulls":24},19,595.5,{"$f":"IF($O$4>0,(LARGE(($N15,$V15,$AD15,$AL15,$AT15,$BB15),1)),\"0\")","v":9},null,197,0,10,398.5,7]
[8,"953332MT","Rosalie Tessemaker","Mighty Mike","B","Horsthoekruiters, RV.",5,197,0,197,6,6.5,9,9,3,195,0,195,5.5,6,8,8,1,202.5,null,202.5,6,6,4,4,{"$nulls":24},21,594.5,{"$f":"IF($O$4>0,(LARGE(($N16,$V16,$AD16,$AL16,$AT16,$BB16),1)),\"0\")","v":9},null,197,0,12,397.5,null,1]
[9,"909460BB","Susan Benedictus","Exper","B","Flevoruiters, RV.",{"$nulls":3},0,{"$nulls":3},99,3,194,0,194,6.5,6.5,9,9,1,201.5,null,201.5,5.5,6.5,6,6,{"$nulls":24},114,395.5,{"$f":"IF($O$4>0,(LARGE(($N17,$V17,$AD17,$AL17,$AT17,$BB17),1)),\"0\")","v":99},null,0,0,15,395.5,null,2]
[10,"952533NK","Anne Klein","Nicolai","B","Heuvelruiters, RV.",{"$nulls":3},0,{"$nulls":3},99,3,198,0,198,6.5,6.5,6,6,1,194.5,null,194.5,6.5,7,11,11,{"$nulls":24},116,392.5,{"$f":"IF($O$4>0,(LARGE(($N18,$V18,$AD18,$AL18,$AT18,$BB18),1)),\"0\")","v":99},null,0,0,17,392.5]
[11,"953356MM","Amber Van der Mast","Mexx","B","Oost-Veluwse R.J.V., RV.",5,190.5,0,190.5,5,6.5,16,16,3,191,0,191,5.5,6.5,13,13,1,202,null,202,7,7,5,5,{"$nulls":24},34,583.5,{"$f":"IF($O$4>0,(LARGE(($N19,$V19,$AD19,$AL19,$AT19,$BB19),1)),\"0\")","v":16},null,190.5,0,18,393]
[12,"911752FL","Max van der Linden","Ferino","B","Dronten, Paardencentrum",5,194.5,0,194.5,6.5,7,11,11,3,193.5,0,193.5,6,6.5,10,10,1,197.5,null,197.5,6,7,8,8,{"$nulls":24},29,585.5,{"$f":"IF($O$4>0,(LARGE(($N20,$V20,$AD20,$AL20,$AT20,$BB20),1)),\"0\")","v":11},null,194.5,0,18,391]
[13,"941389CN","Eipie Nagelhout","Cinora","B","Heuvelruiters, RV.",5,189.5,0,189.5,6.5,6.5,17,17,3,184.5,0,184.5,5,6,20,20,1,197,null,197,6,6,10,10,{"$nulls":24},47,571,{"$f":"IF($O$4>0,(LARGE(($N21,$V21,$AD21,$AL21,$AT21,$BB21),1)),\"0\")","v":20},null,184.5,0,27,386.5]
[14,"924486AI","Amber Van Ittersum","Adolf","B","Marleruiters, RV.",5,191.5,0,191.5,5.5,6.5,15,15,3,189.5,0,189.5,6,6,16,16,1,194.5,null,194.5,5.5,6.5,12,12,{"$nulls":24},43,575.5,{"$f":"IF($O$4>0,(LARGE(($N22,$V22,$AD22,$AL22,$AT22,$BB22),1)),\"0\")","v":16},null,189.5,0,27,386]
[15,"589333CT","Danique Timmer","Cilithya W","B","Randmeerruiters, RV. De",5,191.5,0,191.5,6.5,7,14,14,{"$nulls":3},0,{"$nulls":3},99,1,189.5,null,189.5,5.5,6,13,13,{"$nulls":24},126,381,{"$f":"IF($O$4>0,(LARGE(($N23,$V23,$AD23,$AL23,$AT23,$BB23),1)),\"0\")","v":99},null,0,0,27,381]
[16,"954402MV","Saskia Achterkamp - de Vries","My Gentle Morka","B","WWNA, RV.",5,187,0,187,5.5,6.5,22,22,3,195,0,195,6,6.5,7,7,{"$nulls":3},0,{"$nulls":3},99,{"$nulls":24},128,382,{"$f":"IF($O$4>0,(LARGE(($N24,$V24,$AD24,$AL24,$AT24,$BB24),1)),\"0\")","v":99},null,0,0,29,382]
[17,"848631HB","Tanja Boeve","Haisha","B","Epe, RV. HV.",5,193.5,0,193.5,6.5,7,13,13,3,185.5,0,185.5,6,6.5,19,19,{"$nulls":3},0,{"$nulls":3},99,{"$nulls":24},131,379,{"$f":"IF($O$4>0,(LARGE(($N25,$V25,$AD25,$AL25,$AT25,$BB25),1)),\"0\")","v":99},null,0,0,32,379]
[18,"921293JT","Lynn Van Tienderen","Jackie","B","Flevoruiters, RV.",5,189,0,189,6.5,6.5,19,19,{"$nulls":3},0,{"$nulls":3},99,1,181.5,null,181.5,5.5,6,14,14,{"$nulls":24},132,370.5,{"$f":"IF($O$4>0,(LARGE(($N26,$V26,$AD26,$AL26,$AT26,$BB26),1)),\"0\")","v":99},null,0,0,33,370.5]
[19,"932101GJ","Sandy De Jong - Tichelaar","Ghaira","B","Dronten, Paardencentrum",5,188,0,188,5.5,6,21,21,3,178,0,178,5,6,23,23,1,174.5,null,174.5,5,6,15,15,{"$nulls":24},59,540.5,{"$f":"IF($O$4>0,(LARGE(($N27,$V27,$AD27,$AL27,$AT27,$BB27),1)),\"0\")","v":23},null,178,0,36,362.5]
[20,"949846GS","Ruut Schaly","Golden","B","Nunspeetse Ruiterclub, RV.",5,188.5,0,188.5,5.5,6.5,20,20,3,189.5,0,189.5,5.5,6.5,17,17,{"$nulls":3},0,{"$nulls":3},99,{"$nulls":24},136,378,{"$f":"IF($O$4>0,(LARGE(($N28,$V28,$AD28,$AL28,$AT28,$BB28),1)),\"0\")","v":99},null,0,0,37,378]
[21,"905389JB","Mirne Berends","Jaylano","B","Nunspeetse Ruiterclub, RV.",5,179.5,0,179.5,7,7,27,27,3,181,0,181,5.5,5.5,22,22,{"$nulls":3},0,{"$nulls":3},99,{"$nulls":24},148,360.5,{"$f":"IF($O$4>0,(LARGE(($N29,$V29,$AD29,$AL29,$AT29,$BB29),1)),\"0\")","v":99},null,0,0,49,360.5]
[22,"935588HL","Tess Lubbring","Huub","B","Flevoruiters, RV.",5,201.5,0,201.5,6,6.5,5,5,{"$nulls":3},0,{"$nulls":3},99,{"$nulls":3},0,{"$nulls":3},99,{"$nulls":24},203,201.5,{"$f":"IF($O$4>0,(LARGE(($N30,$V30,$AD30,$AL30,$AT30,$BB30),1)),\"0\")","v":99},null,0,0,104,201.5]
[23,"954482DK","Suzanne Kroese","Dilana","B","Noord Veluwe, RV. PSV",5,201,0,201,6.5,7,6,6,{"$nulls":3},0,{"$nulls":3},99,{"$nulls":3},0,{"$nulls":3},99,{"$nulls":24},204,201,{"$f":"IF($O$4>0,(LARGE(($N31,$V31,$AD31,$AL31,$AT31,$BB31),1)),\"0\")","v":99},null,0,0,105,201]
[24,"950202MA","Han Aalmans","Morris G","B","Noord Veluwe, RV. PSV",5,196,0,196,6.5,6.5,10,10,{"$nulls":3},0,{"$nulls":3},99,{"$nulls":3},0,{"$nulls":3},99,{"$nulls":24},208,196,{"$f":"IF($O$4>0,(LARGE(($N32,$V32,$AD32,$AL32,$AT32,$BB32),1)),\"0\")","v":99},null,0,0,109,196]
[25,"939004MB","Anne van den Belt","Million dollar babe","B","Heuvelruiters, RV.",5,194,0,194,5.5,6.5,12,12,{"$nulls":3},0,{"$nulls":3},99,{"$nulls":3},0,{"$nulls":3},99,{"$nulls":24},210,194,{"$f":"IF($O$4>0,(LARGE(($N33,$V33,$AD33,$AL33,$AT33,$BB33),1)),\"0\")","v":99},null,0,0,111,194]
[26,"931134EA","Arianne van Asselt","Evita Ardonie","B","Oost-Veluwse R.J.V., RV.",{"$nulls":3},0,{"$nulls":3},99,3,190.5,0,190.5,5.5,6,14,14,{"$nulls":3},0,{"$nulls":3},99,{"$nulls":24},212,190.5,{"$f":"IF($O$4>0,(LARGE(($N34,$V34,$AD34,$AL34,$AT34,$BB34),1)),\"0\")","v":99},null,0,0,113,190.5]
[27,"955287TL","Jesse van Leeuwen","Trovao","B","Flevoruiters, RV.",{"$nulls":3},0,{"$nulls":3},99,3,189.5,0,189.5,6,6.5,15,15,{"$nulls":3},0,{"$nulls":3},99,{"$nulls":24},213,189.5,{"$f":"IF($O$4>0,(LARGE(($N35,$V35,$AD35,$AL35,$AT35,$BB35),1)),\"0\")","v":99},null,0,0,114,189.5]
[28,"954920KS","Margreet De Ruiter","Katja","B","WWNA, RV.",{"$nulls":3},0,{"$nulls":3},99,3,187.5,0,187.5,5,6,18,18,{"$nulls":3},0,{"$nulls":3},99,{"$nulls":24},216,187.5,{"$f":"IF($O$4>0,(LARGE(($N36,$V36,$AD36,$AL36,$AT36,$BB36),1)),\"0\")","v":99},null,0,0,117,187.5]
[29,"953277UQ","Eline Quik","Uncle Bob","B","Hulshorst, RV.",{"$nulls":3},0,{"$nulls":3},99,3,184.5,0,184.5,5,6,20,20,{"$nulls":3},0,{"$nulls":3},99,{"$nulls":24},218,184.5,{"$f":"IF($O$4>0,(LARGE(($N37,$V37,$AD37,$AL37,$AT37,$BB37),1)),\"0\")","v":99},null,0,0,119,184.5]
[30,"949565LZ","Kyara van der Ziel","Lindseylina","B","Noord Veluwe, RV. PSV",5,186.5,0,186.5,5.5,6,23,23,{"$nulls":3},0,{"$nulls":3},99,{"$nulls":3},0,{"$nulls":3},99,{"$nulls":24},221,186.5,{"$f":"IF($O$4>0,(LARGE(($N38,$V38,$AD38,$AL38,$AT38,$BB38),1)),\"0\")","v":99},null,0,0,122,186.5]
[31,"942368LH","Sabine Van der Ham","Lobke Uilkje fan Tomas-Hof","B","Schaapskooiruiters, RV.",5,185,0,185,6,6.5,24,24,{"$nulls":3},0,{"$nulls":3},99,{"$nulls":3},0,{"$nulls":3},99,{"$nulls":24},222,185,{"$f":"IF($O$4>0,(LARGE(($N39,$V39,$AD39,$AL39,$AT39,$BB39),1)),\"0\")","v":99},null,0,0,123,185]
[32,"916791KM","Diane Stuart - Mulder","King Of Scotsss","B","Lelyruiters, RV.",5,184.5,0,184.5,5,6,25,25,{"$nulls":3},0,{"$nulls":3},99,{"$nulls":3},0,{"$nulls":3},99,{"$nulls":24},223,184.5,{"$f":"IF($O$4>0,(LARGE(($N40,$V40,$AD40,$AL40,$AT40,$BB40),1)),\"0\")","v":99},null,0,0,124,184.5]
[33,"922148IH","Andrea Wullink","Indiana","B","Schaapskooiruiters, RV.",5,180,0,180,5,5.5,26,26,{"$nulls":3},0,{"$nulls":3},99,{"$nulls":3},0,{"$nulls":3},99,{"$nulls":24},224,180,{"$f":"IF($O$4>0,(LARGE(($N41,$V41,$AD41,$AL41,$AT41,$BB41),1)),\"0\")","v":99},null,0,0,125,180]
[34,"941674MV","Joëlla De Vries","Mardando","B","Marleruiters, RV.",5,177.5,0,177.5,5,5.5,28,28,{"$nulls":3},0,{"$nulls":3},99,{"$nulls":3},0,{"$nulls":3},99,{"$nulls":24},226,177.5,{"$f":"IF($O$4>0,(LARGE(($N42,$V42,$AD42,$AL42,$AT42,$BB42),1)),\"0\")","v":99},null,0,0,127,177.5]

{"sheet":"L1","index":2,"n_rows":37,"n_cols":66,"rows_kept":37,"merged":[[0,0,0,65],[2,0,2,1],[2,2,2,4],[2,5,2,13],[2,14,2,21],[2,22,4,53],[2,54,2,62],[2,64,6,65],[3,0,3,1],[3,2,3,4],[3,5,3,13],[3,14,3,21],[3,54,3,62],[4,0,4,1],[4,2,4,4],[4,5,4,13],[4,14,4,21],[4,54,4,62],[5,0,6,4],[5,6,5,13],[5,14,5,21],[5,22,5,29],[5,30,5,37],[5,38,5,45],[5,46,5,53],[5,54,5,59],[6,6,6,13],[6,14,6,21],[6,22,6,29],[6,30,6,37],[6,38,6,45],[6,46,6,53]]}
["Selectie uitslagen"]
[null,null,1,{"$f":"FLOOR((C2+3)/4,1)","v":1},{"$nulls":3},192,190,{"$f":"H2+I2","v":382},{"$nulls":3},1,null,193,193,{"$f":"P2+Q2","v":386},{"$nulls":3},2,null,198,198,{"$f":"X2+Y2","v":396},{"$nulls":3},3,null,177,177,{"$f":"AF2+AG2","v":354},{"$nulls":3},4,null,178,178,{"$f":"AN2+AO2","v":356},{"$nulls":3},5,null,179,179,{"$f":"AV2+AW2","v":358},{"$nulls":3},6,{"$f":"N2+V2+AD2+AL2+AT2+BB2","v":21},{"$f":"J2+R2+Z2+AH2+AP2+AX2","v":2232},{"$f":"IF($O$4>0,(LARGE(($N2,$V2,$AD2,$AL2,$AT2,$BB2),1)),\"0\")","v":6},{"$f":"IF($O$4>0,(LARGE(($N2,$V2,$AD2,$AL2,$AT2,$BB2),2)),\"0\")","v":5},354,354,{"$f":"BC2-BE2-BF2","v":10},{"$f":"BD2-BG2-BH2","v":1524}]
["Kring:",null,{"$f":"Instellingen!B3","v":"Kring NVF"},null,null,"Aantal afvaardiging Regio:",{"$nulls":8},6,{"$nulls":39},"Aantal wedstrijden:",{"$nulls":8},{"$f":"Instellingen!B6","v":3}]
["Klasse:",null,"L1",null,null,"Aantal afval resultaten:",{"$nulls":8},{"$f":"Instellingen!B7","v":1}]
["Cat.:",{"$nulls":4},"Plaatsingspunten niet gestart:",{"$nulls":8},{"$f":"Instellingen!B5","v":99},{"$nulls":39},"Aantal reserves:",{"$nulls":8},2]
[{"$nulls":5},"Lokatie:",{"$f":"Instellingen!B36","v":"Hattem"},{"$nulls":7},{"$f":"Instellingen!B37","v":"Ermelo"},{"$nulls":7},{"$f":"Instellingen!B38","v":"Nunspeet"},{"$nulls":7},{"$f":"Instellingen!B39","v":0},{"$nulls":7},{"$f":"Instellingen!B40","v":0},{"$nulls":7},{"$f":"Instellingen!B41","v":0},{"$nulls":7},"Dressuur",{"$nulls":5},"Pnt. 60% regel",null,null,180]
[{"$nulls":5},"Datum:",{"$f":"Instellingen!C36","v":"06 jun 2022"},{"$nulls":7},{"$f":"Instellingen!C37","v":"18 jun 2022"},{"$nulls":7},{"$f":"Instellingen!C38","v":"02 jul 2022"},{"$nulls":7},{"$f":"Instellingen!C39","v":" "},{"$nulls":7},{"$f":"Instellingen!C40","v":" "},{"$nulls":7},{"$f":"Instellingen!C41","v":" "},{"$nulls":7},"Tot.","Tot.","afval","afval","afval","afval","Beste","Beste"]
["Pl.","Comb.nr.","Ruiter/amazone","Paard/pony","kl.","vereniging","Ring","pnt.C","pnt.H","pnt.tot","ex 1","ex 2","pl.","pl.p.","Ring","pnt.C","pnt.H","pnt.tot.","ex 1","ex 2","pl.","pl.p.","Ring","pnt.C","pnt. H","pnt.tot.","ex 1","ex 2","pl.","pl.p.","Ring","pnt.C","pnt.H","pnt.tot.","ex 1","ex 2","pl.","pl.p.","Ring","pnt.C","pnt.H","pnt.tot.","ex 1","ex 2","pl.","pl.p.","Ring","pnt.C","pnt.H","pnt.tot.","ex 1","ex 2","pl.","pl.p.","pl.pnt","punten","pl.pnt","pl.pnt","punten","punten","pl.pnt","punten","Afv.","Res.","Afv. Regio","opmerking"]
[1,"914934LW","Jeanet Witteveen","Little Star   B","L1","Noord Veluwe, RV. PSV",7,203,0,{"$f":"H9+I9","v":203},7,7.5,1,1,3,199,0,{"$f":"P9+Q9","v":199},6,7,9,9,1,204.5,null,{"$f":"X9+Y9","v":204.5},7,7.5,1,1,{"$nulls":24},{"$f":"N9+V9+AD9+AL9+AT9+BB9","v":11},{"$f":"J9+R9+Z9+AH9+AP9+AX9","v":606.5},{"$f":"IF($O$4>0,(LARGE(($N9,$V9,$AD9,$AL9,$AT9,$BB9),1)),\"0\")","v":9},null,199,0,{"$f":"BC9-BE9-BF9","v":2},{"$f":"BD9-BG9-BH9","v":407.5},1,null,null,"Kringkampioen"]
[2,"938824MV","Julia Vrolijken","Miliane SC","L1","Nunspeetse Ruiterclub, RV.",{"$nulls":3},0,{"$nulls":3},99,3,219.5,0,219.5,7.5,7,1,1,1,203,null,203,7,6.5,2,2,{"$nulls":24},102,422.5,{"$f":"IF($O$4>0,(LARGE(($N10,$V10,$AD10,$AL10,$AT10,$BB10),1)),\"0\")","v":99},null,0,0,3,422.5,2]
[3,"946858NS","Laura Spronk","New Star","L1","Heuvelruiters, RV.",7,198.5,0,198.5,6.5,7,2,2,3,217.5,0,217.5,7,7.5,2,2,{"$nulls":3},0,{"$nulls":3},99,{"$nulls":24},103,416,{"$f":"IF($O$4>0,(LARGE(($N11,$V11,$AD11,$AL11,$AT11,$BB11),1)),\"0\")","v":99},null,0,0,4,416,3]
[4,"938825NV","Julia Vrolijken","Nashville SC","L1","Nunspeetse Ruiterclub, RV.",7,197.5,0,197.5,6.5,6.5,3,3,3,201.5,0,201.5,7,7,7,7,1,199,null,199,6.5,7,4,4,{"$nulls":24},14,598,{"$f":"IF($O$4>0,(LARGE(($N12,$V12,$AD12,$AL12,$AT12,$BB12),1)),\"0\")","v":7},null,201.5,0,7,396.5,4]
[5,"954280KH","Patrieck Van Hoek","Kiona","L1","Noord Veluwe, RV. PSV",7,186.5,0,186.5,6.5,6.5,11,11,3,212,0,212,6.5,7,4,4,1,198.5,null,198.5,6.5,6.5,5,5,{"$nulls":24},20,597,{"$f":"IF($O$4>0,(LARGE(($N13,$V13,$AD13,$AL13,$AT13,$BB13),1)),\"0\")","v":11},null,186.5,0,9,410.5,5]
[6,"928668MB","Dianne Den Besten","Michigan DB","L1","Noord Veluwe, RV. PSV",7,183.5,0,183.5,6.5,6.5,16,16,3,216.5,0,216.5,7.5,8,3,3,1,193,null,193,7,6.5,7,7,{"$nulls":24},26,593,{"$f":"IF($O$4>0,(LARGE(($N14,$V14,$AD14,$AL14,$AT14,$BB14),1)),\"0\")","v":16},null,183.5,0,10,409.5,6]
[7,"932227LK","Susanne Kogelman","Dansa's La Dansa","L1","Heuvelruiters, RV.",7,192,0,192,6,6.5,9,9,{"$nulls":3},0,{"$nulls":3},99,1,200,null,200,6,7,3,3,{"$nulls":24},111,392,{"$f":"IF($O$4>0,(LARGE(($N15,$V15,$AD15,$AL15,$AT15,$BB15),1)),\"0\")","v":99},null,0,0,12,392,null,1]
[8,"904124KH","Kayleigh De Haas","Kazan-S","L1","WWNA, RV.",7,193.5,0,193.5,6.5,6.5,7,7,3,207,0,207,7,7.5,5,5,1,187.5,null,187.5,6.5,6.5,11,11,{"$nulls":24},23,588,{"$f":"IF($O$4>0,(LARGE(($N16,$V16,$AD16,$AL16,$AT16,$BB16),1)),\"0\")","v":11},null,187.5,0,12,400.5,null,2]
[9,"949698MS","Laura Spronk","Mrs. Toto","L1","Heuvelruiters, RV.",7,197,0,197,6.5,7,4,4,3,186.5,0,186.5,6,7,11,11,1,191,null,191,6,6,9,9,{"$nulls":24},24,574.5,{"$f":"IF($O$4>0,(LARGE(($N17,$V17,$AD17,$AL17,$AT17,$BB17),1)),\"0\")","v":11},null,186.5,0,13,388]
[10,"935858CB","Wendy Buhler","Camara Z","L1","Hulshorst, RV.",7,192.5,0,192.5,6.5,6.5,8,8,3,200.5,0,200.5,7,7,8,8,1,188.5,null,188.5,6,7,10,10,{"$nulls":24},26,581.5,{"$f":"IF($O$4>0,(LARGE(($N18,$V18,$AD18,$AL18,$AT18,$BB18),1)),\"0\")","v":10},null,188.5,0,16,393]
[11,"940056ET","Femke Van Triest","E-Berlina","L1","Heuvelruiters, RV.",7,186,0,186,6,6.5,12,12,3,202,0,202,7,7,6,6,{"$nulls":3},0,{"$nulls":3},99,{"$nulls":24},117,388,{"$f":"IF($O$4>0,(LARGE(($N19,$V19,$AD19,$AL19,$AT19,$BB19),1)),\"0\")","v":99},null,0,0,18,388]
[12,"918384EF","Rosa Foppen","Elena","L1","Flevoruiters, RV.",7,189.5,0,189.5,6.5,7,10,10,3,195,0,195,7,7,10,10,1,179,null,179,6.5,6.5,13,13,{"$nulls":24},33,563.5,{"$f":"IF($O$4>0,(LARGE(($N20,$V20,$AD20,$AL20,$AT20,$BB20),1)),\"0\")","v":13},null,179,0,20,384.5]
[13,"904370LP","Petrice Polinder","Leon","L1","Nunspeetse Ruiterclub, RV.",7,185.5,0,185.5,6.5,6.5,13,13,3,180,0,180,6,7,14,14,1,183,null,183,6,6,12,12,{"$nulls":24},39,548.5,{"$f":"IF($O$4>0,(LARGE(($N21,$V21,$AD21,$AL21,$AT21,$BB21),1)),\"0\")","v":14},null,180,0,25,368.5]
[14,"866080IA","Danielle Akster","Idolieni","L1","Nunspeetse Ruiterclub, RV.",{"$nulls":3},0,{"$nulls":3},99,3,146,0,146,4,4,18,18,1,193,null,193,6,7,8,8,{"$nulls":24},125,339,{"$f":"IF($O$4>0,(LARGE(($N22,$V22,$AD22,$AL22,$AT22,$BB22),1)),\"0\")","v":99},null,0,0,26,339]
[15,"938090NH","Chantalle Halfwerk","Dansa's Nodan","L1","Heuvelruiters, RV.",7,183.5,0,183.5,6.5,6.5,16,16,3,181.5,0,181.5,6,6.5,13,13,{"$nulls":3},0,{"$nulls":3},99,{"$nulls":24},128,365,{"$f":"IF($O$4>0,(LARGE(($N23,$V23,$AD23,$AL23,$AT23,$BB23),1)),\"0\")","v":99},null,0,0,29,365]
[16,"866179KB","Annelise Boeve","King Kenzo","L1","Heuvelruiters, RV.",7,185,0,185,6,6,14,14,3,178,0,178,6,7,16,16,{"$nulls":3},0,{"$nulls":3},99,{"$nulls":24},129,363,{"$f":"IF($O$4>0,(LARGE(($N24,$V24,$AD24,$AL24,$AT24,$BB24),1)),\"0\")","v":99},null,0,0,30,363]
[17,"888868BM","Yvette Mijnheer","Brechtje Van 't Klaphek","L1","Nunspeetse Ruiterclub, RV.",7,178.5,0,178.5,6,6.5,21,21,3,183,0,183,6.5,7,12,12,{"$nulls":3},0,{"$nulls":3},99,{"$nulls":24},132,361.5,{"$f":"IF($O$4>0,(LARGE(($N25,$V25,$AD25,$AL25,$AT25,$BB25),1)),\"0\")","v":99},null,0,0,33,361.5]
[18,"914192ZB","Nicole Brummel","Zavannah Stella Fan Aurum","L1","Epe, RV. HV.",7,195.5,0,195.5,7,7,5,5,{"$nulls":3},0,{"$nulls":3},99,{"$nulls":3},0,{"$nulls":3},99,{"$nulls":24},203,195.5,{"$f":"IF($O$4>0,(LARGE(($N26,$V26,$AD26,$AL26,$AT26,$BB26),1)),\"0\")","v":99},null,0,0,104,195.5]
[19,"903339JM","Milan Mulder","Jive H",null,"Nunspeetse Ruiterclub, RV.",{"$nulls":3},0,{"$nulls":3},99,{"$nulls":3},0,{"$nulls":3},99,1,193.5,null,193.5,6.5,6.5,6,6,{"$nulls":24},204,193.5,{"$f":"IF($O$4>0,(LARGE(($N27,$V27,$AD27,$AL27,$AT27,$BB27),1)),\"0\")","v":99},null,0,0,105,193.5]
[20,"936304MB","Priscilla Bouwmeester","Mara v.d. haflinger hoeve","L1","Schaapskooiruiters, RV.",7,194,0,194,7,7,6,6,{"$nulls":3},0,{"$nulls":3},99,{"$nulls":3},0,{"$nulls":3},99,{"$nulls":24},204,194,{"$f":"IF($O$4>0,(LARGE(($N28,$V28,$AD28,$AL28,$AT28,$BB28),1)),\"0\")","v":99},null,0,0,105,194]
[21,"891229LK","Kimberley Knol","Larsson","L1","Marleruiters, RV.",7,184,0,184,6.5,6.5,15,15,{"$nulls":3},0,{"$nulls":3},99,{"$nulls":3},0,{"$nulls":3},99,{"$nulls":24},213,184,{"$f":"IF($O$4>0,(LARGE(($N29,$V29,$AD29,$AL29,$AT29,$BB29),1)),\"0\")","v":99},null,0,0,114,184]
[22,"912708MD","Chantal Douwma","Miranza","L1","Pothoven (pa), HS",{"$nulls":3},0,{"$nulls":3},99,3,180,0,180,5,6,15,15,{"$nulls":3},0,{"$nulls":3},99,{"$nulls":24},213,180,{"$f":"IF($O$4>0,(LARGE(($N30,$V30,$AD30,$AL30,$AT30,$BB30),1)),\"0\")","v":99},null,0,0,114,180]
[23,"933053KB","Bianca Goeman - Boutkan","King D","L1","Flevoruiters, RV.",{"$nulls":3},0,{"$nulls":3},99,3,174.5,0,174.5,6,6,17,17,{"$nulls":3},0,{"$nulls":3},99,{"$nulls":24},215,174.5,{"$f":"IF($O$4>0,(LARGE(($N31,$V31,$AD31,$AL31,$AT31,$BB31),1)),\"0\")","v":99},null,0,0,116,174.5]
[24,"674154CN","Ferdou Nijenhuis","Calindo","L1","Nunspeetse Ruiterclub, RV.",7,182,0,182,6,6,18,18,{"$nulls":3},0,{"$nulls":3},99,{"$nulls":3},0,{"$nulls":3},99,{"$nulls":24},216,182,{"$f":"IF($O$4>0,(LARGE(($N32,$V32,$AD32,$AL32,$AT32,$BB32),1)),\"0\")","v":99},null,0,0,117,182]
[25,"947342NH","Alice Hofmeijer","Nightmare","L1","Stal Rodeo, RV. RSV.",7,181,0,181,6,6,19,19,{"$nulls":3},0,{"$nulls":3},99,{"$nulls":3},0,{"$nulls":3},99,{"$nulls":24},217,181,{"$f":"IF($O$4>0,(LARGE(($N33,$V33,$AD33,$AL33,$AT33,$BB33),1)),\"0\")","v":99},null,0,0,118,181]
[26,"925939QH","Carlien Hanraets","Quick Mail van de Tol","L1","Randmeerruiters, RV. De",7,180.5,0,180.5,5.5,6,20,20,{"$nulls":3},0,{"$nulls":3},99,{"$nulls":3},0,{"$nulls":3},99,{"$nulls":24},218,180.5,{"$f":"IF($O$4>0,(LARGE(($N34,$V34,$AD34,$AL34,$AT34,$BB34),1)),\"0\")","v":99},null,0,0,119,180.5]
[27,"853567HM","Gertie Marskamp","Hello Tangelo","L1","Horsthoekruiters, RV.",7,178,0,178,5,6,22,22,{"$nulls":3},0,{"$nulls":3},99,{"$nulls":3},0,{"$nulls":3},99,{"$nulls":24},220,178,{"$f":"IF($O$4>0,(LARGE(($N35,$V35,$AD35,$AL35,$AT35,$BB35),1)),\"0\")","v":99},null,0,0,121,178]
[28,"922801HD","Maaike Dijkslag","Hazelberg's Libanon","L1","Schaapskooiruiters, RV.",7,175,0,175,5.5,6,23,23,{"$nulls":3},0,{"$nulls":3},99,{"$nulls":3},0,{"$nulls":3},99,{"$nulls":24},221,175,{"$f":"IF($O$4>0,(LARGE(($N36,$V36,$AD36,$AL36,$AT36,$BB36),1)),\"0\")","v":99},null,0,0,122,175]
[29,"926686WV","Marlies Visser","Willem G.l","L1","Marleruiters, RV.",7,156,0,156,4.5,6,24,24,{"$nulls":3},0,{"$nulls":3},99,{"$nulls":3},0,{"$nulls":3},99,{"$nulls":24},222,156,{"$f":"IF($O$4>0,(LARGE(($N37,$V37,$AD37,$AL37,$AT37,$BB37),1)),\"0\")","v":99},null,0,0,123,156]

{"sheet":"L2","index":3,"n_rows":29,"n_cols":66,"rows_kept":29,"merged":[[0,0,0,65],[2,0,2,1],[2,2,2,4],[2,5,2,13],[2,14,2,21],[2,22,4,53],[2,54,2,62],[2,64,6,65],[3,0,3,1],[3,2,3,4],[3,5,3,13],[3,14,3,21],[3,54,3,62],[4,0,4,1],[4,2,4,4],[4,5,4,13],[4,14,4,21],[4,54,4,62],[5,0,6,4],[5,6,5,13],[5,14,5,21],[5,22,5,29],[5,30,5,37],[5,38,5,45],[5,46,5,53],[5,54,5,59],[6,6,6,13],[6,14,6,21],[6,22,6,29],[6,30,6,37],[6,38,6,45],[6,46,6,53]]}
["Selectie uitslagen"]
[null,null,1,{"$f":"FLOOR((C2+3)/4,1)","v":1},{"$nulls":3},192,190,{"$f":"H2+I2","v":382},{"$nulls":3},1,null,193,193,{"$f":"P2+Q2","v":386},{"$nulls":3},2,null,198,198,{"$f":"X2+Y2","v":396},{"$nulls":3},3,null,177,177,{"$f":"AF2+AG2","v":354},{"$nulls":3},4,null,178,178,{"$f":"AN2+AO2","v":356},{"$nulls":3},5,null,179,179,{"$f":"AV2+AW2","v":358},{"$nulls":3},6,{"$f":"N2+V2+AD2+AL2+AT2+BB2","v":21},{"$f":"J2+R2+Z2+AH2+AP2+AX2","v":2232},{"$f":"IF($O$4>0,(LARGE(($N2,$V2,$AD2,$AL2,$AT2,$BB2),1)),\"0\")","v":6},{"$f":"IF($O$4>0,(LARGE(($N2,$V2,$AD2,$AL2,$AT2,$BB2),2)),\"0\")","v":5},354,354,{"$f":"BC2-BE2-BF2","v":10},{"$f":"BD2-BG2-BH2","v":1524}]
["Kring:",null,{"$f":"Instellingen!B3","v":"Kring NVF"},null,null,"Aantal afvaardiging Regio:",{"$nulls":8},6,{"$nulls":39},"Aantal wedstrijden:",{"$nulls":8},{"$f":"Instellingen!B6","v":3}]
["Klasse:",null,"L2",null,null,"Aantal afval resultaten:",{"$nulls":8},{"$f":"Instellingen!B7","v":1}]
["Cat.:",{"$nulls":4},"Plaatsingspunten niet gestart:",{"$nulls":8},{"$f":"Instellingen!B5","v":99},{"$nulls":39},"Aantal reserves:",{"$nulls":8},2]
[{"$nulls":5},"Lokatie:",{"$f":"Instellingen!B36","v":"Hattem"},{"$nulls":7},{"$f":"Instellingen!B37","v":"Ermelo"},{"$nulls":7},{"$f":"Instellingen!B38","v":"Nunspeet"},{"$nulls":7},{"$f":"Instellingen!B39","v":0},{"$nulls":7},{"$f":"Instellingen!B40","v":0},{"$nulls":7},{"$f":"Instellingen!B41","v":0},{"$nulls":7},"Dressuur",{"$nulls":5},"Pnt. 60% regel",null,null,180]
[{"$nulls":5},"Datum:",{"$f":"Instellingen!C36","v":"06 jun 2022"},{"$nulls":7},{"$f":"Instellingen!C37","v":"18 jun 2022"},{"$nulls":7},{"$f":"Instellingen!C38","v":"02 jul 2022"},{"$nulls":7},{"$f":"Instellingen!C39","v":" "},{"$nulls":7},{"$f":"Instellingen!C40","v":" "},{"$nulls":7},{"$f":"Instellingen!C41","v":" "},{"$nulls":7},"Tot.","Tot.","afval","afval","afval","afval","Beste","Beste"]
["Pl.","Comb.nr.","Ruiter/amazone","Paard/pony","kl.","vereniging","Ring","pnt.C","pnt.H","pnt.tot","ex 1","ex 2","pl.","pl.p.","Ring","pnt.C","pnt.H","pnt.tot.","ex 1","ex 2","pl.","pl.p.","Ring","pnt.C","pnt. H","pnt.tot.","ex 1","ex 2","pl.","pl.p.","Ring","pnt.C","pnt.H","pnt.tot.","ex 1","ex 2","pl.","pl.p.","Ring","pnt.C","pnt.H","pnt.tot.","ex 1","ex 2","pl.","pl.p.","Ring","pnt.C","pnt.H","pnt.tot.","ex 1","ex 2","pl.","pl.p.","pl.pnt","punten","pl.pnt","pl.pnt","punten","punten","pl.pnt","punten","Afv.","Res.","Afv. Regio","opmerking"]
[1,"950516NR","Lindy Rook","Nyatrichta","L2","Noord Veluwe, RV. PSV",7,212.5,0,{"$f":"H9+I9","v":212.5},7,7.5,1,1,5,202,0,{"$f":"P9+Q9","v":202},7,7,2,2,1,213.5,null,{"$f":"X9+Y9","v":213.5},7.5,7.5,4,4,{"$nulls":24},{"$f":"N9+V9+AD9+AL9+AT9+BB9","v":7},{"$f":"J9+R9+Z9+AH9+AP9+AX9","v":628},{"$f":"IF($O$4>0,(LARGE(($N9,$V9,$AD9,$AL9,$AT9,$BB9),1)),\"0\")","v":4},null,213.5,0,{"$f":"BC9-BE9-BF9","v":3},{"$f":"BD9-BG9-BH9","v":414.5},1,null,null,"Kringkampioen"]
[2,"926386MH","Patrieck Van Hoek","Macy Js","L2","Noord Veluwe, RV. PSV",7,205.5,0,205.5,6.5,6.5,2,2,5,202,0,202,7,7,2,2,1,213.5,null,213.5,7.5,8,3,3,{"$nulls":24},7,621,{"$f":"IF($O$4>0,(LARGE(($N10,$V10,$AD10,$AL10,$AT10,$BB10),1)),\"0\")","v":3},null,213.5,0,4,407.5,2]
[3,"909770LS","Helga Schuurman","Lamborghini Jb","L2","Noord Veluwe, RV. PSV",7,202,0,202,7,7,3,3,5,202.5,0,202.5,7,7,1,1,1,195.5,null,195.5,7,7,7,7,{"$nulls":24},11,600,{"$f":"IF($O$4>0,(LARGE(($N11,$V11,$AD11,$AL11,$AT11,$BB11),1)),\"0\")","v":7},null,195.5,0,4,404.5,3]
[4,"950624NR","Lindy Rook","No Nonsense Vdz","L2","Noord Veluwe, RV. PSV",7,200.5,0,200.5,6.5,7,4,4,5,194,0,194,6.5,6.5,5,5,1,218.5,null,218.5,7,8,1,1,{"$nulls":24},10,613,{"$f":"IF($O$4>0,(LARGE(($N12,$V12,$AD12,$AL12,$AT12,$BB12),1)),\"0\")","v":5},null,194,0,5,419,4]
[5,"955068NS","Romy Schaftenaar","Nobility","L2","Schaapskooiruiters, RV.",{"$nulls":3},0,{"$nulls":3},99,5,198.5,0,198.5,7,7,4,4,1,215,null,215,7,8,2,2,{"$nulls":24},105,413.5,{"$f":"IF($O$4>0,(LARGE(($N13,$V13,$AD13,$AL13,$AT13,$BB13),1)),\"0\")","v":99},null,0,0,6,413.5,5]
[6,"888687KH","Angela Hooghordel","Kryptonite","L2","Nunspeetse Ruiterclub, RV.",7,191.5,0,191.5,6.5,6.5,8,8,5,191,0,191,6.5,6.5,7,7,1,199,null,199,6.5,7,5,5,{"$nulls":24},20,581.5,{"$f":"IF($O$4>0,(LARGE(($N14,$V14,$AD14,$AL14,$AT14,$BB14),1)),\"0\")","v":8},null,191.5,0,12,390,6]
[7,"919958MG","Rosan Van de Goor","Massaro","L2","Heuvelruiters, RV.",7,189.5,0,189.5,5,6,10,10,5,191.5,0,191.5,6.5,6.5,6,6,1,198,null,198,6.5,7,6,6,{"$nulls":24},22,579,{"$f":"IF($O$4>0,(LARGE(($N15,$V15,$AD15,$AL15,$AT15,$BB15),1)),\"0\")","v":10},null,189.5,0,12,389.5,null,1]
[8,"926400AR","Maud Rorije","Alert","L2","Horsthoekruiters, RV.",7,193,0,193,6.5,7,6,6,5,182,0,182,6,6.5,10,10,{"$nulls":3},0,{"$nulls":3},99,{"$nulls":24},115,375,{"$f":"IF($O$4>0,(LARGE(($N16,$V16,$AD16,$AL16,$AT16,$BB16),1)),\"0\")","v":99},null,0,0,16,375,null,2]
[9,"932144MK","Anne Klein","Merlin","L2","Heuvelruiters, RV.",7,178.5,0,178.5,6,6.5,13,13,5,182.5,0,182.5,6,6.5,9,9,1,193,null,193,6,7,8,8,{"$nulls":24},30,554,{"$f":"IF($O$4>0,(LARGE(($N17,$V17,$AD17,$AL17,$AT17,$BB17),1)),\"0\")","v":13},null,178.5,0,17,375.5]
[10,"949054KG","Michelle Goedkoop","Kaspar","L2","Nunspeetse Ruiterclub, RV.",7,188.5,0,188.5,6,6.5,11,11,5,191,0,191,6,6.5,8,8,1,191.5,null,191.5,5,6,10,10,{"$nulls":24},29,571,{"$f":"IF($O$4>0,(LARGE(($N18,$V18,$AD18,$AL18,$AT18,$BB18),1)),\"0\")","v":11},null,188.5,0,18,382.5]
[11,"924876QE","Ronja Van Eek","Queverdale Du Fally","L2","WWNA, RV.",7,191,0,191,6.5,7,9,9,5,176.5,0,176.5,6,6,13,13,1,190,null,190,6.5,7,11,11,{"$nulls":24},33,557.5,{"$f":"IF($O$4>0,(LARGE(($N19,$V19,$AD19,$AL19,$AT19,$BB19),1)),\"0\")","v":13},null,176.5,0,20,381]
[12,"822777HN","Aaltje Neijmeijer","Highlight m","L2","Nunspeetse Ruiterclub, RV.",7,186,0,186,5,6.5,12,12,5,180,0,180,6.5,6.5,12,12,{"$nulls":3},0,{"$nulls":3},99,{"$nulls":24},123,366,{"$f":"IF($O$4>0,(LARGE(($N20,$V20,$AD20,$AL20,$AT20,$BB20),1)),\"0\")","v":99},null,0,0,24,366]
[13,"919175LH","Lisa El Hayek","La Schufro","L2","Nunspeetse Ruiterclub, RV.",7,178,0,178,6.5,5,14,14,5,181,0,181,6,6,11,11,1,189,null,189,5,7,14,14,{"$nulls":24},39,548,{"$f":"IF($O$4>0,(LARGE(($N21,$V21,$AD21,$AL21,$AT21,$BB21),1)),\"0\")","v":14},null,178,0,25,370]
[14,"946899NH","Alexandra Hayes","Noblesse Fortuna","L2","Oost-Veluwse R.J.V., RV.",7,177.5,0,177.5,5,5,15,15,5,175.5,0,175.5,6,6,14,14,1,189,null,189,6,7,13,13,{"$nulls":24},42,542,{"$f":"IF($O$4>0,(LARGE(($N22,$V22,$AD22,$AL22,$AT22,$BB22),1)),\"0\")","v":15},null,177.5,0,27,364.5]
[15,"932416MB","Marleen Bronsink","Dansa's Modansa","L2","Heuvelruiters, RV.",7,197,0,197,7,7,5,5,{"$nulls":3},0,{"$nulls":3},99,{"$nulls":3},0,{"$nulls":3},99,{"$nulls":24},203,197,{"$f":"IF($O$4>0,(LARGE(($N23,$V23,$AD23,$AL23,$AT23,$BB23),1)),\"0\")","v":99},null,0,0,104,197]
[16,"901548JV","Benthe Vermeulen","Jorien","L2","Schaapskooiruiters, RV.",7,193,0,193,6,7,7,7,{"$nulls":3},0,{"$nulls":3},99,{"$nulls":3},0,{"$nulls":3},99,{"$nulls":24},205,193,{"$f":"IF($O$4>0,(LARGE(($N24,$V24,$AD24,$AL24,$AT24,$BB24),1)),\"0\")","v":99},null,0,0,106,193]
[17,"914192ZB","Nicole Brummel","Zavanna Stella Fan Aurum",null,"Epe, RV",{"$nulls":3},0,{"$nulls":3},99,{"$nulls":3},0,{"$nulls":3},99,1,192.5,null,192.5,7,7,9,9,{"$nulls":24},207,192.5,{"$f":"IF($O$4>0,(LARGE(($N25,$V25,$AD25,$AL25,$AT25,$BB25),1)),\"0\")","v":99},null,0,0,108,192.5]
[18,"898035KP","Bertil Platte","Kingsman J",null,"Nunspeetse Ruiterclub, RV.",{"$nulls":3},0,{"$nulls":3},99,{"$nulls":3},0,{"$nulls":3},99,1,190,null,190,6.5,7,11,11,{"$nulls":24},209,190,{"$f":"IF($O$4>0,(LARGE(($N26,$V26,$AD26,$AL26,$AT26,$BB26),1)),\"0\")","v":99},null,0,0,110,190]
[19,"915578OL","Ilona van Leussen","obelisque van de vlasgaardhoeve","L2","Schaapskooiruiters, RV.",7,172.5,0,172.5,5,5,16,16,{"$nulls":3},0,{"$nulls":3},99,{"$nulls":3},0,{"$nulls":3},99,{"$nulls":24},214,172.5,{"$f":"IF($O$4>0,(LARGE(($N27,$V27,$AD27,$AL27,$AT27,$BB27),1)),\"0\")","v":99},null,0,0,115,172.5]
[20,"953126PR","Lindy Rook","Pummel","L2","Noord Veluwe, RV. PSV",7,172,0,172,5,5,17,17,{"$nulls":3},0,{"$nulls":3},99,{"$nulls":3},0,{"$nulls":3},99,{"$nulls":24},215,172,{"$f":"IF($O$4>0,(LARGE(($N28,$V28,$AD28,$AL28,$AT28,$BB28),1)),\"0\")","v":99},null,0,0,116,172]
[21,"732804EI","Lisanne Van Ittersum","Ezra Joline","L2","Marleruiters, RV.",7,0,0,0,null,null,18,90,{"$nulls":3},0,{"$nulls":3},99,{"$nulls":3},0,{"$nulls":3},99,{"$nulls":24},288,0,{"$f":"IF($O$4>0,(LARGE(($N29,$V29,$AD29,$AL29,$AT29,$BB29),1)),\"0\")","v":99},null,0,0,189,0]

{"sheet":"L1 - L2","index":4,"n_rows":8,"n_cols":66,"rows_kept":8,"hidden":true,"merged":[[0,0,0,65],[2,0,2,1],[2,2,2,4],[2,5,2,13],[2,14,2,21],[2,22,4,53],[2,54,2,62],[2,65,6,65],[3,0,3,1],[3,2,3,4],[3,5,3,13],[3,14,3,21],[3,54,3,62],[4,0,4,1],[4,2,4,4],[4,5,4,13],[4,14,4,21],[4,54,4,62],[5,0,6,4],[5,6,5,13],[5,14,5,21],[5,22,5,29],[5,30,5,37],[5,38,5,45],[5,46,5,53],[5,54,5,59],[6,6,6,13],[6,14,6,21],[6,22,6,29],[6,30,6,37],[6,38,6,45],[6,46,6,53]]}
["Selectie uitslagen"]
[null,null,1,{"$f":"FLOOR((C2+3)/4,1)","v":1},null,null,192,192,190,{"$f":"H2+I2","v":382},{"$nulls":3},1,193,193,193,{"$f":"P2+Q2","v":386},{"$nulls":3},2,198,198,198,{"$f":"X2+Y2","v":396},{"$nulls":3},3,177,177,177,{"$f":"AF2+AG2","v":354},{"$nulls":3},4,178,178,178,{"$f":"AN2+AO2","v":356},{"$nulls":3},5,179,179,179,{"$f":"AV2+AW2","v":358},{"$nulls":3},6,{"$f":"N2+V2+AD2+AL2+AT2+BB2","v":21},{"$f":"J2+R2+Z2+AH2+AP2+AX2","v":2232},{"$f":"IF($O$4>0,(LARGE(($N2,$V2,$AD2,$AL2,$AT2,$BB2),1)),\"0\")","v":6},{"$f":"IF($O$4>0,(LARGE(($N2,$V2,$AD2,$AL2,$AT2,$BB2),2)),\"0\")","v":5},354,354,{"$f":"BC2-BE2-BF2","v":10},{"$f":"BD2-BG2-BH2","v":1524}]
["Kring:",null,{"$f":"Instellingen!B3","v":"Kring NVF"},{"$nulls":51},"Aantal wedstrijden:",{"$nulls":8},{"$f":"Instellingen!B6","v":3}]
["Klasse:",null,"L1 - L2",null,null,"Aantal afval resultaten:",{"$nulls":8},{"$f":"Instellingen!B7","v":1}]
["Cat.:",{"$nulls":4},"Plaatsingspunten niet gestart:",{"$nulls":8},{"$f":"Instellingen!B5","v":99}]
[{"$nulls":5},"Lokatie:",{"$f":"Instellingen!B36","v":"Hattem"},{"$nulls":7},{"$f":"Instellingen!B37","v":"Ermelo"},{"$nulls":7},{"$f":"Instellingen!B38","v":"Nunspeet"},{"$nulls":7},{"$f":"Instellingen!B39","v":0},{"$nulls":7},{"$f":"Instellingen!B40","v":0},{"$nulls":7},{"$f":"Instellingen!B41","v":0},{"$nulls":7},"Dressuur"]
[{"$nulls":5},"Datum:",{"$f":"Instellingen!C36","v":"06 jun 2022"},{"$nulls":7},{"$f":"Instellingen!C37","v":"18 jun 2022"},{"$nulls":7},{"$f":"Instellingen!C38","v":"02 jul 2022"},{"$nulls":7},{"$f":"Instellingen!C39","v":" "},{"$nulls":7},{"$f":"Instellingen!C40","v":" "},{"$nulls":7},{"$f":"Instellingen!C41","v":" "},{"$nulls":7},"Tot.","Tot.","afval","afval","afval","afval","Beste","Beste"]
["Pl.","Comb.nr.","Ruiter/amazone","Paard/pony","kl.","vereniging","Ring","pnt.C","pnt.H","pnt.tot","ex 1","ex 2","pl.","pl.p.","Ring","pnt.C","pnt.H","pnt.tot.","ex 1","ex 2","pl.","pl.p.","Ring","pnt.C","pnt. H","pnt.tot.","ex 1","ex 2","pl.","pl.p.","Ring","pnt.C","pnt.H","pnt.tot.","ex 1","ex 2","pl.","pl.p.","Ring","pnt.C","pnt.H","pnt.tot.","ex 1","ex 2","pl.","pl.p.","Ring","pnt.C","pnt.H","pnt.tot.","ex 1","ex 2","pl.","pl.p.","pl.pnt","punten","pl.pnt","pl.pnt","punten","punten","pl.pnt","punten","Afv.","Res.",null,"opmerking"]

{"sheet":"M1","index":5,"n_rows":27,"n_cols":66,"rows_kept":27,"merged":[[0,0,0,65],[2,0,2,1],[2,2,2,4],[2,5,2,13],[2,14,2,21],[2,22,4,53],[2,54,2,62],[2,64,6,65],[3,0,3,1],[3,2,3,4],[3,5,3,13],[3,14,3,21],[3,54,3,62],[4,0,4,1],[4,2,4,4],[4,5,4,13],[4,14,4,21],[4,54,4,62],[5,0,6,4],[5,6,5,13],[5,14,5,21],[5,22,5,29],[5,30,5,37],[5,38,5,45],[5,46,5,53],[5,54,5,59],[6,6,6,13],[6,14,6,21],[6,22,6,29],[6,30,6,37],[6,38,6,45],[6,46,6,53]]}
["Selectie uitslagen"]
[null,null,1,{"$f":"FLOOR((C2+3)/4,1)","v":1},{"$nulls":3},192,190,{"$f":"H2+I2","v":382},{"$nulls":3},1,null,193,193,{"$f":"P2+Q2","v":386},{"$nulls":3},2,null,198,198,{"$f":"X2+Y2","v":396},{"$nulls":3},3,null,177,177,{"$f":"AF2+AG2","v":354},{"$nulls":3},4,null,178,178,{"$f":"AN2+AO2","v":356},{"$nulls":3},5,null,179,179,{"$f":"AV2+AW2","v":358},{"$nulls":3},6,{"$f":"N2+V2+AD2+AL2+AT2+BB2","v":21},{"$f":"J2+R2+Z2+AH2+AP2+AX2","v":2232},{"$f":"IF($O$4>0,(LARGE(($N2,$V2,$AD2,$AL2,$AT2,$BB2),1)),\"0\")","v":6},{"$f":"IF($O$4>0,(LARGE(($N2,$V2,$AD2,$AL2,$AT2,$BB2),2)),\"0\")","v":5},354,354,{"$f":"BC2-BE2-BF2","v":10},{"$f":"BD2-BG2-BH2","v":1524}]
["Kring:",null,{"$f":"Instellingen!B3","v":"Kring NVF"},null,null,"Aantal afvaardiging Regio:",{"$nulls":8},7,{"$nulls":39},"Aantal wedstrijden:",{"$nulls":8},{"$f":"Instellingen!B6","v":3}]
["Klasse:",null,"M1",null,null,"Aantal afval resultaten:",{"$nulls":8},{"$f":"Instellingen!B7","v":1}]
["Cat.:",{"$nulls":4},"Plaatsingspunten niet gestart:",{"$nulls":8},{"$f":"Instellingen!B5","v":99},{"$nulls":39},"Aantal reserves:",{"$nulls":8},2]
[{"$nulls":5},"Lokatie:",{"$f":"Instellingen!B36","v":"Hattem"},{"$nulls":7},{"$f":"Instellingen!B37","v":"Ermelo"},{"$nulls":7},{"$f":"Instellingen!B38","v":"Nunspeet"},{"$nulls":7},{"$f":"Instellingen!B39","v":0},{"$nulls":7},{"$f":"Instellingen!B40","v":0},{"$nulls":7},{"$f":"Instellingen!B41","v":0},{"$nulls":7},"Dressuur",{"$nulls":5},"Pnt. 60% regel",null,null,180]
[{"$nulls":5},"Datum:",{"$f":"Instellingen!C36","v":"06 jun 2022"},{"$nulls":7},{"$f":"Instellingen!C37","v":"18 jun 2022"},{"$nulls":7},{"$f":"Instellingen!C38","v":"02 jul 2022"},{"$nulls":7},{"$f":"Instellingen!C39","v":" "},{"$nulls":7},{"$f":"Instellingen!C40","v":" "},{"$nulls":7},{"$f":"Instellingen!C41","v":" "},{"$nulls":7},"Tot.","Tot.","afval","afval","afval","afval","Beste","Beste"]
["Pl.","Comb.nr.","Ruiter/amazone","Paard/pony","kl.","vereniging","Ring","pnt.C","pnt.H","pnt.tot","ex 1","ex 2","pl.","pl.p.","Ring","pnt.C","pnt.H","pnt.tot.","ex 1","ex 2","pl.","pl.p.","Ring","pnt.C","pnt. H","pnt.tot.","ex 1","ex 2","pl.","pl.p.","Ring","pnt.C","pnt.H","pnt.tot.","ex 1","ex 2","pl.","pl.p.","Ring","pnt.C","pnt.H","pnt.tot.","ex 1","ex 2","pl.","pl.p.","Ring","pnt.C","pnt.H","pnt.tot.","ex 1","ex 2","pl.","pl.p.","pl.pnt","punten","pl.pnt","pl.pnt","punten","punten","pl.pnt","punten","Afv.","Res.","Afv. Regio","opmerking"]
[1,"897187LG","Rosan Van de Goor","Lavendel","M1","Heuvelruiters, RV.",3,201.5,0,{"$f":"H9+I9","v":201.5},7.5,6,5,5,5,212,0,{"$f":"P9+Q9","v":212},7.5,7.5,1,1,3,215.5,null,{"$f":"X9+Y9","v":215.5},7.5,8,1,1,{"$nulls":24},{"$f":"N9+V9+AD9+AL9+AT9+BB9","v":7},{"$f":"J9+R9+Z9+AH9+AP9+AX9","v":629},{"$f":"IF($O$4>0,(LARGE(($N9,$V9,$AD9,$AL9,$AT9,$BB9),1)),\"0\")","v":5},null,201.5,0,{"$f":"BC9-BE9-BF9","v":2},{"$f":"BD9-BG9-BH9","v":427.5},1,null,null,"Kringkampioen"]
[2,"904458KB","Indy van de Beeten","King Kayrac","M1","Randmeerruiters, RV. De",3,215,0,215,8,8,1,1,5,211,0,211,7,7.5,2,2,3,189.5,null,189.5,7,7,5,5,{"$nulls":24},8,615.5,{"$f":"IF($O$4>0,(LARGE(($N10,$V10,$AD10,$AL10,$AT10,$BB10),1)),\"0\")","v":5},null,189.5,0,3,426,2]
[3,"905423KK","Femke Groeneveld - Van de Kolk","King Of Fira","M1","Randmeerruiters, RV. De",3,208,0,208,7.5,7.5,3,3,5,203.5,0,203.5,6,6.5,6,6,3,193,null,193,6.5,7,2,2,{"$nulls":24},11,604.5,{"$f":"IF($O$4>0,(LARGE(($N11,$V11,$AD11,$AL11,$AT11,$BB11),1)),\"0\")","v":6},null,203.5,0,5,401,3]
[4,"884764KG","Anna Te Grotenhuis","King Arthur","M1","Heuvelruiters, RV.",3,210,0,210,7,7.5,2,2,5,210,0,210,7,7,3,3,{"$nulls":3},0,{"$nulls":3},99,{"$nulls":24},104,420,{"$f":"IF($O$4>0,(LARGE(($N12,$V12,$AD12,$AL12,$AT12,$BB12),1)),\"0\")","v":99},null,0,0,5,420,4]
[5,"927477JG","Iris Groeneveld","Just-In Case","M1","Randmeerruiters, RV. De",3,208,0,208,7,7.5,4,4,5,205,0,205,6.5,7,5,5,3,192.5,null,192.5,7,7,3,3,{"$nulls":24},12,605.5,{"$f":"IF($O$4>0,(LARGE(($N13,$V13,$AD13,$AL13,$AT13,$BB13),1)),\"0\")","v":5},null,205,0,7,400.5,5]
[6,"910057GK","Pascalle De Klerk","Gucci","M1","Cannenburgh, RV. HV. De",3,196.5,0,196.5,6.5,7,7,7,{"$nulls":3},0,{"$nulls":3},99,3,183.5,null,183.5,6,6.5,6,6,{"$nulls":24},112,380,{"$f":"IF($O$4>0,(LARGE(($N14,$V14,$AD14,$AL14,$AT14,$BB14),1)),\"0\")","v":99},null,0,0,13,380,6]
[7,"936196ME","Daphne Enter","Most Wanted","M1","Heuvelruiters, RV.",3,198.5,0,198.5,6.5,7,6,6,5,201,0,201,6.5,7,7,7,3,173,null,173,5,6,11,11,{"$nulls":24},24,572.5,{"$f":"IF($O$4>0,(LARGE(($N15,$V15,$AD15,$AL15,$AT15,$BB15),1)),\"0\")","v":11},null,173,0,13,399.5,7]
[8,"824172DM","Jeanne Meijer","Double Coloured Cato","M1","Heuvelruiters, RV.",3,182.5,0,182.5,6,6.5,10,10,5,189.5,0,189.5,6,6.5,10,10,3,191.5,null,191.5,6.5,6.5,4,4,{"$nulls":24},24,563.5,{"$f":"IF($O$4>0,(LARGE(($N16,$V16,$AD16,$AL16,$AT16,$BB16),1)),\"0\")","v":10},null,182.5,0,14,381,null,1]
[9,"863302JV","Monique Vrolijken","Jeason","M1","Heuvelruiters, RV.",{"$nulls":3},0,{"$nulls":3},99,5,209,0,209,7,7,4,4,3,177,null,177,6,6.5,10,10,{"$nulls":24},113,386,{"$f":"IF($O$4>0,(LARGE(($N17,$V17,$AD17,$AL17,$AT17,$BB17),1)),\"0\")","v":99},null,0,0,14,386,null,2]
[10,"924177TB","Nicole Brummel","Tsjikke van West-Raven","M1","Epe, RV. HV.",3,195,0,195,7,6.5,8,8,5,197,0,197,6,6.5,8,8,3,181,null,181,6,7,8,8,{"$nulls":24},24,573,{"$f":"IF($O$4>0,(LARGE(($N18,$V18,$AD18,$AL18,$AT18,$BB18),1)),\"0\")","v":8},null,181,0,16,392]
[11,"924475LK","Annemieke Kool","Lincoln","M1","Heuvelruiters, RV.",3,186.5,0,186.5,6,6,9,9,{"$nulls":3},0,{"$nulls":3},99,3,180.5,null,180.5,6,6.5,9,9,{"$nulls":24},117,367,{"$f":"IF($O$4>0,(LARGE(($N19,$V19,$AD19,$AL19,$AT19,$BB19),1)),\"0\")","v":99},null,0,0,18,367]
[12,"882136WB","Carola Klaassen","Wiltink's Laurus Nobilis","M1","Nunspeetse Ruiterclub, RV.",3,172,0,172,6,6,12,12,5,181.5,0,181.5,6,6,13,13,3,183,null,183,6,6.5,7,7,{"$nulls":24},32,536.5,{"$f":"IF($O$4>0,(LARGE(($N20,$V20,$AD20,$AL20,$AT20,$BB20),1)),\"0\")","v":13},null,181.5,0,19,355]
[13,"834285JD","Yvonne Dreierink","Jibaro","M1","Oost-Veluwse R.J.V., RV.",3,160.5,0,160.5,6,6,15,15,5,172,0,172,6,6,14,14,3,155,null,155,5,6,12,12,{"$nulls":24},41,487.5,{"$f":"IF($O$4>0,(LARGE(($N21,$V21,$AD21,$AL21,$AT21,$BB21),1)),\"0\")","v":15},null,160.5,0,26,327]
[14,"950201DB","Simone Bos","Damaso de Jeu KH","M1","Koopman Horses",{"$nulls":3},0,{"$nulls":3},99,5,195,0,195,6,6.5,9,9,{"$nulls":3},0,{"$nulls":3},99,{"$nulls":24},207,195,{"$f":"IF($O$4>0,(LARGE(($N22,$V22,$AD22,$AL22,$AT22,$BB22),1)),\"0\")","v":99},null,0,0,108,195]
[15,"873560JS","Karen Schutte","June","M1","Ruiter Club Riant, RV.",{"$nulls":3},0,{"$nulls":3},99,5,189.5,0,189.5,6,6.5,10,10,{"$nulls":3},0,{"$nulls":3},99,{"$nulls":24},208,189.5,{"$f":"IF($O$4>0,(LARGE(($N23,$V23,$AD23,$AL23,$AT23,$BB23),1)),\"0\")","v":99},null,0,0,109,189.5]
[16,"885041JN","Jacqueline Niers","Janita","M1","Nunspeetse Ruiterclub, RV.",3,174.5,0,174.5,5,6,11,11,{"$nulls":3},0,{"$nulls":3},99,{"$nulls":3},0,{"$nulls":3},99,{"$nulls":24},209,174.5,{"$f":"IF($O$4>0,(LARGE(($N24,$V24,$AD24,$AL24,$AT24,$BB24),1)),\"0\")","v":99},null,0,0,110,174.5]
[17,"908083KL","Linda Koopman - Lammers","Kaunrebi","M1","Koopman Horses",{"$nulls":3},0,{"$nulls":3},99,5,187,0,187,5,6.5,12,12,{"$nulls":3},0,{"$nulls":3},99,{"$nulls":24},210,187,{"$f":"IF($O$4>0,(LARGE(($N25,$V25,$AD25,$AL25,$AT25,$BB25),1)),\"0\")","v":99},null,0,0,111,187]
[18,"850521WB","Jolita Bekhof","Wies","M1","Heuvelruiters, RV.",3,165,0,165,6,6,13,13,{"$nulls":3},0,{"$nulls":3},99,{"$nulls":3},0,{"$nulls":3},99,{"$nulls":24},211,165,{"$f":"IF($O$4>0,(LARGE(($N26,$V26,$AD26,$AL26,$AT26,$BB26),1)),\"0\")","v":99},null,0,0,112,165]
[19,"802604DO","Ingrid van Oppen","deja vu vdz","M1","Noord Veluwe, RV. PSV",3,162.5,0,162.5,5,6,14,14,{"$nulls":3},0,{"$nulls":3},99,{"$nulls":3},0,{"$nulls":3},99,{"$nulls":24},212,162.5,{"$f":"IF($O$4>0,(LARGE(($N27,$V27,$AD27,$AL27,$AT27,$BB27),1)),\"0\")","v":99},null,0,0,113,162.5]

{"sheet":"M2","index":6,"n_rows":21,"n_cols":66,"rows_kept":21,"merged":[[0,0,0,65],[2,0,2,1],[2,2,2,4],[2,5,2,13],[2,14,2,21],[2,22,4,53],[2,54,2,62],[2,64,6,65],[3,0,3,1],[3,2,3,4],[3,5,3,13],[3,14,3,21],[3,54,3,62],[4,0,4,1],[4,2,4,4],[4,5,4,13],[4,14,4,21],[4,54,4,62],[5,0,6,4],[5,6,5,13],[5,14,5,21],[5,22,5,29],[5,30,5,37],[5,38,5,45],[5,46,5,53],[5,54,5,59],[6,6,6,13],[6,14,6,21],[6,22,6,29],[6,30,6,37],[6,38,6,45],[6,46,6,53]]}
["Selectie uitslagen"]
[null,null,1,{"$f":"FLOOR((C2+3)/4,1)","v":1},{"$nulls":3},192,190,{"$f":"H2+I2","v":382},{"$nulls":3},1,null,193,193,{"$f":"P2+Q2","v":386},{"$nulls":3},2,null,198,198,{"$f":"X2+Y2","v":396},{"$nulls":3},3,null,177,177,{"$f":"AF2+AG2","v":354},{"$nulls":3},4,null,178,178,{"$f":"AN2+AO2","v":356},{"$nulls":3},5,null,179,179,{"$f":"AV2+AW2","v":358},{"$nulls":3},6,{"$f":"N2+V2+AD2+AL2+AT2+BB2","v":21},{"$f":"J2+R2+Z2+AH2+AP2+AX2","v":2232},{"$f":"IF($O$4>0,(LARGE(($N2,$V2,$AD2,$AL2,$AT2,$BB2),1)),\"0\")","v":6},{"$f":"IF($O$4>0,(LARGE(($N2,$V2,$AD2,$AL2,$AT2,$BB2),2)),\"0\")","v":5},354,354,{"$f":"BC2-BE2-BF2","v":10},{"$f":"BD2-BG2-BH2","v":1524}]
["Kring:",null,{"$f":"Instellingen!B3","v":"Kring NVF"},null,null,"Aantal afvaardiging Regio:",{"$nulls":8},8,{"$nulls":39},"Aantal wedstrijden:",{"$nulls":8},{"$f":"Instellingen!B6","v":3}]
["Klasse:",null,"M2",null,null,"Aantal afval resultaten:",{"$nulls":8},{"$f":"Instellingen!B7","v":1}]
["Cat.:",{"$nulls":4},"Plaatsingspunten niet gestart:",{"$nulls":8},{"$f":"Instellingen!B5","v":99},{"$nulls":39},"Aantal reserves:",{"$nulls":8},2]
[{"$nulls":5},"Lokatie:",{"$f":"Instellingen!B36","v":"Hattem"},{"$nulls":7},{"$f":"Instellingen!B37","v":"Ermelo"},{"$nulls":7},{"$f":"Instellingen!B38","v":"Nunspeet"},{"$nulls":7},{"$f":"Instellingen!B39","v":0},{"$nulls":7},{"$f":"Instellingen!B40","v":0},{"$nulls":7},{"$f":"Instellingen!B41","v":0},{"$nulls":7},"Dressuur",{"$nulls":5},"Pnt. 60% regel",null,null,180]
[{"$nulls":5},"Datum:",{"$f":"Instellingen!C36","v":"06 jun 2022"},{"$nulls":7},{"$f":"Instellingen!C37","v":"18 jun 2022"},{"$nulls":7},{"$f":"Instellingen!C38","v":"02 jul 2022"},{"$nulls":7},{"$f":"Instellingen!C39","v":" "},{"$nulls":7},{"$f":"Instellingen!C40","v":" "},{"$nulls":7},{"$f":"Instellingen!C41","v":" "},{"$nulls":7},"Tot.","Tot.","afval","afval","afval","afval","Beste","Beste"]
["Pl.","Comb.nr.","Ruiter/amazone","Paard/pony","kl.","vereniging","Ring","pnt.C","pnt.H","pnt.tot","ex 1","ex 2","pl.","pl.p.","Ring","pnt.C","pnt.H","pnt.tot.","ex 1","ex 2","pl.","pl.p.","Ring","pnt.C","pnt. H","pnt.tot.","ex 1","ex 2","pl.","pl.p.","Ring","pnt.C","pnt.H","pnt.tot.","ex 1","ex 2","pl.","pl.p.","Ring","pnt.C","pnt.H","pnt.tot.","ex 1","ex 2","pl.","pl.p.","Ring","pnt.C","pnt.H","pnt.tot.","ex 1","ex 2","pl.","pl.p.","pl.pnt","punten","pl.pnt","pl.pnt","punten","punten","pl.pnt","punten","Afv.","Res.","Afv. Regio","opmerking"]
[1,"904477LW","Stefanie Waaijenberg","Lago Maggiore","M2","Nunspeetse Ruiterclub, RV.",5,214.5,0,{"$f":"H9+I9","v":214.5},6.5,7,1,1,1,207,0,{"$f":"P9+Q9","v":207},7,8,1,1,{"$nulls":3},{"$f":"X9+Y9","v":0},{"$nulls":3},99,{"$nulls":24},{"$f":"N9+V9+AD9+AL9+AT9+BB9","v":101},{"$f":"J9+R9+Z9+AH9+AP9+AX9","v":421.5},{"$f":"IF($O$4>0,(LARGE(($N9,$V9,$AD9,$AL9,$AT9,$BB9),1)),\"0\")","v":99},null,0,0,{"$f":"BC9-BE9-BF9","v":2},{"$f":"BD9-BG9-BH9","v":421.5},1,null,null,"Kringkampioen"]
[2,"938773MP","Kimberly Pap","Martinez","M2","Nunspeetse Ruiterclub, RV.",5,212.5,0,212.5,7,9,2,2,1,206,0,206,7.5,8,2,2,{"$nulls":3},0,{"$nulls":3},99,{"$nulls":24},103,418.5,{"$f":"IF($O$4>0,(LARGE(($N10,$V10,$AD10,$AL10,$AT10,$BB10),1)),\"0\")","v":99},null,0,0,4,418.5,2]
[3,"930770DG","Marjolein Gevaert","Dansa's La Morka","M2","Heuvelruiters, RV.",5,205.5,0,205.5,7.5,7.5,3,3,{"$nulls":3},0,{"$nulls":3},99,3,191.5,null,191.5,7,7,2,2,{"$nulls":24},104,397,{"$f":"IF($O$4>0,(LARGE(($N11,$V11,$AD11,$AL11,$AT11,$BB11),1)),\"0\")","v":99},null,0,0,5,397,3]
[4,"911836HB","Kiki Bleeker","Handsome","M2","Nunspeetse Ruiterclub, RV.",{"$nulls":3},0,{"$nulls":3},99,1,187,0,187,6,6.5,6,6,3,193.5,null,193.5,6.5,7,1,1,{"$nulls":24},106,380.5,{"$f":"IF($O$4>0,(LARGE(($N12,$V12,$AD12,$AL12,$AT12,$BB12),1)),\"0\")","v":99},null,0,0,7,380.5,4]
[5,"903165LR","Miranda Riezebos","L Patron S","M2","WWNA, RV.",5,180.5,0,180.5,6,6.5,4,4,1,203.5,0,203.5,7,6.5,3,3,3,180.5,null,180.5,6.5,7,4,4,{"$nulls":24},11,564.5,{"$f":"IF($O$4>0,(LARGE(($N13,$V13,$AD13,$AL13,$AT13,$BB13),1)),\"0\")","v":4},null,180.5,0,7,384,5]
[6,"766513BB","Fleur Berkhof","Bambino DB","M2","Cannenburgh, RV. HV. De",5,174,0,174,6,6,7,7,1,180,0,180,7,6.5,7,7,3,182,null,182,7,7.5,3,3,{"$nulls":24},17,536,{"$f":"IF($O$4>0,(LARGE(($N14,$V14,$AD14,$AL14,$AT14,$BB14),1)),\"0\")","v":7},null,174,0,10,362,6,null,null,"Dispensatie"]
[7,"725964FB","Marloes Buitenhuis","Fast Forward","M2","Schaapskooiruiters, RV.",5,179,0,179,6.5,6.5,5,5,{"$nulls":3},0,{"$nulls":3},99,3,180,null,180,6.5,7,5,5,{"$nulls":24},109,359,{"$f":"IF($O$4>0,(LARGE(($N15,$V15,$AD15,$AL15,$AT15,$BB15),1)),\"0\")","v":99},null,0,0,10,359,7]
[8,"923199LA","Chantal Van Ark","Lexmary","M2","Randmeerruiters, RV. De",5,176.5,0,176.5,6,6.5,6,6,1,195.5,0,195.5,7.5,7,5,5,{"$nulls":3},0,{"$nulls":3},99,{"$nulls":24},110,372,{"$f":"IF($O$4>0,(LARGE(($N16,$V16,$AD16,$AL16,$AT16,$BB16),1)),\"0\")","v":99},null,0,0,11,372,8,null,"nee","Afgemeldt"]
[9,"705439FH","Jet Hanekamp","Flip","M2","Cannenburgh, RV. HV. De",5,160.5,0,160.5,5,5,9,9,{"$nulls":3},0,{"$nulls":3},99,3,171.5,null,171.5,5,6.5,6,6,{"$nulls":24},114,332,{"$f":"IF($O$4>0,(LARGE(($N17,$V17,$AD17,$AL17,$AT17,$BB17),1)),\"0\")","v":99},null,0,0,15,332]
[10,"846763JE","Driesina Rebel - Van Engelen","Jandré","M2","Nunspeetse Ruiterclub, RV.",{"$nulls":3},0,{"$nulls":3},99,1,201,0,201,7,7,4,4,{"$nulls":3},0,{"$nulls":3},99,{"$nulls":24},202,201,{"$f":"IF($O$4>0,(LARGE(($N18,$V18,$AD18,$AL18,$AT18,$BB18),1)),\"0\")","v":99},null,0,0,103,201]
[11,"901381KR","Satu Pleijter - Rahikka","Kristal Lady","M2","Noord Veluwe, RV. PSV",{"$nulls":3},0,{"$nulls":3},99,1,180,0,180,5.5,6.5,8,8,{"$nulls":3},0,{"$nulls":3},99,{"$nulls":24},206,180,{"$f":"IF($O$4>0,(LARGE(($N19,$V19,$AD19,$AL19,$AT19,$BB19),1)),\"0\")","v":99},null,0,0,107,180]
[12,"784627AB","Diana Boom","Anna Diva","M2","Cannenburgh, RV. HV. De",5,161,0,161,5,5,8,8,{"$nulls":3},0,{"$nulls":3},99,{"$nulls":3},0,{"$nulls":3},99,{"$nulls":24},206,161,{"$f":"IF($O$4>0,(LARGE(($N20,$V20,$AD20,$AL20,$AT20,$BB20),1)),\"0\")","v":99},null,0,0,107,161]
[13,"868242HM","Marjon Melessen","Hit","M2","Lelyruiters, RV.",{"$nulls":3},0,{"$nulls":3},99,1,170,0,170,5.5,6,9,9,{"$nulls":3},0,{"$nulls":3},99,{"$nulls":24},207,170,{"$f":"IF($O$4>0,(LARGE(($N21,$V21,$AD21,$AL21,$AT21,$BB21),1)),\"0\")","v":99},null,0,0,108,170]

{"sheet":"M1 - M2","index":7,"n_rows":8,"n_cols":66,"rows_kept":8,"hidden":true,"merged":[[0,0,0,65],[2,0,2,1],[2,2,2,4],[2,5,2,13],[2,14,2,21],[2,22,4,53],[2,54,2,62],[2,65,6,65],[3,0,3,1],[3,2,3,4],[3,5,3,13],[3,14,3,21],[3,54,3,62],[4,0,4,1],[4,2,4,4],[4,5,4,13],[4,14,4,21],[4,54,4,62],[5,0,6,4],[5,6,5,13],[5,14,5,21],[5,22,5,29],[5,30,5,37],[5,38,5,45],[5,46,5,53],[5,54,5,59],[6,6,6,13],[6,14,6,21],[6,22,6,29],[6,30,6,37],[6,38,6,45],[6,46,6,53]]}
["Selectie uitslagen"]
[null,null,1,{"$f":"FLOOR((C2+3)/4,1)","v":1},null,null,192,192,190,{"$f":"H2+I2","v":382},{"$nulls":3},1,193,193,193,{"$f":"P2+Q2","v":386},{"$nulls":3},2,198,198,198,{"$f":"X2+Y2","v":396},{"$nulls":3},3,177,177,177,{"$f":"AF2+AG2","v":354},{"$nulls":3},4,178,178,178,{"$f":"AN2+AO2","v":356},{"$nulls":3},5,179,179,179,{"$f":"AV2+AW2","v":358},{"$nulls":3},6,{"$f":"N2+V2+AD2+AL2+AT2+BB2","v":21},{"$f":"J2+R2+Z2+AH2+AP2+AX2","v":2232},{"$f":"IF($O$4>0,(LARGE(($N2,$V2,$AD2,$AL2,$AT2,$BB2),1)),\"0\")","v":6},{"$f":"IF($O$4>0,(LARGE(($N2,$V2,$AD2,$AL2,$AT2,$BB2),2)),\"0\")","v":5},354,354,{"$f":"BC2-BE2-BF2","v":10},{"$f":"BD2-BG2-BH2","v":1524}]
["Kring:",null,{"$f":"Instellingen!B3","v":"Kring NVF"},{"$nulls":51},"Aantal wedstrijden:",{"$nulls":8},{"$f":"Instellingen!B6","v":3}]
["Klasse:",null,"M1 - M2",null,null,"Aantal afval resultaten:",{"$nulls":8},{"$f":"Instellingen!B7","v":1}]
["Cat.:",{"$nulls":4},"Plaatsingspunten niet gestart:",{"$nulls":8},{"$f":"Instellingen!B5","v":99}]
[{"$nulls":5},"Lokatie:",{"$f":"Instellingen!B36","v":"Hattem"},{"$nulls":7},{"$f":"Instellingen!B37","v":"Ermelo"},{"$nulls":7},{"$f":"Instellingen!B38","v":"Nunspeet"},{"$nulls":7},{"$f":"Instellingen!B39","v":0},{"$nulls":7},{"$f":"Instellingen!B40","v":0},{"$nulls":7},{"$f":"Instellingen!B41","v":0},{"$nulls":7},"Dressuur"]
[{"$nulls":5},"Datum:",{"$f":"Instellingen!C36","v":"06 jun 2022"},{"$nulls":7},{"$f":"Instellingen!C37","v":"18 jun 2022"},{"$nulls":7},{"$f":"Instellingen!C38","v":"02 jul 2022"},{"$nulls":7},{"$f":"Instellingen!C39","v":" "},{"$nulls":7},{"$f":"Instellingen!C40","v":" "},{"$nulls":7},{"$f":"Instellingen!C41","v":" "},{"$nulls":7},"Tot.","Tot.","afval","afval","afval","afval","Beste","Beste"]
["Pl.","Comb.nr.","Ruiter/amazone","Paard/pony","kl.","vereniging","Ring","pnt.C","pnt.H","pnt.tot","ex 1","ex 2","pl.","pl.p.","Ring","pnt.C","pnt.H","pnt.tot.","ex 1","ex 2","pl.","pl.p.","Ring","pnt.C","pnt. H","pnt.tot.","ex 1","ex 2","pl.","pl.p.","Ring","pnt.C","pnt.H","pnt.tot.","ex 1","ex 2","pl.","pl.p.","Ring","pnt.C","pnt.H","pnt.tot.","ex 1","ex 2","pl.","pl.p.","Ring","pnt.C","pnt.H","pnt.tot.","ex 1","ex 2","pl.","pl.p.","pl.pnt","punten","pl.pnt","pl.pnt","punten","punten","pl.pnt","punten","Afv.","Res.",null,"opmerking"]

{"sheet":"Z1","index":8,"n_rows":32,"n_cols":66,"rows_kept":32,"merged":[[0,0,0,65],[2,0,2,1],[2,2,2,4],[2,5,2,13],[2,14,2,21],[2,22,4,53],[2,54,2,62],[2,64,6,65],[3,0,3,1],[3,2,3,4],[3,5,3,13],[3,14,3,21],[3,54,3,62],[4,0,4,1],[4,2,4,4],[4,5,4,13],[4,14,4,21],[4,54,4,62],[5,0,6,4],[5,6,5,13],[5,14,5,21],[5,22,5,29],[5,30,5,37],[5,38,5,45],[5,46,5,53],[5,54,5,59],[6,6,6,13],[6,14,6,21],[6,22,6,29],[6,30,6,37],[6,38,6,45],[6,46,6,53]]}
["Selectie uitslagen"]
[null,null,1,{"$f":"FLOOR((C2+3)/4,1)","v":1},{"$nulls":3},192,190,{"$f":"H2+I2","v":382},{"$nulls":3},1,null,193,193,{"$f":"P2+Q2","v":386},{"$nulls":3},2,null,198,198,{"$f":"X2+Y2","v":396},{"$nulls":3},3,null,177,177,{"$f":"AF2+AG2","v":354},{"$nulls":3},4,null,178,178,{"$f":"AN2+AO2","v":356},{"$nulls":3},5,null,179,179,{"$f":"AV2+AW2","v":358},{"$nulls":3},6,{"$f":"N2+V2+AD2+AL2+AT2+BB2","v":21},{"$f":"J2+R2+Z2+AH2+AP2+AX2","v":2232},{"$f":"IF($O$4>0,(LARGE(($N2,$V2,$AD2,$AL2,$AT2,$BB2),1)),\"0\")","v":6},{"$f":"IF($O$4>0,(LARGE(($N2,$V2,$AD2,$AL2,$AT2,$BB2),2)),\"0\")","v":5},354,354,{"$f":"BC2-BE2-BF2","v":10},{"$f":"BD2-BG2-BH2","v":1524}]
["Kring:",null,{"$f":"Instellingen!B3","v":"Kring NVF"},null,null,"Aantal afvaardiging Regio:",{"$nulls":8},7,{"$nulls":39},"Aantal wedstrijden:",{"$nulls":8},{"$f":"Instellingen!B6","v":3}]
["Klasse:",null,"Z1",null,null,"Aantal afval resultaten:",{"$nulls":8},{"$f":"Instellingen!B7","v":1}]
["Cat.:",{"$nulls":4},"Plaatsingspunten niet gestart:",{"$nulls":8},{"$f":"Instellingen!B5","v":99},{"$nulls":39},"Aantal reserves:",{"$nulls":8},2]
[{"$nulls":5},"Lokatie:",{"$f":"Instellingen!B36","v":"Hattem"},{"$nulls":7},{"$f":"Instellingen!B37","v":"Ermelo"},{"$nulls":7},{"$f":"Instellingen!B38","v":"Nunspeet"},{"$nulls":7},{"$f":"Instellingen!B39","v":0},{"$nulls":7},{"$f":"Instellingen!B40","v":0},{"$nulls":7},{"$f":"Instellingen!B41","v":0},{"$nulls":7},"Dressuur",{"$nulls":5},"Pnt. 60% regel",null,null,210]
[{"$nulls":5},"Datum:",{"$f":"Instellingen!C36","v":"06 jun 2022"},{"$nulls":7},{"$f":"Instellingen!C37","v":"18 jun 2022"},{"$nulls":7},{"$f":"Instellingen!C38","v":"02 jul 2022"},{"$nulls":7},{"$f":"Instellingen!C39","v":" "},{"$nulls":7},{"$f":"Instellingen!C40","v":" "},{"$nulls":7},{"$f":"Instellingen!C41","v":" "},{"$nulls":7},"Tot.","Tot.","afval","afval","afval","afval","Beste","Beste"]
["Pl.","Comb.nr.","Ruiter/amazone","Paard/pony","kl.","vereniging","Ring","pnt.C","pnt.H","pnt.tot","ex 1","ex 2","pl.","pl.p.","Ring","pnt.C","pnt.H","pnt.tot.","ex 1","ex 2","pl.","pl.p.","Ring","pnt.C","pnt. H","pnt.tot.","ex 1","ex 2","pl.","pl.p.","Ring","pnt.C","pnt.H","pnt.tot.","ex 1","ex 2","pl.","pl.p.","Ring","pnt.C","pnt.H","pnt.tot.","ex 1","ex 2","pl.","pl.p.","Ring","pnt.C","pnt.H","pnt.tot.","ex 1","ex 2","pl.","pl.p.","pl.pnt","punten","pl.pnt","pl.pnt","punten","punten","pl.pnt","punten","Afv.","Res.","Afv. Regio","opmerking"]
[1,"893870LS","Romy Schaftenaar","LanaCapri","Z1","Schaapskooiruiters, RV.",1,230.5,0,{"$f":"H9+I9","v":230.5},6.5,6.5,3,3,1,246,0,{"$f":"P9+Q9","v":246},7.5,7.5,1,1,3,240.5,null,{"$f":"X9+Y9","v":240.5},6.5,7,1,1,{"$nulls":24},{"$f":"N9+V9+AD9+AL9+AT9+BB9","v":5},{"$f":"J9+R9+Z9+AH9+AP9+AX9","v":717},{"$f":"IF($O$4>0,(LARGE(($N9,$V9,$AD9,$AL9,$AT9,$BB9),1)),\"0\")","v":3},null,230.5,0,{"$f":"BC9-BE9-BF9","v":2},{"$f":"BD9-BG9-BH9","v":486.5},1,null,null,"Kringkampioen"]
[2,"911855JB","Anne-marije Van den Berg","Janny-Fee","Z1","Heuvelruiters, RV.",1,241.5,0,241.5,6.5,7,1,1,1,232,0,232,7,7,2,2,3,237.5,null,237.5,7,7,3,3,{"$nulls":24},6,711,{"$f":"IF($O$4>0,(LARGE(($N10,$V10,$AD10,$AL10,$AT10,$BB10),1)),\"0\")","v":3},null,237.5,0,3,473.5,2]
[3,"866953BV","Helma Franken - Vromen","Bon Jovi","Z1","Nunspeetse Ruiterclub, RV.",1,226,0,226,7,6.5,4,4,1,223,0,223,6.5,6.5,7,7,3,238,null,238,6.5,7,2,2,{"$nulls":24},13,687,{"$f":"IF($O$4>0,(LARGE(($N11,$V11,$AD11,$AL11,$AT11,$BB11),1)),\"0\")","v":7},null,223,0,6,464,3,null,null,"Laat ivm pony leerlingen"]
[4,"947388LW","Stefanie Waaijenberg","Lakewood Tarpania","Z1","Nunspeetse Ruiterclub, RV.",1,236,0,236,7.5,7,2,2,1,226.5,0,226.5,6,6.5,4,4,3,231.5,null,231.5,6.5,7,4,4,{"$nulls":24},10,694,{"$f":"IF($O$4>0,(LARGE(($N12,$V12,$AD12,$AL12,$AT12,$BB12),1)),\"0\")","v":4},null,226.5,0,6,467.5,4,null,null,"Start ook M2"]
[5,"914806JW","Stefanie Waaijenberg","Juny","Z1","Nunspeetse Ruiterclub, RV.",1,223,0,223,7,6.5,5,5,1,0,0,0,null,null,18,90,3,231.5,null,231.5,6.5,7,4,4,{"$nulls":24},99,454.5,{"$f":"IF($O$4>0,(LARGE(($N13,$V13,$AD13,$AL13,$AT13,$BB13),1)),\"0\")","v":90},null,0,0,9,454.5,5,null,null,"Start ook M2"]
[6,"856655JM","Gerrit Morren","Jilvania","Z1","Nunspeetse Ruiterclub, RV.",1,215.5,0,215.5,6.5,6.5,8,8,1,228.5,0,228.5,7,7,3,3,3,215,null,215,6.5,6.5,8,8,{"$nulls":24},19,659,{"$f":"IF($O$4>0,(LARGE(($N14,$V14,$AD14,$AL14,$AT14,$BB14),1)),\"0\")","v":8},null,215,0,11,444,6]
[7,"852306JM","Melanie Mulder","Jody","Z1","Marleruiters, RV.",1,212,0,212,6.5,6.5,10,10,1,225,0,225,7,7,6,6,3,224.5,null,224.5,6.5,7,6,6,{"$nulls":24},22,661.5,{"$f":"IF($O$4>0,(LARGE(($N15,$V15,$AD15,$AL15,$AT15,$BB15),1)),\"0\")","v":10},null,212,0,12,449.5,7]
[8,"904349JW","Alice Weijman","Joey","Z1","Nunspeetse Ruiterclub, RV.",1,216.5,0,216.5,5.5,6,7,7,1,203.5,0,203.5,5.5,5.5,15,15,3,217,null,217,7,7,7,7,{"$nulls":24},29,637,{"$f":"IF($O$4>0,(LARGE(($N16,$V16,$AD16,$AL16,$AT16,$BB16),1)),\"0\")","v":15},null,203.5,0,14,433.5,null,1]
[9,"876144JS","Lotte Schut","Jazzy T","Z1","Schaapskooiruiters, RV.",1,219,0,219,7,6.5,6,6,1,215,0,215,6,6.5,8,8,3,212.5,null,212.5,6.5,6.5,9,9,{"$nulls":24},23,646.5,{"$f":"IF($O$4>0,(LARGE(($N17,$V17,$AD17,$AL17,$AT17,$BB17),1)),\"0\")","v":9},null,212.5,0,14,434,null,2]
[10,"905907JG","Stefanie De Groot","Joy Story","Z1","Heuvelruiters, RV.",1,210.5,0,210.5,6,6,12,12,1,208,0,208,6,6,10,10,3,201,null,201,6,6.5,10,10,{"$nulls":24},32,619.5,{"$f":"IF($O$4>0,(LARGE(($N18,$V18,$AD18,$AL18,$AT18,$BB18),1)),\"0\")","v":12},null,210.5,0,20,409]
[11,"947348FB","Arend Bossenbroek","Flirt","Z1","Heuvelruiters, RV.",1,214,0,214,6,6,9,9,{"$nulls":3},0,{"$nulls":3},99,3,199.5,null,199.5,6,6,11,11,{"$nulls":24},119,413.5,{"$f":"IF($O$4>0,(LARGE(($N19,$V19,$AD19,$AL19,$AT19,$BB19),1)),\"0\")","v":99},null,0,0,20,413.5]
[12,"794504HD","Bianca Dreierink","Hernandèz m","Z1","Oost-Veluwse R.J.V., RV.",1,192,0,192,6,5.5,18,18,1,207.5,0,207.5,6,6,11,11,3,198,null,198,5,6.5,12,12,{"$nulls":24},41,597.5,{"$f":"IF($O$4>0,(LARGE(($N20,$V20,$AD20,$AL20,$AT20,$BB20),1)),\"0\")","v":18},null,192,0,23,405.5]
[13,"883985KD","Benice Deelen","Katie","Z1","Nunspeetse Ruiterclub, RV.",1,211,0,211,5,6,11,11,1,193,0,193,6,5,17,17,{"$nulls":3},0,{"$nulls":3},99,{"$nulls":24},127,404,{"$f":"IF($O$4>0,(LARGE(($N21,$V21,$AD21,$AL21,$AT21,$BB21),1)),\"0\")","v":99},null,0,0,28,404]
[14,"842119HJ","Christel Jansen van der sligte","Hazzle Woods","Z1","Cannenburgh, RV. HV. De",{"$nulls":3},0,{"$nulls":3},99,1,225.5,0,225.5,6.5,6.5,5,5,{"$nulls":3},0,{"$nulls":3},99,{"$nulls":24},203,225.5,{"$f":"IF($O$4>0,(LARGE(($N22,$V22,$AD22,$AL22,$AT22,$BB22),1)),\"0\")","v":99},null,0,0,104,225.5]
[15,"903836LD","Sanne Diercks","Lydensie","Z1","Oost-Veluwse R.J.V., RV.",{"$nulls":3},0,{"$nulls":3},99,1,213,0,213,6,6,9,9,{"$nulls":3},0,{"$nulls":3},99,{"$nulls":24},207,213,{"$f":"IF($O$4>0,(LARGE(($N23,$V23,$AD23,$AL23,$AT23,$BB23),1)),\"0\")","v":99},null,0,0,108,213]
[16,"953288IL","Linda Koopman - Lammers","Iroko","Z1","Koopman Horses",{"$nulls":3},0,{"$nulls":3},99,1,207.5,0,207.5,6,6,11,11,{"$nulls":3},0,{"$nulls":3},99,{"$nulls":24},209,207.5,{"$f":"IF($O$4>0,(LARGE(($N24,$V24,$AD24,$AL24,$AT24,$BB24),1)),\"0\")","v":99},null,0,0,110,207.5]
[17,"911454EL","Alice Naber - Lozeman","If Evert","Z1","Flevoruiters, RV.",1,208,0,208,6,5.5,13,13,{"$nulls":3},0,{"$nulls":3},99,{"$nulls":3},0,{"$nulls":3},99,{"$nulls":24},211,208,{"$f":"IF($O$4>0,(LARGE(($N25,$V25,$AD25,$AL25,$AT25,$BB25),1)),\"0\")","v":99},null,0,0,112,208]
[18,"877174KV","Imke Vredenberg","Kavani","Z1","Pothoven (pa), HS",{"$nulls":3},0,{"$nulls":3},99,1,206,0,206,6.5,6,13,13,{"$nulls":3},0,{"$nulls":3},99,{"$nulls":24},211,206,{"$f":"IF($O$4>0,(LARGE(($N26,$V26,$AD26,$AL26,$AT26,$BB26),1)),\"0\")","v":99},null,0,0,112,206]
[19,"916020IP","Erinke Van der Plank","Ilucienne Lh","Z1","Oost-Veluwse R.J.V., RV.",1,207.5,0,207.5,6,5,14,14,{"$nulls":3},0,{"$nulls":3},99,{"$nulls":3},0,{"$nulls":3},99,{"$nulls":24},212,207.5,{"$f":"IF($O$4>0,(LARGE(($N27,$V27,$AD27,$AL27,$AT27,$BB27),1)),\"0\")","v":99},null,0,0,113,207.5]
[20,"921109DM","Kim Miedema","Balance KH","Z1","Koopman Horses",{"$nulls":3},0,{"$nulls":3},99,1,205,0,205,6.5,6.5,14,14,{"$nulls":3},0,{"$nulls":3},99,{"$nulls":24},212,205,{"$f":"IF($O$4>0,(LARGE(($N28,$V28,$AD28,$AL28,$AT28,$BB28),1)),\"0\")","v":99},null,0,0,113,205]
[21,"746964SD","Elisa Driehuis","Spoekedammetje's Norah","Z1","WWNA, RV.",1,207,0,207,7,6.5,15,15,{"$nulls":3},0,{"$nulls":3},99,{"$nulls":3},0,{"$nulls":3},99,{"$nulls":24},213,207,{"$f":"IF($O$4>0,(LARGE(($N29,$V29,$AD29,$AL29,$AT29,$BB29),1)),\"0\")","v":99},null,0,0,114,207]
[22,"796184IK","Natalie Karssing","Iona's Ayla","Z1","Schaapskooiruiters, RV.",1,205.5,0,205.5,6,6,16,16,{"$nulls":3},0,{"$nulls":3},99,{"$nulls":3},0,{"$nulls":3},99,{"$nulls":24},214,205.5,{"$f":"IF($O$4>0,(LARGE(($N30,$V30,$AD30,$AL30,$AT30,$BB30),1)),\"0\")","v":99},null,0,0,115,205.5]
[23,"924470SG","Francis Van Gemert","Serverius Don Remo","Z1","Nunspeetse Ruiterclub, RV.",{"$nulls":3},0,{"$nulls":3},99,1,198,0,198,5,5.5,16,16,{"$nulls":3},0,{"$nulls":3},99,{"$nulls":24},214,198,{"$f":"IF($O$4>0,(LARGE(($N31,$V31,$AD31,$AL31,$AT31,$BB31),1)),\"0\")","v":99},null,0,0,115,198]
[24,"903056KO","Barbara Oosterkamp","Karisto","Z1","Marleruiters, RV.",1,199.5,0,199.5,6.5,6,17,17,{"$nulls":3},0,{"$nulls":3},99,{"$nulls":3},0,{"$nulls":3},99,{"$nulls":24},215,199.5,{"$f":"IF($O$4>0,(LARGE(($N32,$V32,$AD32,$AL32,$AT32,$BB32),1)),\"0\")","v":99},null,0,0,116,199.5]

{"sheet":"Z2","index":9,"n_rows":14,"n_cols":66,"rows_kept":14,"merged":[[0,0,0,65],[2,0,2,1],[2,2,2,4],[2,5,2,13],[2,14,2,21],[2,22,4,53],[2,54,2,62],[2,64,6,65],[3,0,3,1],[3,2,3,4],[3,5,3,13],[3,14,3,21],[3,54,3,62],[4,0,4,1],[4,2,4,4],[4,5,4,13],[4,14,4,21],[4,54,4,62],[5,0,6,4],[5,6,5,13],[5,14,5,21],[5,22,5,29],[5,30,5,37],[5,38,5,45],[5,46,5,53],[5,54,5,59],[6,6,6,13],[6,14,6,21],[6,22,6,29],[6,30,6,37],[6,38,6,45],[6,46,6,53]]}
["Selectie uitslagen"]
[null,null,1,{"$f":"FLOOR((C2+3)/4,1)","v":1},{"$nulls":3},192,190,{"$f":"H2+I2","v":382},{"$nulls":3},1,null,193,193,{"$f":"P2+Q2","v":386},{"$nulls":3},2,null,198,198,{"$f":"X2+Y2","v":396},{"$nulls":3},3,null,177,177,{"$f":"AF2+AG2","v":354},{"$nulls":3},4,null,178,178,{"$f":"AN2+AO2","v":356},{"$nulls":3},5,null,179,179,{"$f":"AV2+AW2","v":358},{"$nulls":3},6,{"$f":"N2+V2+AD2+AL2+AT2+BB2","v":21},{"$f":"J2+R2+Z2+AH2+AP2+AX2","v":2232},{"$f":"IF($O$4>0,(LARGE(($N2,$V2,$AD2,$AL2,$AT2,$BB2),1)),\"0\")","v":6},{"$f":"IF($O$4>0,(LARGE(($N2,$V2,$AD2,$AL2,$AT2,$BB2),2)),\"0\")","v":5},354,354,{"$f":"BC2-BE2-BF2","v":10},{"$f":"BD2-BG2-BH2","v":1524}]
["Kring:",null,{"$f":"Instellingen!B3","v":"Kring NVF"},null,null,"Aantal afvaardiging Regio:",{"$nulls":8},3,{"$nulls":39},"Aantal wedstrijden:",{"$nulls":8},{"$f":"Instellingen!B6","v":3}]
["Klasse:",null,"Z2",null,null,"Aantal afval resultaten:",{"$nulls":8},{"$f":"Instellingen!B7","v":1}]
["Cat.:",{"$nulls":4},"Plaatsingspunten niet gestart:",{"$nulls":8},{"$f":"Instellingen!B5","v":99},{"$nulls":39},"Aantal reserves:",{"$nulls":8},2]
[{"$nulls":5},"Lokatie:",{"$f":"Instellingen!B36","v":"Hattem"},{"$nulls":7},{"$f":"Instellingen!B37","v":"Ermelo"},{"$nulls":7},{"$f":"Instellingen!B38","v":"Nunspeet"},{"$nulls":7},{"$f":"Instellingen!B39","v":0},{"$nulls":7},{"$f":"Instellingen!B40","v":0},{"$nulls":7},{"$f":"Instellingen!B41","v":0},{"$nulls":7},"Dressuur",{"$nulls":5},"Pnt. 60% regel",null,null,210]
[{"$nulls":5},"Datum:",{"$f":"Instellingen!C36","v":"06 jun 2022"},{"$nulls":7},{"$f":"Instellingen!C37","v":"18 jun 2022"},{"$nulls":7},{"$f":"Instellingen!C38","v":"02 jul 2022"},{"$nulls":7},{"$f":"Instellingen!C39","v":" "},{"$nulls":7},{"$f":"Instellingen!C40","v":" "},{"$nulls":7},{"$f":"Instellingen!C41","v":" "},{"$nulls":7},"Tot.","Tot.","afval","afval","afval","afval","Beste","Beste"]
["Pl.","Comb.nr.","Ruiter/amazone","Paard/pony","kl.","vereniging","Ring","pnt.C","pnt.H","pnt.tot","ex 1","ex 2","pl.","pl.p.","Ring","pnt.C","pnt.H","pnt.tot.","ex 1","ex 2","pl.","pl.p.","Ring","pnt.C","pnt. H","pnt.tot.","ex 1","ex 2","pl.","pl.p.","Ring","pnt.C","pnt.H","pnt.tot.","ex 1","ex 2","pl.","pl.p.","Ring","pnt.C","pnt.H","pnt.tot.","ex 1","ex 2","pl.","pl.p.","Ring","pnt.C","pnt.H","pnt.tot.","ex 1","ex 2","pl.","pl.p.","pl.pnt","punten","pl.pnt","pl.pnt","punten","punten","pl.pnt","punten","Afv.","Res.","Afv. Regio","opmerking"]
[1,"892237DG","Marjolein Gevaert","Dansa's Isadansa","Z2","Heuvelruiters, RV.",1,218,0,{"$f":"H9+I9","v":218},6.5,6.5,2,2,{"$nulls":3},{"$f":"P9+Q9","v":0},{"$nulls":3},99,3,226,null,{"$f":"X9+Y9","v":226},6.5,6.5,1,1,{"$nulls":24},{"$f":"N9+V9+AD9+AL9+AT9+BB9","v":102},{"$f":"J9+R9+Z9+AH9+AP9+AX9","v":444},{"$f":"IF($O$4>0,(LARGE(($N9,$V9,$AD9,$AL9,$AT9,$BB9),1)),\"0\")","v":99},null,0,0,{"$f":"BC9-BE9-BF9","v":3},{"$f":"BD9-BG9-BH9","v":444},1,null,null,"Kringkampioen"]
[2,"719193FO","Astrid Prinsen - Osinga","Flamenco","Z2","Oost-Veluwse R.J.V., RV.",{"$nulls":3},0,{"$nulls":3},99,1,222.5,0,222.5,6.5,7.5,1,1,3,224.5,null,224.5,6.5,7,2,2,{"$nulls":24},102,447,{"$f":"IF($O$4>0,(LARGE(($N10,$V10,$AD10,$AL10,$AT10,$BB10),1)),\"0\")","v":99},null,0,0,3,447,2]
[3,"878034FM","Annemarie Jansen - Migchelbrink","Feniks","Z2","Nunspeetse Ruiterclub, RV.",1,222,0,222,6,6,1,1,1,207.5,0,207.5,4,6,4,4,3,216,null,216,6.5,7,3,3,{"$nulls":24},8,645.5,{"$f":"IF($O$4>0,(LARGE(($N11,$V11,$AD11,$AL11,$AT11,$BB11),1)),\"0\")","v":4},null,207.5,0,4,438,3]
[4,"724642FR","Lisette De Reus","Figo","Z2","Oost-Veluwse R.J.V., RV.",{"$nulls":3},0,{"$nulls":3},99,1,211,0,211,6.5,6.5,2,2,{"$nulls":3},0,{"$nulls":3},99,{"$nulls":24},200,211,{"$f":"IF($O$4>0,(LARGE(($N12,$V12,$AD12,$AL12,$AT12,$BB12),1)),\"0\")","v":99},null,0,0,101,211]
[5,"715864EK","Linda Koopman - Lammers","Espresso KH","Z2","Koopman Horses",{"$nulls":3},0,{"$nulls":3},99,1,208.5,0,208.5,6.5,6,3,3,{"$nulls":3},0,{"$nulls":3},99,{"$nulls":24},201,208.5,{"$f":"IF($O$4>0,(LARGE(($N13,$V13,$AD13,$AL13,$AT13,$BB13),1)),\"0\")","v":99},null,0,0,102,208.5]
[6,"700195EL","Dorothy Van Leeuwen","Epke","Z2","Oost-Veluwse R.J.V., RV.",{"$nulls":3},0,{"$nulls":3},99,1,202,0,202,5,5.5,5,5,{"$nulls":3},0,{"$nulls":3},99,{"$nulls":24},203,202,{"$f":"IF($O$4>0,(LARGE(($N14,$V14,$AD14,$AL14,$AT14,$BB14),1)),\"0\")","v":99},null,0,0,104,202]

{"sheet":"ZZL","index":10,"n_rows":13,"n_cols":66,"rows_kept":13,"merged":[[0,0,0,65],[2,0,2,1],[2,2,2,4],[2,5,2,13],[2,14,2,21],[2,22,4,53],[2,54,2,62],[2,64,6,65],[3,0,3,1],[3,2,3,4],[3,5,3,13],[3,14,3,21],[3,54,3,62],[4,0,4,1],[4,2,4,4],[4,5,4,13],[4,14,4,21],[4,54,4,62],[5,0,6,4],[5,6,5,13],[5,14,5,21],[5,22,5,29],[5,30,5,37],[5,38,5,45],[5,46,5,53],[5,54,5,59],[6,6,6,13],[6,14,6,21],[6,22,6,29],[6,30,6,37],[6,38,6,45],[6,46,6,53]]}
["Selectie uitslagen"]
[null,null,1,{"$f":"FLOOR((C2+3)/4,1)","v":1},{"$nulls":3},192,190,{"$f":"H2+I2","v":382},{"$nulls":3},1,null,193,193,{"$f":"P2+Q2","v":386},{"$nulls":3},2,null,198,198,{"$f":"X2+Y2","v":396},{"$nulls":3},3,null,177,177,{"$f":"AF2+AG2","v":354},{"$nulls":3},4,null,178,178,{"$f":"AN2+AO2","v":356},{"$nulls":3},5,null,179,179,{"$f":"AV2+AW2","v":358},{"$nulls":3},6,{"$f":"N2+V2+AD2+AL2+AT2+BB2","v":21},{"$f":"J2+R2+Z2+AH2+AP2+AX2","v":2232},{"$f":"IF($O$4>0,(LARGE(($N2,$V2,$AD2,$AL2,$AT2,$BB2),1)),\"0\")","v":6},{"$f":"IF($O$4>0,(LARGE(($N2,$V2,$AD2,$AL2,$AT2,$BB2),2)),\"0\")","v":5},354,354,{"$f":"BC2-BE2-BF2","v":10},{"$f":"BD2-BG2-BH2","v":1524}]
["Kring:",null,{"$f":"Instellingen!B3","v":"Kring NVF"},null,null,"Aantal afvaardiging Regio:",{"$nulls":8},4,{"$nulls":39},"Aantal wedstrijden:",{"$nulls":8},{"$f":"Instellingen!B6","v":3}]
["Klasse:",null,"ZZL",null,null,"Aantal afval resultaten:",{"$nulls":8},{"$f":"Instellingen!B7","v":1}]
["Cat.:",{"$nulls":4},"Plaatsingspunten niet gestart:",{"$nulls":8},{"$f":"Instellingen!B5","v":99},{"$nulls":39},"Aantal reserves:",{"$nulls":8},2]
[{"$nulls":5},"Lokatie:",{"$f":"Instellingen!B36","v":"Hattem"},{"$nulls":7},{"$f":"Instellingen!B37","v":"Ermelo"},{"$nulls":7},{"$f":"Instellingen!B38","v":"Nunspeet"},{"$nulls":7},{"$f":"Instellingen!B39","v":0},{"$nulls":7},{"$f":"Instellingen!B40","v":0},{"$nulls":7},{"$f":"Instellingen!B41","v":0},{"$nulls":7},"Dressuur",{"$nulls":5},"Pnt. 60% regel",null,null,210]
[{"$nulls":5},"Datum:",{"$f":"Instellingen!C36","v":"06 jun 2022"},{"$nulls":7},{"$f":"Instellingen!C37","v":"18 jun 2022"},{"$nulls":7},{"$f":"Instellingen!C38","v":"02 jul 2022"},{"$nulls":7},{"$f":"Instellingen!C39","v":" "},{"$nulls":7},{"$f":"Instellingen!C40","v":" "},{"$nulls":7},{"$f":"Instellingen!C41","v":" "},{"$nulls":7},"Tot.","Tot.","afval","afval","afval","afval","Beste","Beste"]
["Pl.","Comb.nr.","Ruiter/amazone","Paard/pony","kl.","vereniging","Ring","pnt.C","pnt.H","pnt.tot","ex 1","ex 2","pl.","pl.p.","Ring","pnt.C","pnt.H","pnt.tot.","ex 1","ex 2","pl.","pl.p.","Ring","pnt.C","pnt. H","pnt.tot.","ex 1","ex 2","pl.","pl.p.","Ring","pnt.C","pnt.H","pnt.tot.","ex 1","ex 2","pl.","pl.p.","Ring","pnt.C","pnt.H","pnt.tot.","ex 1","ex 2","pl.","pl.p.","Ring","pnt.C","pnt.H","pnt.tot.","ex 1","ex 2","pl.","pl.p.","pl.pnt","punten","pl.pnt","pl.pnt","punten","punten","pl.pnt","punten","Afv.","Res.","Afv. Regio","opmerking"]
[1,"601761BL","Geke Lokhorst","Bon Á Parte","ZZL","Noord Veluwe, RV. PSV",1,209.5,0,{"$f":"H9+I9","v":209.5},6.5,6,1,1,1,202,0,{"$f":"P9+Q9","v":202},6.5,6,3,3,3,221,null,{"$f":"X9+Y9","v":221},6.5,6.5,1,1,{"$nulls":24},{"$f":"N9+V9+AD9+AL9+AT9+BB9","v":5},{"$f":"J9+R9+Z9+AH9+AP9+AX9","v":632.5},{"$f":"IF($O$4>0,(LARGE(($N9,$V9,$AD9,$AL9,$AT9,$BB9),1)),\"0\")","v":3},null,202,0,{"$f":"BC9-BE9-BF9","v":2},{"$f":"BD9-BG9-BH9","v":430.5},1,null,null,"Kringkampioen"]
[2,"806300DW","Mirjam Westerink","Ezra","ZZL","Nunspeetse Ruiterclub, RV.",{"$nulls":3},{"$f":"H10+I10","v":0},{"$nulls":3},99,1,225,0,{"$f":"P10+Q10","v":225},7,6.5,1,1,3,216.5,null,{"$f":"X10+Y10","v":216.5},6.5,7,2,2,{"$nulls":24},{"$f":"N10+V10+AD10+AL10+AT10+BB10","v":102},{"$f":"J10+R10+Z10+AH10+AP10+AX10","v":441.5},{"$f":"IF($O$4>0,(LARGE(($N10,$V10,$AD10,$AL10,$AT10,$BB10),1)),\"0\")","v":99},null,0,0,{"$f":"BC10-BE10-BF10","v":3},{"$f":"BD10-BG10-BH10","v":441.5},2]
[3,"836186DB","Nicole Broekhuis","Discovery","ZZL","Cannenburgh, RV. HV. De",1,199,0,{"$f":"H11+I11","v":199},6,6,2,2,1,205,0,{"$f":"P11+Q11","v":205},6,6,2,2,3,208.5,null,{"$f":"X11+Y11","v":208.5},6.5,6.5,3,3,{"$nulls":24},{"$f":"N11+V11+AD11+AL11+AT11+BB11","v":7},{"$f":"J11+R11+Z11+AH11+AP11+AX11","v":612.5},{"$f":"IF($O$4>0,(LARGE(($N11,$V11,$AD11,$AL11,$AT11,$BB11),1)),\"0\")","v":3},null,208.5,0,{"$f":"BC11-BE11-BF11","v":4},{"$f":"BD11-BG11-BH11","v":404}]
[4,"916170FH","Mindy Hoekstra","Florida","ZZL","Oost-Veluwse R.J.V., RV.",1,197.5,0,{"$f":"H12+I12","v":197.5},6,6,3,3,{"$nulls":3},{"$f":"P12+Q12","v":0},{"$nulls":3},99,3,0,null,{"$f":"X12+Y12","v":0},null,null,4,90,{"$nulls":24},{"$f":"N12+V12+AD12+AL12+AT12+BB12","v":192},{"$f":"J12+R12+Z12+AH12+AP12+AX12","v":197.5},{"$f":"IF($O$4>0,(LARGE(($N12,$V12,$AD12,$AL12,$AT12,$BB12),1)),\"0\")","v":99},null,0,0,{"$f":"BC12-BE12-BF12","v":93},{"$f":"BD12-BG12-BH12","v":197.5}]
[5,"766894DE","Daphne Enter","Darko","ZZL","Heuvelruiters, RV.",1,190,0,{"$f":"H13+I13","v":190},5.5,5.5,4,4,{"$nulls":3},{"$f":"P13+Q13","v":0},{"$nulls":3},99,{"$nulls":3},{"$f":"X13+Y13","v":0},{"$nulls":3},99,{"$nulls":24},{"$f":"N13+V13+AD13+AL13+AT13+BB13","v":202},{"$f":"J13+R13+Z13+AH13+AP13+AX13","v":190},{"$f":"IF($O$4>0,(LARGE(($N13,$V13,$AD13,$AL13,$AT13,$BB13),1)),\"0\")","v":99},null,0,0,{"$f":"BC13-BE13-BF13","v":103},{"$f":"BD13-BG13-BH13","v":190}]

{"sheet":"Z1 - Z2","index":11,"n_rows":8,"n_cols":66,"rows_kept":8,"hidden":true,"merged":[[0,0,0,65],[2,0,2,1],[2,2,2,4],[2,5,2,13],[2,14,2,21],[2,22,4,53],[2,54,2,62],[2,65,6,65],[3,0,3,1],[3,2,3,4],[3,5,3,13],[3,14,3,21],[3,54,3,62],[4,0,4,1],[4,2,4,4],[4,5,4,13],[4,14,4,21],[4,54,4,62],[5,0,6,4],[5,6,5,13],[5,14,5,21],[5,22,5,29],[5,30,5,37],[5,38,5,45],[5,46,5,53],[5,54,5,59],[6,6,6,13],[6,14,6,21],[6,22,6,29],[6,30,6,37],[6,38,6,45],[6,46,6,53]]}
["Selectie uitslagen"]
[null,null,1,{"$f":"FLOOR((C2+3)/4,1)","v":1},null,null,192,192,190,{"$f":"H2+I2","v":382},{"$nulls":3},1,193,193,193,{"$f":"P2+Q2","v":386},{"$nulls":3},2,198,198,198,{"$f":"X2+Y2","v":396},{"$nulls":3},3,177,177,177,{"$f":"AF2+AG2","v":354},{"$nulls":3},4,178,178,178,{"$f":"AN2+AO2","v":356},{"$nulls":3},5,179,179,179,{"$f":"AV2+AW2","v":358},{"$nulls":3},6,{"$f":"N2+V2+AD2+AL2+AT2+BB2","v":21},{"$f":"J2+R2+Z2+AH2+AP2+AX2","v":2232},{"$f":"IF($O$4>0,(LARGE(($N2,$V2,$AD2,$AL2,$AT2,$BB2),1)),\"0\")","v":6},{"$f":"IF($O$4>0,(LARGE(($N2,$V2,$AD2,$AL2,$AT2,$BB2),2)),\"0\")","v":5},354,354,{"$f":"BC2-BE2-BF2","v":10},{"$f":"BD2-BG2-BH2","v":1524}]
["Kring:",null,{"$f":"Instellingen!B3","v":"Kring NVF"},{"$nulls":51},"Aantal wedstrijden:",{"$nulls":8},{"$f":"Instellingen!B6","v":3}]
["Klasse:",null,"Z1 - Z2",null,null,"Aantal afval resultaten:",{"$nulls":8},{"$f":"Instellingen!B7","v":1}]
["Cat.:",{"$nulls":4},"Plaatsingspunten niet gestart:",{"$nulls":8},{"$f":"Instellingen!B5","v":99}]
[{"$nulls":5},"Lokatie:",{"$f":"Instellingen!B36","v":"Hattem"},{"$nulls":7},{"$f":"Instellingen!B37","v":"Ermelo"},{"$nulls":7},{"$f":"Instellingen!B38","v":"Nunspeet"},{"$nulls":7},{"$f":"Instellingen!B39","v":0},{"$nulls":7},{"$f":"Instellingen!B40","v":0},{"$nulls":7},{"$f":"Instellingen!B41","v":0},{"$nulls":7},"Dressuur"]
[{"$nulls":5},"Datum:",{"$f":"Instellingen!C36","v":"06 jun 2022"},{"$nulls":7},{"$f":"Instellingen!C37","v":"18 jun 2022"},{"$nulls":7},{"$f":"Instellingen!C38","v":"02 jul 2022"},{"$nulls":7},{"$f":"Instellingen!C39","v":" "},{"$nulls":7},{"$f":"Instellingen!C40","v":" "},{"$nulls":7},{"$f":"Instellingen!C41","v":" "},{"$nulls":7},"Tot.","Tot.","afval","afval","afval","afval","Beste","Beste"]
["Pl.","Comb.nr.","Ruiter/amazone","Paard/pony","kl.","vereniging","Ring","pnt.C","pnt.H","pnt.tot","ex 1","ex 2","pl.","pl.p.","Ring","pnt.C","pnt.H","pnt.tot.","ex 1","ex 2","pl.","pl.p.","Ring","pnt.C","pnt. H","pnt.tot.","ex 1","ex 2","pl.","pl.p.","Ring","pnt.C","pnt.H","pnt.tot.","ex 1","ex 2","pl.","pl.p.","Ring","pnt.C","pnt.H","pnt.tot.","ex 1","ex 2","pl.","pl.p.","Ring","pnt.C","pnt.H","pnt.tot.","ex 1","ex 2","pl.","pl.p.","pl.pnt","punten","pl.pnt","pl.pnt","punten","punten","pl.pnt","punten","Afv.","Res.",null,"opmerking"]

{"sheet":"Kampioenen","index":12,"n_rows":29,"n_cols":11,"rows_kept":29,"merged":[[0,0,0,6],[0,7,0,8],[2,1,2,2],[2,4,2,5],[2,7,2,8]]}
["Regio Kampioenen"]
[{"$nulls":6},false,false]
["Kring:",{"$f":"Instellingen!B3","v":"Kring NVF"},null,null,"Handicap:",null,null,"Aantal per klasse:",null,1]
["Volgnr.","Comb.nr.","Ruiter/amazone","Paard/pony","Klasse","Cat.","Vereniging","Totaal beste","Totaal perc.","Totaal pl.pnt.","Opmerking"]
[]
[]
[null,null,"Klasse: B"]
[1,"941224MR","Mendy De Ruiter","Montserrat-Beau","B","B","Nunspeetse Ruiterclub, RV.",2,"138,00",101,"Kringkampioen"]
[]
[null,null,"Klasse: L1"]
[1,"914934LW","Jeanet Witteveen","Little Star   B","L1","L1","Noord Veluwe, RV. PSV",2,"136,00",11,"Kringkampioen"]
[]
[null,null,"Klasse: L2"]
[1,"950516NR","Lindy Rook","Nyatrichta","L2","L2","Noord Veluwe, RV. PSV",3,"138,00",7,"Kringkampioen"]
[]
[null,null,"Klasse: M1"]
[1,"897187LG","Rosan Van de Goor","Lavendel","M1","M1","Heuvelruiters, RV.",2,"142,67",7,"Kringkampioen"]
[]
[null,null,"Klasse: M2"]
[1,"904477LW","Stefanie Waaijenberg","Lago Maggiore","M2","M2","Nunspeetse Ruiterclub, RV.",2,"140,67",101,"Kringkampioen"]
[]
[null,null,"Klasse: Z1"]
[1,"893870LS","Romy Schaftenaar","LanaCapri","Z1","Z1","Schaapskooiruiters, RV.",2,"138,86",5,"Kringkampioen"]
[]
[null,null,"Klasse: Z2"]
[1,"892237DG","Marjolein Gevaert","Dansa's Isadansa","Z2","Z2","Heuvelruiters, RV.",3,"126,86",102,"Kringkampioen"]
[]
[null,null,"Klasse: ZZL"]
[1,"601761BL","Geke Lokhorst","Bon Á Parte","ZZL","ZZL","Noord Veluwe, RV. PSV",2,"122,86",5,"Kringkampioen"]

{"sheet":"Diversen","index":13,"n_rows":8,"n_cols":14,"rows_kept":8,"merged":[[0,0,0,11],[2,2,2,3],[2,4,2,6],[2,7,2,13],[5,0,6,13]]}
["Selectie wedstrijd"]
[null,null,48,{"$f":"FLOOR((C2+3)/4,1)","v":12},{"$nulls":3},192,190,{"$f":"H2+I2","v":382}]
["Kring:",null,{"$f":"Instellingen!B3","v":"Kring NVF"},null,"Wedstrijd nummer:",null,null,2]
[]
[]
["Import gegevens "]
[]
["Pl.","Comb.nr.","Ruiter/amazone","Paard/pony","klasse","cat.","vereniging","pnt.C","pnt.H","pnt.tot","ex 1","ex 2","perc.","opmerking"]

{"sheet":"Instellingen","index":14,"n_rows":41,"n_cols":3,"rows_kept":41}
[null,"Waarde","Opmerking"]
["Gegevens:"]
["Naam van de Kring:","Kring NVF"]
["Interval plaatsingspunten:",1,"1=(1,2,3,etc) / 2=(1,3,5,etc)"]
["Plaatsingspunten niet gestart:",99]
["Aantal selectie wedstrijden:",3]
["Aantal afval resultaten:",1]
["Aantal jury's:",1]
["Ex-aequo punten per wedstrijd",1,"1=ja / 0=nee"]
["Plaatsingspunten niet gefinisht",90,"Blanko is volgens plaatsing"]
["Importeren punten en/of plaatsing","1: Punten van de proef"]
[]
["Afvaardiging Regiokampioenschappen",null,"Aanmelden, Afmelden, Blanko is iedereen"]
["Klasse Z1-Z2 cat. CDE samenvoegen","Nee"]
["Klasse L1-L2 cat. AB samenvoegen","Nee"]
[]
["Klasse BB verbergen","Nee"]
["Tabbladen B, L1-L2, M1-M2, Z1-Z2 nodig","Nee"]
[]
[]
[]
[]
["Volgorde ex-aequo regeling:",null,"(De laagste waarde heeft voorrang, niet ingevulde gegevens doen niet mee voor de volgorde van het resultaat)"]
["Totaal beste plaatsingspunten:",1,"(dit is een vaste waarde en heeft de hoogste voorrang)"]
["Plaatsingspunten 6e wedstrijd:"]
["Plaatsingspunten 5e wedstrijd:"]
["Plaatsingspunten 4e wedstrijd:"]
["Plaatsingspunten 3e wedstrijd:",2]
["Plaatsingspunten 2e wedstrijd:"]
["Plaatsingspunten 1e wedstrijd:"]
["Totaal alle plaatsingspunten:",3]
["Totaal behaalde punten beste wedstrijden:"]
["Totaal behaalde punten alle wedstrijden:",4]
[]
["Omschrijving","Lokatie","Datum"]
["1e wedstrijd","Hattem","06 jun 2022"]
["2e wedstrijd","Ermelo","18 jun 2022"]
["3e wedstrijd","Nunspeet","02 jul 2022"]
["4e wedstrijd",null," "]
["5e wedstrijd",null," "]
["6e wedstrijd",null," "]

{"sheet":"Afvaardiging","index":15,"n_rows":75,"n_cols":10,"rows_kept":75,"merged":[[0,0,0,7],[2,1,2,3],[2,4,2,5]]}
["Afvaardiging aan de Regio Kampioenschappen"]
[]
["Kring:",{"$f":"Instellingen!B3","v":"Kring NVF"},null,null,"Discipline:",null,"Dressuur"]
["Volgnr.","Comb.nr.","Ruiter / amazone","Paard/pony","Klasse","Cat.","Vereniging","Opmerking",{"$f":"IF(C4<>\"\",RIGHT(C4,LEN(C4)-SEARCH(\" \",C4,1)),\"\")","v":"/ amazone"},{"$f":"IF(C4<>\"\",LEFT(C4, SEARCH(\" \",C4,1)),\"\")","v":"Ruiter "}]
[]
[null,null,"Klasse: B","Afvaardiging: 7"]
[1,"941224MR","Mendy De Ruiter","Montserrat-Beau","B",null,"Nunspeetse Ruiterclub, RV.","Kringkampioen"]
[2,"952978LW","Armanda Van der Wal","Lyandra-Cara Vdw","B",null,"Schaapskooiruiters, RV."]
[3,"910069LD","Nathanie Baron","Ludovica","B",null,"Heuvelruiters, RV."]
[4,"945180UD","Tara Draaijer","Ulie","B",null,"Kromme Zweppe, RV."]
[5,"946518BB","Nikki van Bergen","Beau","B",null,"Dronten, Paardencentrum"]
[6,"953136NB","Dianne Den Besten","Ninaronia Norel","B",null,"Noord Veluwe, RV. PSV"]
[7,"946204ND","Elvira Van den Dragt","Nanisina","B",null,"Nunspeetse Ruiterclub, RV."]
["1e Res.","953332MT","Rosalie Tessemaker","Mighty Mike","B",null,"Horsthoekruiters, RV."]
["2e Res.","909460BB","Susan Benedictus","Exper","B",null,"Flevoruiters, RV."]
[]
[null,null,"Klasse: L1","Afvaardiging: 6"]
[1,"914934LW","Jeanet Witteveen","Little Star   B","L1",null,"Noord Veluwe, RV. PSV","Kringkampioen"]
[2,"938824MV","Julia Vrolijken","Miliane SC","L1",null,"Nunspeetse Ruiterclub, RV."]
[3,"946858NS","Laura Spronk","New Star","L1",null,"Heuvelruiters, RV."]
[4,"938825NV","Julia Vrolijken","Nashville SC","L1",null,"Nunspeetse Ruiterclub, RV."]
[5,"954280KH","Patrieck Van Hoek","Kiona","L1",null,"Noord Veluwe, RV. PSV"]
[6,"928668MB","Dianne Den Besten","Michigan DB","L1",null,"Noord Veluwe, RV. PSV"]
["1e Res.","932227LK","Susanne Kogelman","Dansa's La Dansa","L1",null,"Heuvelruiters, RV."]
["2e Res.","904124KH","Kayleigh De Haas","Kazan-S","L1",null,"WWNA, RV."]
[]
[null,null,"Klasse: L2","Afvaardiging: 6"]
[1,"950516NR","Lindy Rook","Nyatrichta","L2",null,"Noord Veluwe, RV. PSV","Kringkampioen"]
[2,"926386MH","Patrieck Van Hoek","Macy Js","L2",null,"Noord Veluwe, RV. PSV"]
[3,"909770LS","Helga Schuurman","Lamborghini Jb","L2",null,"Noord Veluwe, RV. PSV"]
[4,"950624NR","Lindy Rook","No Nonsense Vdz","L2",null,"Noord Veluwe, RV. PSV"]
[5,"955068NS","Romy Schaftenaar","Nobility","L2",null,"Schaapskooiruiters, RV."]
[6,"888687KH","Angela Hooghordel","Kryptonite","L2",null,"Nunspeetse Ruiterclub, RV."]
["1e Res.","919958MG","Rosan Van de Goor","Massaro","L2",null,"Heuvelruiters, RV."]
["2e Res.","926400AR","Maud Rorije","Alert","L2",null,"Horsthoekruiters, RV."]
[]
[null,null,"Klasse: M1","Afvaardiging: 7"]
[1,"897187LG","Rosan Van de Goor","Lavendel","M1",null,"Heuvelruiters, RV.","Kringkampioen"]
[2,"904458KB","Indy van de Beeten","King Kayrac","M1",null,"Randmeerruiters, RV. De"]
[3,"905423KK","Femke Groeneveld - Van de Kolk","King Of Fira","M1",null,"Randmeerruiters, RV. De"]
[4,"884764KG","Anna Te Grotenhuis","King Arthur","M1",null,"Heuvelruiters, RV."]
[5,"927477JG","Iris Groeneveld","Just-In Case","M1",null,"Randmeerruiters, RV. De"]
[6,"910057GK","Pascalle De Klerk","Gucci","M1",null,"Cannenburgh, RV. HV. De"]
[7,"936196ME","Daphne Enter","Most Wanted","M1",null,"Heuvelruiters, RV."]
["1e Res.","824172DM","Jeanne Meijer","Double Coloured Cato","M1",null,"Heuvelruiters, RV."]
["2e Res.","863302JV","Monique Vrolijken","Jeason","M1",null,"Heuvelruiters, RV."]
[]
[null,null,"Klasse: M2","Afvaardiging: 8"]
[1,"904477LW","Stefanie Waaijenberg","Lago Maggiore","M2",null,"Nunspeetse Ruiterclub, RV.","Kringkampioen"]
[2,"938773MP","Kimberly Pap","Martinez","M2",null,"Nunspeetse Ruiterclub, RV."]
[3,"930770DG","Marjolein Gevaert","Dansa's La Morka","M2",null,"Heuvelruiters, RV."]
[4,"911836HB","Kiki Bleeker","Handsome","M2",null,"Nunspeetse Ruiterclub, RV."]
[5,"903165LR","Miranda Riezebos","L Patron S","M2",null,"WWNA, RV."]
[6,"766513BB","Fleur Berkhof","Bambino DB","M2",null,"Cannenburgh, RV. HV. De","Dispensatie"]
[7,"725964FB","Marloes Buitenhuis","Fast Forward","M2",null,"Schaapskooiruiters, RV."]
[]
[null,null,"Klasse: Z1","Afvaardiging: 7"]
[1,"893870LS","Romy Schaftenaar","LanaCapri","Z1",null,"Schaapskooiruiters, RV.","Kringkampioen"]
[2,"911855JB","Anne-marije Van den Berg","Janny-Fee","Z1",null,"Heuvelruiters, RV."]
[3,"866953BV","Helma Franken - Vromen","Bon Jovi","Z1",null,"Nunspeetse Ruiterclub, RV.","Laat ivm pony leerlingen"]
[4,"947388LW","Stefanie Waaijenberg","Lakewood Tarpania","Z1",null,"Nunspeetse Ruiterclub, RV.","Start ook M2"]
[5,"914806JW","Stefanie Waaijenberg","Juny","Z1",null,"Nunspeetse Ruiterclub, RV.","Start ook M2"]
[6,"856655JM","Gerrit Morren","Jilvania","Z1",null,"Nunspeetse Ruiterclub, RV."]
[7,"852306JM","Melanie Mulder","Jody","Z1",null,"Marleruiters, RV."]
["1e Res.","904349JW","Alice Weijman","Joey","Z1",null,"Nunspeetse Ruiterclub, RV."]
["2e Res.","876144JS","Lotte Schut","Jazzy T","Z1",null,"Schaapskooiruiters, RV."]
[]
[null,null,"Klasse: Z2","Afvaardiging: 3"]
[1,"892237DG","Marjolein Gevaert","Dansa's Isadansa","Z2",null,"Heuvelruiters, RV.","Kringkampioen"]
[2,"719193FO","Astrid Prinsen - Osinga","Flamenco","Z2",null,"Oost-Veluwse R.J.V., RV."]
[3,"878034FM","Annemarie Jansen - Migchelbrink","Feniks","Z2",null,"Nunspeetse Ruiterclub, RV."]
[]
[null,null,"Klasse: ZZL","Afvaardiging: 4"]
[1,"601761BL","Geke Lokhorst","Bon Á Parte","ZZL",null,"Noord Veluwe, RV. PSV","Kringkampioen"]
[2,"806300DW","Mirjam Westerink","Ezra","ZZL",null,"Nunspeetse Ruiterclub, RV."]