{"text_format":"3","workbook":"xlsx","n_sheets":17,"sheets":["Informatie","B(AB)","B(C)","B(DE)","L(AB)","L(C)","L(DE)","M(C)","M(DE)","Z(C)","Z(DE)","ZZ(DE)","Z-ZZ(CDE)","Kampioenen","Diversen","Instellingen","Afvaardiging"],"not_rendered":{"macros":1,"defined_names":34},"read":"whole","date_system":"1900"}

{"sheet":"Informatie","index":0,"n_rows":3,"n_cols":1,"rows_kept":3}
["LEES ONDERSTAANDE INFO EERST!!"]
[]
["Zowel de afgevaardigden als de reserves dienen zich aan te melden met een digitaal inschrijf formulier bij het secretariaat van de kring ."]

{"sheet":"B(AB)","index":1,"n_rows":19,"n_cols":92,"rows_kept":19,"merged":[[0,0,0,60],[2,0,2,1],[2,2,2,4],[2,5,2,13],[2,14,2,21],[2,22,4,37],[2,54,2,57],[2,59,6,60],[3,0,3,1],[3,2,3,4],[3,5,3,13],[3,14,3,21],[3,54,3,57],[4,0,4,1],[4,2,4,4],[4,5,4,13],[4,14,4,21],[4,54,4,57],[5,0,6,4],[5,6,5,13],[5,14,5,21],[5,22,5,29],[5,30,5,37],[5,38,5,45],[5,46,5,53],[5,54,5,56],[6,6,6,13],[6,14,6,21],[6,22,6,29],[6,30,6,37],[6,38,6,45],[6,46,6,53]]}
["Selectie uitslagen"]
[{"$nulls":13},1,{"$nulls":7},2,{"$nulls":7},3,{"$nulls":7},4,{"$nulls":7},5,{"$nulls":7},6,{"$f":"N2+V2+AD2+AL2+AT2+BB2","v":21},{"$f":"IF($O$4>0,(LARGE(($N2,$V2,$AD2,$AL2,$AT2,$BB2),1)),\"0\")","v":"0"},{"$f":"BC2-BD2","v":21},{"$f":"IF($O$4>1,(LARGE(($N2,$V2,$AD2,$AL2,$AT2,$BB2),1))+(LARGE(($N2,$V2,$AD2,$AL2,$AT2,$BB2),2)),\"0\")","v":"0"},{"$nulls":4},{"$f":"IF(G2>99,199,G2)","v":0},{"$f":"IF(H2=\"\",0,H2)","v":0},{"$f":"IF(J2>99,199,J2)","v":0},{"$f":"IF(K2=\"\",0,K2)","v":0},{"$f":"BK2+BM2","v":0},{"$f":"IF(O2>99,199,O2)","v":0},{"$f":"IF(P2=\"\",0,P2)","v":0},{"$f":"IF(R2>99,199,R2)","v":0},{"$f":"IF(S2=\"\",0,S2)","v":0},{"$f":"BP2+BR2","v":0},{"$f":"IF(W2>99,199,W2)","v":0},{"$f":"IF(X2=\"\",0,X2)","v":0},{"$f":"IF(Z2>99,199,Z2)","v":0},{"$f":"IF(AA2=\"\",0,AA2)","v":0},{"$f":"BU2+BW2","v":0},{"$f":"IF(AE2>99,199,AE2)","v":0},{"$f":"IF(AF2=\"\",0,AF2)","v":0},{"$f":"IF(AH2>99,199,AH2)","v":0},{"$f":"IF(AI2=\"\",0,AI2)","v":0},{"$f":"BZ2+CB2","v":0},{"$f":"IF(AM2>99,199,AM2)","v":0},{"$f":"IF(AN2=\"\",0,AN2)","v":0},{"$f":"IF(AP2>99,199,AP2)","v":0},{"$f":"IF(AQ2=\"\",0,AQ2)","v":0},{"$f":"CE2+CG2","v":0},{"$f":"IF(AU2>99,199,AU2)","v":0},{"$f":"IF(AV2=\"\",0,AV2)","v":0},{"$f":"IF(AX2>99,199,AX2)","v":0},{"$f":"IF(AY2=\"\",0,AY2)","v":0},{"$f":"CJ2+CL2","v":0}]
["Kring:",null,{"$f":"Instellingen!B3","v":"Kring NVF"},null,null,"Aantal afvaardiging Regio:",{"$nulls":8},2,{"$nulls":39},"Aantal wedstrijden:",{"$nulls":3},{"$f":"Instellingen!B6","v":2}]
["Klasse:",null,"B",null,null,"Aantal afval resultaten:",{"$nulls":8},{"$f":"Instellingen!B7","v":0}]
["Cat.:",null,"A / B",null,null,"Plaatsingspunten niet gestart:",{"$nulls":8},{"$f":"Instellingen!B5","v":99},{"$nulls":39},"Aantal reserves:",{"$nulls":3},2]
[{"$nulls":5},"Lokatie:",{"$f":"Instellingen!B40","v":"Wezep"},{"$nulls":7},{"$f":"Instellingen!B41","v":"Nunspeet"},{"$nulls":7},{"$f":"Instellingen!B42","v":" "},{"$nulls":7},{"$f":"Instellingen!B43","v":" "},{"$nulls":7},{"$f":"Instellingen!B44","v":" "},{"$nulls":7},{"$f":"Instellingen!B45","v":" "},{"$nulls":7},"Springen"]
[{"$nulls":5},"Datum:",{"$f":"Instellingen!C40","v":"04juni2021"},{"$nulls":7},{"$f":"Instellingen!C41","v":"26juni2021"},{"$nulls":7},{"$f":"Instellingen!C42","v":" "},{"$nulls":7},{"$f":"Instellingen!C43","v":" "},{"$nulls":7},{"$f":"Instellingen!C44","v":" "},{"$nulls":7},{"$f":"Instellingen!C45","v":" "},{"$nulls":7},"Tot.","afval","Beste"]
["Pl.","Comb.nr.","Ruiter/amazone","Paard/pony","kl.","vereniging","ftn1","styl1","wvr1","ftn2","styl2","wvr2","pl.","pl.p.","ftn1","styl1","wvr1","ftn2","styl2","wvr2","pl.","pl.p.","ftn1","styl1","wvr1","ftn2","styl2","wvr2","pl.","pl.p.","ftn1","styl1","wvr1","ftn2","styl2","wvr2","pl.","pl.p.","ftn1","styl1","wvr1","ftn2","styl2","wvr2","pl.","pl.p.","ftn1","styl1","wvr1","ftn2","styl2","wvr2","pl.","pl.p.","pl.pnt","pl.pnt","pl.pnt","Afv.","Res.","Afv. Regio","opmerking",null,"ftn1  1e","styl1  1e","ftn2  1e","styl2  1e bar.","1e tot ftn","ftn1  2e","styl1  2e","ftn2  2e","styl2  2e bar.","2e tot ftn","ftn1  3e","styl1  3e","ftn2  3e","styl2  3e bar.","3e tot ftn","ftn1  4e","styl1  4e","ftn2  4e","styl2  4e bar."," 4e tot ftn","ftn1  5e","styl1  5e","ftn2  5e","styl2  5e bar."," 5e tot ftn","ftn1  6e","styl1  6e","ftn2  6e","styl2  6e bar."," 6e tot ftn"]
[1,"918850JV","Wim Vos","Jasper","B -B","Bosruiters, PC. De",0,{"v":85,"d":"85.0"},8.5,{"$nulls":3},1,1,0,{"v":73,"d":"73.0"},{"v":7,"d":"7.0"},{"$nulls":3},3,3,{"$nulls":32},{"$f":"N9+V9+AD9+AL9+AT9+BB9","v":4},{"$f":"IF($O$4>0,(LARGE(($N9,$V9,$AD9,$AL9,$AT9,$BB9),1)),\"0\")","v":"0"},{"$f":"BC9-BD9","v":4},1,null,null,"Kringkampioen",null,{"$f":"IF(G9>99,199,G9)","v":0},{"$f":"IF(H9=\"\",0,H9)","v":85},{"$f":"IF(J9>99,199,J9)","v":0},{"$f":"IF(K9=\"\",0,K9)","v":0},{"$f":"BK9+BM9","v":0},{"$f":"IF(O9>99,199,O9)","v":0},{"$f":"IF(P9=\"\",0,P9)","v":73},{"$f":"IF(R9>99,199,R9)","v":0},{"$f":"IF(S9=\"\",0,S9)","v":0},{"$f":"BP9+BR9","v":0},{"$f":"IF(W9>99,199,W9)","v":0},{"$f":"IF(X9=\"\",0,X9)","v":0},{"$f":"IF(Z9>99,199,Z9)","v":0},{"$f":"IF(AA9=\"\",0,AA9)","v":0},{"$f":"BU9+BW9","v":0},{"$f":"IF(AE9>99,199,AE9)","v":0},{"$f":"IF(AF9=\"\",0,AF9)","v":0},{"$f":"IF(AH9>99,199,AH9)","v":0},{"$f":"IF(AI9=\"\",0,AI9)","v":0},{"$f":"BZ9+CB9","v":0},{"$f":"IF(AM9>99,199,AM9)","v":0},{"$f":"IF(AN9=\"\",0,AN9)","v":0},{"$f":"IF(AP9>99,199,AP9)","v":0},{"$f":"IF(AQ9=\"\",0,AQ9)","v":0},{"$f":"CE9+CG9","v":0},{"$f":"IF(AU9>99,199,AU9)","v":0},{"$f":"IF(AV9=\"\",0,AV9)","v":0},{"$f":"IF(AX9>99,199,AX9)","v":0},{"$f":"IF(AY9=\"\",0,AY9)","v":0},{"$f":"CJ9+CL9","v":0}]
[2,"857207KK","Annelivia Kuijpers","Kaiser","B -A","Schaapskooiruiters, PC. De",0,{"v":61,"d":"61.0"},{"v":6,"d":"6.0"},{"$nulls":3},2,2,0,{"v":73,"d":"73.0"},{"v":7,"d":"7.0"},{"$nulls":3},3,3,{"$nulls":32},5,{"$f":"IF($O$4>0,(LARGE(($N10,$V10,$AD10,$AL10,$AT10,$BB10),1)),\"0\")","v":"0"},5,2,{"$nulls":4},0,61,0,0,0,0,73,0,0,0,0,0,0,0,0,0,0,0,0,0,0,0,0,0,0,0,0,0,0,0]
[3,"875129SB","Robby van Bregt","Shine's Bolero","B -B","Heuvelruiters, PC. De",4,77.5,7.5,{"$nulls":3},3,3,0,{"v":70,"d":"70.0"},{"v":7,"d":"7.0"},{"$nulls":3},5,5,{"$nulls":32},8,{"$f":"IF($O$4>0,(LARGE(($N11,$V11,$AD11,$AL11,$AT11,$BB11),1)),\"0\")","v":"0"},8,null,1,{"$nulls":3},4,77.5,0,0,4,0,70,0,0,0,0,0,0,0,0,0,0,0,0,0,0,0,0,0,0,0,0,0,0,0]
[4,"921261YZ","Anwen Zoet","Ysselvliedt's Nova-Zembla","B -A","Heuvelruiters, PC. De",7,65.5,{"v":6,"d":"6.0"},{"$nulls":3},8,8,0,{"v":77,"d":"77.0"},7.5,{"$nulls":3},1,1,{"$nulls":32},9,{"$f":"IF($O$4>0,(LARGE(($N12,$V12,$AD12,$AL12,$AT12,$BB12),1)),\"0\")","v":"0"},9,null,2,{"$nulls":3},7,65.5,0,0,7,0,77,0,0,0,0,0,0,0,0,0,0,0,0,0,0,0,0,0,0,0,0,0,0,0]
[5,"922213PB","Femke van den Broek","Polly","B -A","Heuvelruiters, PC. De",6,{"v":71,"d":"71.0"},{"v":7,"d":"7.0"},{"$nulls":3},7,7,0,75.5,7.5,{"$nulls":3},2,2,{"$nulls":32},9,{"$f":"IF($O$4>0,(LARGE(($N13,$V13,$AD13,$AL13,$AT13,$BB13),1)),\"0\")","v":"0"},9,{"$nulls":5},6,71,0,0,6,0,75.5,0,0,0,0,0,0,0,0,0,0,0,0,0,0,0,0,0,0,0,0,0,0,0]
[6,"907907HB","Lynn van den Brink","Henshof Wesly","B -B","Klein Maar Dapper, PC.",5,77.5,7.5,{"$nulls":3},6,6,0,68.5,6.5,{"$nulls":3},6,6,{"$nulls":32},12,{"$f":"IF($O$4>0,(LARGE(($N14,$V14,$AD14,$AL14,$AT14,$BB14),1)),\"0\")","v":"0"},12,{"$nulls":5},5,77.5,0,0,5,0,68.5,0,0,0,0,0,0,0,0,0,0,0,0,0,0,0,0,0,0,0,0,0,0,0]
[7,"919653PV","Amy Vos","Pancho","B -B","Klein Maar Dapper, PC.",4,{"v":75,"d":"75.0"},{"v":7,"d":"7.0"},{"$nulls":3},4,4,{"$nulls":7},99,{"$nulls":32},103,{"$f":"IF($O$4>0,(LARGE(($N15,$V15,$AD15,$AL15,$AT15,$BB15),1)),\"0\")","v":"0"},103,{"$nulls":5},4,75,0,0,4,0,0,0,0,0,0,0,0,0,0,0,0,0,0,0,0,0,0,0,0,0,0,0,0,0]
[8,"918967KV","Amy Vos","Kyan","B -B","Klein Maar Dapper, PC.",5,{"v":85,"d":"85.0"},8.5,{"$nulls":3},5,5,{"$nulls":7},99,{"$nulls":32},104,{"$f":"IF($O$4>0,(LARGE(($N16,$V16,$AD16,$AL16,$AT16,$BB16),1)),\"0\")","v":"0"},104,{"$nulls":5},5,85,0,0,5,0,0,0,0,0,0,0,0,0,0,0,0,0,0,0,0,0,0,0,0,0,0,0,0,0]
[9,"926676KJ","Anneloes van de Weg","Fire Fly","B -B","Heuvelruiters, PC. De",{"$nulls":7},99,5,68.5,6.5,{"$nulls":3},7,7,{"$nulls":32},106,{"$f":"IF($O$4>0,(LARGE(($N17,$V17,$AD17,$AL17,$AT17,$BB17),1)),\"0\")","v":"0"},106,{"$nulls":5},0,0,0,0,0,5,68.5,0,0,5,0,0,0,0,0,0,0,0,0,0,0,0,0,0,0,0,0,0,0,0]
[10,"919802OV","Wim Vos","Oscar VS","B -B","Bosruiters, PC. De","Uit2",{"$nulls":6},90,{"$nulls":7},99,{"$nulls":32},189,{"$f":"IF($O$4>0,(LARGE(($N18,$V18,$AD18,$AL18,$AT18,$BB18),1)),\"0\")","v":"0"},189,{"$nulls":5},199,0,0,0,199,0,0,0,0,0,0,0,0,0,0,0,0,0,0,0,0,0,0,0,0,0,0,0,0,0]
[11,"898730LW","Anneloes van de Weg","Lancome Paris","B -B","Heuvelruiters, PC. De","NG",{"$nulls":6},99,{"$nulls":7},99,{"$nulls":32},198,{"$f":"IF($O$4>0,(LARGE(($N19,$V19,$AD19,$AL19,$AT19,$BB19),1)),\"0\")","v":"0"},198,{"$nulls":5},199,0,0,0,199,0,0,0,0,0,0,0,0,0,0,0,0,0,0,0,0,0,0,0,0,0,0,0,0,0]

{"sheet":"B(C)","index":2,"n_rows":14,"n_cols":92,"rows_kept":14,"merged":[[0,0,0,60],[2,0,2,1],[2,2,2,4],[2,5,2,13],[2,14,2,21],[2,22,4,37],[2,54,2,57],[2,59,6,60],[3,0,3,1],[3,2,3,4],[3,5,3,13],[3,14,3,21],[3,54,3,57],[4,0,4,1],[4,2,4,4],[4,5,4,13],[4,14,4,21],[4,54,4,57],[5,0,6,4],[5,6,5,13],[5,14,5,21],[5,22,5,29],[5,30,5,37],[5,38,5,45],[5,46,5,53],[5,54,5,56],[6,6,6,13],[6,14,6,21],[6,22,6,29],[6,30,6,37],[6,38,6,45],[6,46,6,53]]}
["Selectie uitslagen"]
[{"$nulls":13},1,{"$nulls":7},2,{"$nulls":7},3,{"$nulls":7},4,{"$nulls":7},5,{"$nulls":7},6,{"$f":"N2+V2+AD2+AL2+AT2+BB2","v":21},{"$f":"IF($O$4>0,(LARGE(($N2,$V2,$AD2,$AL2,$AT2,$BB2),1)),\"0\")","v":"0"},{"$f":"BC2-BD2","v":21},{"$f":"IF($O$4>1,(LARGE(($N2,$V2,$AD2,$AL2,$AT2,$BB2),1))+(LARGE(($N2,$V2,$AD2,$AL2,$AT2,$BB2),2)),\"0\")","v":"0"},{"$nulls":4},{"$f":"IF(G2>99,199,G2)","v":0},{"$f":"IF(H2=\"\",0,H2)","v":0},{"$f":"IF(J2>99,199,J2)","v":0},{"$f":"IF(K2=\"\",0,K2)","v":0},{"$f":"BK2+BM2","v":0},{"$f":"IF(O2>99,199,O2)","v":0},{"$f":"IF(P2=\"\",0,P2)","v":0},{"$f":"IF(R2>99,199,R2)","v":0},{"$f":"IF(S2=\"\",0,S2)","v":0},{"$f":"BP2+BR2","v":0},{"$f":"IF(W2>99,199,W2)","v":0},{"$f":"IF(X2=\"\",0,X2)","v":0},{"$f":"IF(Z2>99,199,Z2)","v":0},{"$f":"IF(AA2=\"\",0,AA2)","v":0},{"$f":"BU2+BW2","v":0},{"$f":"IF(AE2>99,199,AE2)","v":0},{"$f":"IF(AF2=\"\",0,AF2)","v":0},{"$f":"IF(AH2>99,199,AH2)","v":0},{"$f":"IF(AI2=\"\",0,AI2)","v":0},{"$f":"BZ2+CB2","v":0},{"$f":"IF(AM2>99,199,AM2)","v":0},{"$f":"IF(AN2=\"\",0,AN2)","v":0},{"$f":"IF(AP2>99,199,AP2)","v":0},{"$f":"IF(AQ2=\"\",0,AQ2)","v":0},{"$f":"CE2+CG2","v":0},{"$f":"IF(AU2>99,199,AU2)","v":0},{"$f":"IF(AV2=\"\",0,AV2)","v":0},{"$f":"IF(AX2>99,199,AX2)","v":0},{"$f":"IF(AY2=\"\",0,AY2)","v":0},{"$f":"CJ2+CL2","v":0}]
["Kring:",null,{"$f":"Instellingen!B3","v":"Kring NVF"},null,null,"Aantal afvaardiging Regio:",{"$nulls":8},2,{"$nulls":39},"Aantal wedstrijden:",{"$nulls":3},{"$f":"Instellingen!B6","v":2}]
["Klasse:",null,"B",null,null,"Aantal afval resultaten:",{"$nulls":8},{"$f":"Instellingen!B7","v":0}]
["Cat.:",null,"C",null,null,"Plaatsingspunten niet gestart:",{"$nulls":8},{"$f":"Instellingen!B5","v":99},{"$nulls":39},"Aantal reserves:",{"$nulls":3},2]
[{"$nulls":5},"Lokatie:",{"$f":"Instellingen!B40","v":"Wezep"},{"$nulls":7},{"$f":"Instellingen!B41","v":"Nunspeet"},{"$nulls":7},{"$f":"Instellingen!B42","v":" "},{"$nulls":7},{"$f":"Instellingen!B43","v":" "},{"$nulls":7},{"$f":"Instellingen!B44","v":" "},{"$nulls":7},{"$f":"Instellingen!B45","v":" "},{"$nulls":7},"Springen"]
[{"$nulls":5},"Datum:",{"$f":"Instellingen!C40","v":"04juni2021"},{"$nulls":7},{"$f":"Instellingen!C41","v":"26juni2021"},{"$nulls":7},{"$f":"Instellingen!C42","v":" "},{"$nulls":7},{"$f":"Instellingen!C43","v":" "},{"$nulls":7},{"$f":"Instellingen!C44","v":" "},{"$nulls":7},{"$f":"Instellingen!C45","v":" "},{"$nulls":7},"Tot.","afval","Beste"]
["Pl.","Comb.nr.","Ruiter/amazone","Paard/pony","kl.","vereniging","ftn1","styl1","wvr1","ftn2","styl2","wvr2","pl.","pl.p.","ftn1","styl1","wvr1","ftn2","styl2","wvr2","pl.","pl.p.","ftn1","styl1","wvr1","ftn2","styl2","wvr2","pl.","pl.p.","ftn1","styl1","wvr1","ftn2","styl2","wvr2","pl.","pl.p.","ftn1","styl1","wvr1","ftn2","styl2","wvr2","pl.","pl.p.","ftn1","styl1","wvr1","ftn2","styl2","wvr2","pl.","pl.p.","pl.pnt","pl.pnt","pl.pnt","Afv.","Res.","Afv. Regio","opmerking",null,"ftn1  1e","styl1  1e","ftn2  1e","styl2  1e bar.","1e tot ftn","ftn1  2e","styl1  2e","ftn2  2e","styl2  2e bar.","2e tot ftn","ftn1  3e","styl1  3e","ftn2  3e","styl2  3e bar.","3e tot ftn","ftn1  4e","styl1  4e","ftn2  4e","styl2  4e bar."," 4e tot ftn","ftn1  5e","styl1  5e","ftn2  5e","styl2  5e bar."," 5e tot ftn","ftn1  6e","styl1  6e","ftn2  6e","styl2  6e bar."," 6e tot ftn"]
[1,"925464MH","Loïs Van den Heuvel","Macho","B -C","WWNA, PC.",8,{"v":61,"d":"61.0"},{"v":6,"d":"6.0"},{"$nulls":3},3,3,0,68.5,6.5,{"$nulls":3},3,3,{"$nulls":32},{"$f":"N9+V9+AD9+AL9+AT9+BB9","v":6},{"$f":"IF($O$4>0,(LARGE(($N9,$V9,$AD9,$AL9,$AT9,$BB9),1)),\"0\")","v":"0"},{"$f":"BC9-BD9","v":6},1,null,null,"Kringkampioen",null,{"$f":"IF(G9>99,199,G9)","v":8},{"$f":"IF(H9=\"\",0,H9)","v":61},{"$f":"IF(J9>99,199,J9)","v":0},{"$f":"IF(K9=\"\",0,K9)","v":0},{"$f":"BK9+BM9","v":8},{"$f":"IF(O9>99,199,O9)","v":0},{"$f":"IF(P9=\"\",0,P9)","v":68.5},{"$f":"IF(R9>99,199,R9)","v":0},{"$f":"IF(S9=\"\",0,S9)","v":0},{"$f":"BP9+BR9","v":0},{"$f":"IF(W9>99,199,W9)","v":0},{"$f":"IF(X9=\"\",0,X9)","v":0},{"$f":"IF(Z9>99,199,Z9)","v":0},{"$f":"IF(AA9=\"\",0,AA9)","v":0},{"$f":"BU9+BW9","v":0},{"$f":"IF(AE9>99,199,AE9)","v":0},{"$f":"IF(AF9=\"\",0,AF9)","v":0},{"$f":"IF(AH9>99,199,AH9)","v":0},{"$f":"IF(AI9=\"\",0,AI9)","v":0},{"$f":"BZ9+CB9","v":0},{"$f":"IF(AM9>99,199,AM9)","v":0},{"$f":"IF(AN9=\"\",0,AN9)","v":0},{"$f":"IF(AP9>99,199,AP9)","v":0},{"$f":"IF(AQ9=\"\",0,AQ9)","v":0},{"$f":"CE9+CG9","v":0},{"$f":"IF(AU9>99,199,AU9)","v":0},{"$f":"IF(AV9=\"\",0,AV9)","v":0},{"$f":"IF(AX9>99,199,AX9)","v":0},{"$f":"IF(AY9=\"\",0,AY9)","v":0},{"$f":"CJ9+CL9","v":0}]
[2,"905942NV","Emma Vierhuis","Nansum","B -C","Heuvelruiters, PC. De",0,{"v":71,"d":"71.0"},{"v":7,"d":"7.0"},{"$nulls":3},2,2,0,{"v":68,"d":"68.0"},6.5,{"$nulls":3},4,4,{"$nulls":32},6,{"$f":"IF($O$4>0,(LARGE(($N10,$V10,$AD10,$AL10,$AT10,$BB10),1)),\"0\")","v":"0"},6,2,{"$nulls":4},{"$f":"IF(G10>99,199,G10)","v":0},{"$f":"IF(H10=\"\",0,H10)","v":71},{"$f":"IF(J10>99,199,J10)","v":0},{"$f":"IF(K10=\"\",0,K10)","v":0},0,0,68,0,0,0,0,0,0,0,0,0,0,0,0,0,0,0,0,0,0,0,0,0,0,0]
[6,"924037MB","Elise  Begeman","Bestie van de Hazelhof","B-C","Klein Maar Dapper, PC.","Uit2",{"$nulls":6},90,0,{"v":70,"d":"70.0"},{"v":7,"d":"7.0"},{"$nulls":3},2,2,{"$nulls":32},92,{"$f":"IF($O$4>0,(LARGE((#REF!,$V11,$AD11,$AL11,$AT11,$BB11),1)),\"0\")","v":"0"},92,null,1,{"$nulls":3},{"$f":"IF(#REF!>99,199,#REF!)","v":{"$error":"#REF!"}},{"$f":"IF(#REF!=\"\",0,#REF!)","v":{"$error":"#REF!"}},{"$f":"IF(#REF!>99,199,#REF!)","v":{"$error":"#REF!"}},{"$f":"IF(#REF!=\"\",0,#REF!)","v":{"$error":"#REF!"}},{"$error":"#REF!"},0,70,0,0,0,0,0,0,0,0,0,0,0,0,0,0,0,0,0,0,0,0,0,0,0]
[3,"925949IK","Aimee Kostelijk","Indah mare Mini","B -C","Flevoruiters, PC.","Uit11",{"$nulls":6},90,4,70.5,{"v":7,"d":"7.0"},{"$nulls":3},5,5,{"$nulls":32},95,{"$f":"IF($O$4>0,(LARGE(($N12,$V12,$AD12,$AL12,$AT12,$BB12),1)),\"0\")","v":"0"},95,null,2,{"$nulls":3},{"$f":"IF(G12>99,199,G12)","v":199},{"$f":"IF(H12=\"\",0,H12)","v":0},{"$f":"IF(J12>99,199,J12)","v":0},{"$f":"IF(K12=\"\",0,K12)","v":0},199,4,70.5,0,0,4,0,0,0,0,0,0,0,0,0,0,0,0,0,0,0,0,0,0,0,0]
[4,"905250GP","Liandrie Peek","Gwen","B -C","Klein Maar Dapper, PC.","Uit12",{"$nulls":6},90,16,66.5,6.5,{"$nulls":3},6,6,{"$nulls":32},96,{"$f":"IF($O$4>0,(LARGE(($N13,$V13,$AD13,$AL13,$AT13,$BB13),1)),\"0\")","v":"0"},96,{"$nulls":5},{"$f":"IF(G13>99,199,G13)","v":199},{"$f":"IF(H13=\"\",0,H13)","v":0},{"$f":"IF(J13>99,199,J13)","v":0},{"$f":"IF(K13=\"\",0,K13)","v":0},199,16,66.5,0,0,16,0,0,0,0,0,0,0,0,0,0,0,0,0,0,0,0,0,0,0,0]
[5,"916404MK","Gustina Karssen","MIK's Turbo Toby","B -C","Bosruiters, PC. De",0,{"v":80,"d":"80.0"},{"v":8,"d":"8.0"},{"$nulls":3},1,99,0,{"v":78,"d":"78.0"},{"v":8,"d":"8.0"},{"$nulls":3},1,1,{"$nulls":32},100,{"$f":"IF($O$4>0,(LARGE(($N14,$V14,$AD14,$AL14,$AT14,$BB14),1)),\"0\")","v":"0"},100,{"$nulls":3},"Flexibel L",null,{"$f":"IF(G14>99,199,G14)","v":0},{"$f":"IF(H14=\"\",0,H14)","v":80},{"$f":"IF(J14>99,199,J14)","v":0},{"$f":"IF(K14=\"\",0,K14)","v":0},0,0,78,0,0,0,0,0,0,0,0,0,0,0,0,0,0,0,0,0,0,0,0,0,0,0]

{"sheet":"B(DE)","index":3,"n_rows":40,"n_cols":92,"rows_kept":40,"merged":[[0,0,0,60],[2,0,2,1],[2,2,2,4],[2,5,2,13],[2,14,2,21],[2,22,4,37],[2,54,2,57],[2,59,6,60],[3,0,3,1],[3,2,3,4],[3,5,3,13],[3,14,3,21],[3,54,3,57],[4,0,4,1],[4,2,4,4],[4,5,4,13],[4,14,4,21],[4,54,4,57],[5,0,6,4],[5,6,5,13],[5,14,5,21],[5,22,5,29],[5,30,5,37],[5,38,5,45],[5,46,5,53],[5,54,5,56],[6,6,6,13],[6,14,6,21],[6,22,6,29],[6,30,6,37],[6,38,6,45],[6,46,6,53]]}
["Selectie uitslagen"]
[{"$nulls":13},1,{"$nulls":7},2,{"$nulls":7},3,{"$nulls":7},4,{"$nulls":7},5,{"$nulls":7},6,{"$f":"N2+V2+AD2+AL2+AT2+BB2","v":21},{"$f":"IF($O$4>0,(LARGE(($N2,$V2,$AD2,$AL2,$AT2,$BB2),1)),\"0\")","v":"0"},{"$f":"BC2-BD2","v":21},{"$f":"IF($O$4>1,(LARGE(($N2,$V2,$AD2,$AL2,$AT2,$BB2),1))+(LARGE(($N2,$V2,$AD2,$AL2,$AT2,$BB2),2)),\"0\")","v":"0"},{"$nulls":4},{"$f":"IF(G2>99,199,G2)","v":0},{"$f":"IF(H2=\"\",0,H2)","v":0},{"$f":"IF(J2>99,199,J2)","v":0},{"$f":"IF(K2=\"\",0,K2)","v":0},{"$f":"BK2+BM2","v":0},{"$f":"IF(O2>99,199,O2)","v":0},{"$f":"IF(P2=\"\",0,P2)","v":0},{"$f":"IF(R2>99,199,R2)","v":0},{"$f":"IF(S2=\"\",0,S2)","v":0},{"$f":"BP2+BR2","v":0},{"$f":"IF(W2>99,199,W2)","v":0},{"$f":"IF(X2=\"\",0,X2)","v":0},{"$f":"IF(Z2>99,199,Z2)","v":0},{"$f":"IF(AA2=\"\",0,AA2)","v":0},{"$f":"BU2+BW2","v":0},{"$f":"IF(AE2>99,199,AE2)","v":0},{"$f":"IF(AF2=\"\",0,AF2)","v":0},{"$f":"IF(AH2>99,199,AH2)","v":0},{"$f":"IF(AI2=\"\",0,AI2)","v":0},{"$f":"BZ2+CB2","v":0},{"$f":"IF(AM2>99,199,AM2)","v":0},{"$f":"IF(AN2=\"\",0,AN2)","v":0},{"$f":"IF(AP2>99,199,AP2)","v":0},{"$f":"IF(AQ2=\"\",0,AQ2)","v":0},{"$f":"CE2+CG2","v":0},{"$f":"IF(AU2>99,199,AU2)","v":0},{"$f":"IF(AV2=\"\",0,AV2)","v":0},{"$f":"IF(AX2>99,199,AX2)","v":0},{"$f":"IF(AY2=\"\",0,AY2)","v":0},{"$f":"CJ2+CL2","v":0}]
["Kring:",null,{"$f":"Instellingen!B3","v":"Kring NVF"},null,null,"Aantal afvaardiging Regio:",{"$nulls":8},7,{"$nulls":39},"Aantal wedstrijden:",{"$nulls":3},{"$f":"Instellingen!B6","v":2}]
["Klasse:",null,"B",null,null,"Aantal afval resultaten:",{"$nulls":8},{"$f":"Instellingen!B7","v":0}]
["Cat.:",null,"D / E",null,null,"Plaatsingspunten niet gestart:",{"$nulls":8},{"$f":"Instellingen!B5","v":99},{"$nulls":39},"Aantal reserves:",{"$nulls":3},2]
[{"$nulls":5},"Lokatie:",{"$f":"Instellingen!B40","v":"Wezep"},{"$nulls":7},{"$f":"Instellingen!B41","v":"Nunspeet"},{"$nulls":7},{"$f":"Instellingen!B42","v":" "},{"$nulls":7},{"$f":"Instellingen!B43","v":" "},{"$nulls":7},{"$f":"Instellingen!B44","v":" "},{"$nulls":7},{"$f":"Instellingen!B45","v":" "},{"$nulls":7},"Springen"]
[{"$nulls":5},"Datum:",{"$f":"Instellingen!C40","v":"04juni2021"},{"$nulls":7},{"$f":"Instellingen!C41","v":"26juni2021"},{"$nulls":7},{"$f":"Instellingen!C42","v":" "},{"$nulls":7},{"$f":"Instellingen!C43","v":" "},{"$nulls":7},{"$f":"Instellingen!C44","v":" "},{"$nulls":7},{"$f":"Instellingen!C45","v":" "},{"$nulls":7},"Tot.","afval","Beste"]
["Pl.","Comb.nr.","Ruiter/amazone","Paard/pony","kl.","vereniging","ftn1","styl1","wvr1","ftn2","styl2","wvr2","pl.","pl.p.","ftn1","styl1","wvr1","ftn2","styl2","wvr2","pl.","pl.p.","ftn1","styl1","wvr1","ftn2","styl2","wvr2","pl.","pl.p.","ftn1","styl1","wvr1","ftn2","styl2","wvr2","pl.","pl.p.","ftn1","styl1","wvr1","ftn2","styl2","wvr2","pl.","pl.p.","ftn1","styl1","wvr1","ftn2","styl2","wvr2","pl.","pl.p.","pl.pnt","pl.pnt","pl.pnt","Afv.","Res.","Afv. Regio","opmerking",null,"ftn1  1e","styl1  1e","ftn2  1e","styl2  1e bar.","1e tot ftn","ftn1  2e","styl1  2e","ftn2  2e","styl2  2e bar.","2e tot ftn","ftn1  3e","styl1  3e","ftn2  3e","styl2  3e bar.","3e tot ftn","ftn1  4e","styl1  4e","ftn2  4e","styl2  4e bar."," 4e tot ftn","ftn1  5e","styl1  5e","ftn2  5e","styl2  5e bar."," 5e tot ftn","ftn1  6e","styl1  6e","ftn2  6e","styl2  6e bar."," 6e tot ftn"]
[1,"919222CP","Liandrie Peek","Cheela","B -D","Klein Maar Dapper, PC.",0,82.5,8.5,{"$nulls":3},2,2,0,71.5,{"v":7,"d":"7.0"},{"$nulls":3},4,4,{"$nulls":32},{"$f":"N9+V9+AD9+AL9+AT9+BB9","v":6},{"$f":"IF($O$4>0,(LARGE(($N9,$V9,$AD9,$AL9,$AT9,$BB9),1)),\"0\")","v":"0"},{"$f":"BC9-BD9","v":6},1,null,null,"Kringkampioen",null,{"$f":"IF(G9>99,199,G9)","v":0},{"$f":"IF(H9=\"\",0,H9)","v":82.5},{"$f":"IF(J9>99,199,J9)","v":0},{"$f":"IF(K9=\"\",0,K9)","v":0},{"$f":"BK9+BM9","v":0},{"$f":"IF(O9>99,199,O9)","v":0},{"$f":"IF(P9=\"\",0,P9)","v":71.5},{"$f":"IF(R9>99,199,R9)","v":0},{"$f":"IF(S9=\"\",0,S9)","v":0},{"$f":"BP9+BR9","v":0},{"$f":"IF(W9>99,199,W9)","v":0},{"$f":"IF(X9=\"\",0,X9)","v":0},{"$f":"IF(Z9>99,199,Z9)","v":0},{"$f":"IF(AA9=\"\",0,AA9)","v":0},{"$f":"BU9+BW9","v":0},{"$f":"IF(AE9>99,199,AE9)","v":0},{"$f":"IF(AF9=\"\",0,AF9)","v":0},{"$f":"IF(AH9>99,199,AH9)","v":0},{"$f":"IF(AI9=\"\",0,AI9)","v":0},{"$f":"BZ9+CB9","v":0},{"$f":"IF(AM9>99,199,AM9)","v":0},{"$f":"IF(AN9=\"\",0,AN9)","v":0},{"$f":"IF(AP9>99,199,AP9)","v":0},{"$f":"IF(AQ9=\"\",0,AQ9)","v":0},{"$f":"CE9+CG9","v":0},{"$f":"IF(AU9>99,199,AU9)","v":0},{"$f":"IF(AV9=\"\",0,AV9)","v":0},{"$f":"IF(AX9>99,199,AX9)","v":0},{"$f":"IF(AY9=\"\",0,AY9)","v":0},{"$f":"CJ9+CL9","v":0}]
[2,"920231WB","Pieter Berkhoff","Warrior Lad","B -D","Klein Maar Dapper, PC.",0,{"v":80,"d":"80.0"},{"v":8,"d":"8.0"},{"$nulls":3},5,5,0,73.5,{"v":7,"d":"7.0"},{"$nulls":3},3,3,{"$nulls":32},8,{"$f":"IF($O$4>0,(LARGE(($N10,$V10,$AD10,$AL10,$AT10,$BB10),1)),\"0\")","v":"0"},8,2,{"$nulls":4},0,80,0,0,0,0,73.5,0,0,0,0,0,0,0,0,0,0,0,0,0,0,0,0,0,0,0,0,0,0,0]
[3,"899617EL","Demi van Leeuwen","Enjoy","B -D","Flevoruiters, PC.",0,{"v":76,"d":"76.0"},7.5,{"$nulls":3},8,8,0,75.5,7.5,{"$nulls":3},2,2,{"$nulls":32},10,{"$f":"IF($O$4>0,(LARGE(($N11,$V11,$AD11,$AL11,$AT11,$BB11),1)),\"0\")","v":"0"},10,3,{"$nulls":4},0,76,0,0,0,0,75.5,0,0,0,0,0,0,0,0,0,0,0,0,0,0,0,0,0,0,0,0,0,0,0]
[4,"892331BH","Fleur Hillen","Blueberry W","B -E","Klein Maar Dapper, PC.",0,80.5,{"v":8,"d":"8.0"},{"$nulls":3},4,4,0,{"v":68,"d":"68.0"},6.5,{"$nulls":3},8,8,{"$nulls":32},12,{"$f":"IF($O$4>0,(LARGE(($N12,$V12,$AD12,$AL12,$AT12,$BB12),1)),\"0\")","v":"0"},12,4,{"$nulls":4},0,80.5,0,0,0,0,68,0,0,0,0,0,0,0,0,0,0,0,0,0,0,0,0,0,0,0,0,0,0,0]
[5,"918839EK","Yael Kooiker","Elexa","B -E","Heuvelruiters, PC. De",4,{"v":80,"d":"80.0"},{"v":8,"d":"8.0"},{"$nulls":3},18,18,0,77.5,7.5,{"$nulls":3},1,1,{"$nulls":32},19,{"$f":"IF($O$4>0,(LARGE(($N13,$V13,$AD13,$AL13,$AT13,$BB13),1)),\"0\")","v":"0"},19,5,{"$nulls":4},4,80,0,0,4,0,77.5,0,0,0,0,0,0,0,0,0,0,0,0,0,0,0,0,0,0,0,0,0,0,0]
[6,"923267JS","Tara Sas","Jasper","B -D","Klein Maar Dapper, PC.",0,71.5,{"v":7,"d":"7.0"},{"$nulls":3},14,14,0,67.5,6.5,{"$nulls":3},9,9,{"$nulls":32},23,{"$f":"IF($O$4>0,(LARGE(($N14,$V14,$AD14,$AL14,$AT14,$BB14),1)),\"0\")","v":"0"},23,6,{"$nulls":4},0,71.5,0,0,0,0,67.5,0,0,0,0,0,0,0,0,0,0,0,0,0,0,0,0,0,0,0,0,0,0,0]
[7,"915611DP","Louisa Pongers","Deejay","B -D","Heuvelruiters, PC. De",0,{"v":75,"d":"75.0"},{"v":7,"d":"7.0"},{"$nulls":3},11,11,4,63.5,{"v":6,"d":"6.0"},{"$nulls":3},17,17,{"$nulls":32},28,{"$f":"IF($O$4>0,(LARGE(($N15,$V15,$AD15,$AL15,$AT15,$BB15),1)),\"0\")","v":"0"},28,7,{"$nulls":4},0,75,0,0,0,4,63.5,0,0,4,0,0,0,0,0,0,0,0,0,0,0,0,0,0,0,0,0,0,0,0]
[8,"914996CZ","Kyara van der Ziel","Creekman's Cas","B -D","Noord Veluwe, PC. PSV",0,67.5,6.5,{"$nulls":3},15,15,4,{"v":75,"d":"75.0"},{"v":7,"d":"7.0"},{"$nulls":3},14,14,{"$nulls":32},29,{"$f":"IF($O$4>0,(LARGE(($N16,$V16,$AD16,$AL16,$AT16,$BB16),1)),\"0\")","v":"0"},29,null,1,{"$nulls":3},0,67.5,0,0,0,4,75,0,0,4,0,0,0,0,0,0,0,0,0,0,0,0,0,0,0,0,0,0,0,0]
[9,"824493ZV","Amber Vriesema","Zaragossa","B -D","Klein Maar Dapper, PC.",6,{"v":75,"d":"75.0"},7.5,{"$nulls":3},20,20,0,65.5,6.5,{"$nulls":3},12,12,{"$nulls":32},32,{"$f":"IF($O$4>0,(LARGE(($N17,$V17,$AD17,$AL17,$AT17,$BB17),1)),\"0\")","v":"0"},32,null,2,{"$nulls":3},6,75,0,0,6,0,65.5,0,0,0,0,0,0,0,0,0,0,0,0,0,0,0,0,0,0,0,0,0,0,0]
[10,"922216GB","Femke van den Broek","Grey Lady","B -D","Heuvelruiters, PC. De",16,67.5,6.5,{"$nulls":3},23,23,4,65.5,6.5,{"$nulls":3},16,16,{"$nulls":32},39,{"$f":"IF($O$4>0,(LARGE(($N18,$V18,$AD18,$AL18,$AT18,$BB18),1)),\"0\")","v":"0"},39,null,3,{"$nulls":3},16,67.5,0,0,16,4,65.5,0,0,4,0,0,0,0,0,0,0,0,0,0,0,0,0,0,0,0,0,0,0,0]
[11,"918988AD","Noreen van den Dragt","Ahey Bridge Silver","B -E","Klein Maar Dapper, PC.",8,{"v":75,"d":"75.0"},{"v":7,"d":"7.0"},{"$nulls":3},21,21,8,{"v":75,"d":"75.0"},7.5,{"$nulls":3},19,19,{"$nulls":32},40,{"$f":"IF($O$4>0,(LARGE(($N19,$V19,$AD19,$AL19,$AT19,$BB19),1)),\"0\")","v":"0"},40,{"$nulls":5},8,75,0,0,8,8,75,0,0,8,0,0,0,0,0,0,0,0,0,0,0,0,0,0,0,0,0,0,0,0]
[12,"906560DB","Jayla Buitenhuis","De Hofstede's Brujan","B-D","Bosruiters, PC. De",{"$nulls":7},99,0,70.5,{"v":7,"d":"7.0"},{"$nulls":3},6,6,{"$nulls":32},105,{"$f":"IF($O$4>0,(LARGE(($N20,$V20,$AD20,$AL20,$AT20,$BB20),1)),\"0\")","v":"0"},105,{"$nulls":5},0,0,0,0,0,0,70.5,0,0,0,0,0,0,0,0,0,0,0,0,0,0,0,0,0,0,0,0,0,0,0]
[13,"892873HE","Noelle Elzinga","Harvey","B-D","WWNA",{"$nulls":7},99,0,{"v":66,"d":"66.0"},6.5,{"$nulls":3},10,10,{"$nulls":32},109,{"$f":"IF($O$4>0,(LARGE(($N21,$V21,$AD21,$AL21,$AT21,$BB21),1)),\"0\")","v":"0"},109,{"$nulls":5},0,0,0,0,0,0,66,0,0,0,0,0,0,0,0,0,0,0,0,0,0,0,0,0,0,0,0,0,0,0]
[14,"854301UJ","Elisa Jansen","Uncle Sam","B-D","Klein Maar Dapper, PC.",{"$nulls":7},99,0,65.5,6.5,{"$nulls":3},12,12,{"$nulls":32},111,{"$f":"IF($O$4>0,(LARGE(($N22,$V22,$AD22,$AL22,$AT22,$BB22),1)),\"0\")","v":"0"},111,{"$nulls":5},0,0,0,0,0,0,65.5,0,0,0,0,0,0,0,0,0,0,0,0,0,0,0,0,0,0,0,0,0,0,0]
[15,"919927FO","Jasmijn Oude Alink","Fly de la Noyelle","B -D","Heuvelruiters, PC. De",0,{"v":73,"d":"73.0"},{"v":7,"d":"7.0"},{"$nulls":3},12,12,{"$nulls":7},99,{"$nulls":32},111,{"$f":"IF($O$4>0,(LARGE(($N23,$V23,$AD23,$AL23,$AT23,$BB23),1)),\"0\")","v":"0"},111,{"$nulls":5},0,73,0,0,0,0,0,0,0,0,0,0,0,0,0,0,0,0,0,0,0,0,0,0,0,0,0,0,0,0]
[16,"926352KK","Mariana Karssen","MK zwarte Cobra","B -D","Bosruiters, PC. De",0,67.5,6.5,{"$nulls":3},15,15,{"$nulls":7},99,{"$nulls":32},114,{"$f":"IF($O$4>0,(LARGE(($N24,$V24,$AD24,$AL24,$AT24,$BB24),1)),\"0\")","v":"0"},114,{"$nulls":5},0,67.5,0,0,0,0,0,0,0,0,0,0,0,0,0,0,0,0,0,0,0,0,0,0,0,0,0,0,0,0]
[17,"815612KB","Romy Bronsink","Kick","B-E","Schaapskooiruiters, PC de",{"$nulls":7},99,4,62.5,{"v":6,"d":"6.0"},{"$nulls":3},18,18,{"$nulls":32},117,{"$f":"IF($O$4>0,(LARGE(($N25,$V25,$AD25,$AL25,$AT25,$BB25),1)),\"0\")","v":"0"},117,{"$nulls":5},0,0,0,0,0,4,62.5,0,0,4,0,0,0,0,0,0,0,0,0,0,0,0,0,0,0,0,0,0,0,0]
[18,"898353BW","Renée Van der Weide","Bbn Buddha To Buddha","B -D","Driehoekruiters, PC. De",4,{"v":75,"d":"75.0"},7.5,{"$nulls":3},19,19,{"$nulls":7},99,{"$nulls":32},118,{"$f":"IF($O$4>0,(LARGE(($N26,$V26,$AD26,$AL26,$AT26,$BB26),1)),\"0\")","v":"0"},118,{"$nulls":5},4,75,0,0,4,0,0,0,0,0,0,0,0,0,0,0,0,0,0,0,0,0,0,0,0,0,0,0,0,0]
[19,"871683LM","Ilse Mol","Leroy Beaulieu","B-D","Klein Maar Dapper, PC.",{"$nulls":7},99,8,57.5,5.5,{"$nulls":3},20,20,{"$nulls":32},119,{"$f":"IF($O$4>0,(LARGE(($N27,$V27,$AD27,$AL27,$AT27,$BB27),1)),\"0\")","v":"0"},119,{"$nulls":5},0,0,0,0,0,8,57.5,0,0,8,0,0,0,0,0,0,0,0,0,0,0,0,0,0,0,0,0,0,0,0]
[20,"888188LL","Fleur Laar","Lady Holly","B -D","Driehoekruiters, PC. De",8,{"v":70,"d":"70.0"},{"v":7,"d":"7.0"},{"$nulls":3},22,22,{"$nulls":7},99,{"$nulls":32},121,{"$f":"IF($O$4>0,(LARGE(($N28,$V28,$AD28,$AL28,$AT28,$BB28),1)),\"0\")","v":"0"},121,{"$nulls":5},8,70,0,0,8,0,0,0,0,0,0,0,0,0,0,0,0,0,0,0,0,0,0,0,0,0,0,0,0,0]
[21,"907934DC","Lieke ten Cate","Dempsy Amalia","B -D","Noord Veluwe, PC. PSV","Uit5",{"$nulls":6},90,{"$nulls":7},99,{"$nulls":32},189,{"$f":"IF($O$4>0,(LARGE(($N29,$V29,$AD29,$AL29,$AT29,$BB29),1)),\"0\")","v":"0"},189,{"$nulls":5},199,0,0,0,199,0,0,0,0,0,0,0,0,0,0,0,0,0,0,0,0,0,0,0,0,0,0,0,0,0]
[21,"919300AW","Naomi Wastenecker","Amber","B -D","Noord Veluwe, PC. PSV","Uit5",{"$nulls":6},90,{"$nulls":7},99,{"$nulls":32},189,{"$f":"IF($O$4>0,(LARGE(($N30,$V30,$AD30,$AL30,$AT30,$BB30),1)),\"0\")","v":"0"},189,{"$nulls":5},199,0,0,0,199,0,0,0,0,0,0,0,0,0,0,0,0,0,0,0,0,0,0,0,0,0,0,0,0,0]
[23,"908329SH","Babette Hanse","Shadow","B -D","Flevoruiters, PC.",0,{"v":85,"d":"85.0"},8.5,{"$nulls":3},1,99,0,{"v":71,"d":"71.0"},{"v":7,"d":"7.0"},{"$nulls":3},5,99,{"$nulls":32},198,{"$f":"IF($O$4>0,(LARGE(($N31,$V31,$AD31,$AL31,$AT31,$BB31),1)),\"0\")","v":"0"},198,{"$nulls":3},"Flexibel L",null,0,85,0,0,0,0,71,0,0,0,0,0,0,0,0,0,0,0,0,0,0,0,0,0,0,0,0,0,0,0]
[23,"840843LA","Desiree Agterhuis","Lotte","B -D","Driehoekruiters, PC. De",0,75.5,7.5,{"$nulls":3},9,99,0,{"v":70,"d":"70.0"},{"v":7,"d":"7.0"},{"$nulls":3},7,99,{"$nulls":32},198,{"$f":"IF($O$4>0,(LARGE(($N32,$V32,$AD32,$AL32,$AT32,$BB32),1)),\"0\")","v":"0"},198,{"$nulls":3},"Flexibel L",null,0,75.5,0,0,0,0,70,0,0,0,0,0,0,0,0,0,0,0,0,0,0,0,0,0,0,0,0,0,0,0]
[23,"905375KK","Gustina Karssen","King","B -D","Bosruiters, PC. De",0,77.5,7.5,{"$nulls":3},6,99,0,{"v":66,"d":"66.0"},6.5,{"$nulls":3},10,99,{"$nulls":32},198,{"$f":"IF($O$4>0,(LARGE(($N33,$V33,$AD33,$AL33,$AT33,$BB33),1)),\"0\")","v":"0"},198,{"$nulls":3},"Flexibel L",null,0,77.5,0,0,0,0,66,0,0,0,0,0,0,0,0,0,0,0,0,0,0,0,0,0,0,0,0,0,0,0]
[23,"907949NV","Mariesa Veenstra","Newgrange Snowdrop","B -D","Heuvelruiters, PC. De",0,{"v":72,"d":"72.0"},{"v":7,"d":"7.0"},{"$nulls":3},13,99,4,67.5,6.5,{"$nulls":3},15,99,{"$nulls":32},198,{"$f":"IF($O$4>0,(LARGE(($N34,$V34,$AD34,$AL34,$AT34,$BB34),1)),\"0\")","v":"0"},198,{"$nulls":3},"Flexibel L",null,0,72,0,0,0,4,67.5,0,0,4,0,0,0,0,0,0,0,0,0,0,0,0,0,0,0,0,0,0,0,0]
[23,"927760RK","Mariana Karssen","Flying on Fire","B -D","Bosruiters, PC. De",{"$nulls":7},99,"NG",{"$nulls":6},99,{"$nulls":32},198,{"$f":"IF($O$4>0,(LARGE(($N35,$V35,$AD35,$AL35,$AT35,$BB35),1)),\"0\")","v":"0"},198,{"$nulls":3},"Flexibel L",null,0,0,0,0,0,199,0,0,0,199,0,0,0,0,0,0,0,0,0,0,0,0,0,0,0,0,0,0,0,0]
[23,"911874RD","Elvira Van den Dragt","Replay","B -D","Klein Maar Dapper, PC.",0,82.5,{"v":8,"d":"8.0"},{"$nulls":3},3,99,{"$nulls":7},99,{"$nulls":32},198,{"$f":"IF($O$4>0,(LARGE(($N36,$V36,$AD36,$AL36,$AT36,$BB36),1)),\"0\")","v":"0"},198,{"$nulls":3},"Flexibel L",null,0,82.5,0,0,0,0,0,0,0,0,0,0,0,0,0,0,0,0,0,0,0,0,0,0,0,0,0,0,0,0]
[23,"908794TK","Aimee Kostelijk","TJM XTC van Seldsum","B -E","Flevoruiters, PC.",0,{"v":77,"d":"77.0"},{"v":7,"d":"7.0"},{"$nulls":3},7,99,{"$nulls":7},99,{"$nulls":32},198,{"$f":"IF($O$4>0,(LARGE(($N37,$V37,$AD37,$AL37,$AT37,$BB37),1)),\"0\")","v":"0"},198,{"$nulls":3},"Flexibel L",null,0,77,0,0,0,0,0,0,0,0,0,0,0,0,0,0,0,0,0,0,0,0,0,0,0,0,0,0,0,0]
[23,"920298CK","Mariana Karssen","Carlando","B -D","Bosruiters, PC. De",0,75.5,7.5,{"$nulls":3},9,99,{"$nulls":7},99,{"$nulls":32},198,{"$f":"IF($O$4>0,(LARGE(($N38,$V38,$AD38,$AL38,$AT38,$BB38),1)),\"0\")","v":"0"},198,{"$nulls":3},"Flexibel L",null,0,75.5,0,0,0,0,0,0,0,0,0,0,0,0,0,0,0,0,0,0,0,0,0,0,0,0,0,0,0,0]
[23,"906516HI","Nizbeth Israël","Hamlet's Apple's Goldeneye","B -D","Flevoruiters, PC.",0,67.5,6.5,{"$nulls":3},15,99,{"$nulls":7},99,{"$nulls":32},198,{"$f":"IF($O$4>0,(LARGE(($N39,$V39,$AD39,$AL39,$AT39,$BB39),1)),\"0\")","v":"0"},198,{"$nulls":3},"Flexibel L",null,0,67.5,0,0,0,0,0,0,0,0,0,0,0,0,0,0,0,0,0,0,0,0,0,0,0,0,0,0,0,0]
[23,"895533PB","Robby van Bregt","Pacman","B -D","Heuvelruiters, PC. De","NG",{"$nulls":6},99,{"$nulls":7},99,{"$nulls":32},198,{"$f":"IF($O$4>0,(LARGE(($N40,$V40,$AD40,$AL40,$AT40,$BB40),1)),\"0\")","v":"0"},198,{"$nulls":5},199,0,0,0,199,0,0,0,0,0,0,0,0,0,0,0,0,0,0,0,0,0,0,0,0,0,0,0,0,0]

{"sheet":"L(AB)","index":4,"n_rows":13,"n_cols":92,"rows_kept":13,"merged":[[0,0,0,60],[2,0,2,1],[2,2,2,4],[2,5,2,13],[2,14,2,21],[2,22,4,37],[2,54,2,57],[2,59,6,60],[3,0,3,1],[3,2,3,4],[3,5,3,13],[3,14,3,21],[3,54,3,57],[4,0,4,1],[4,2,4,4],[4,5,4,13],[4,14,4,21],[4,54,4,57],[5,0,6,4],[5,6,5,13],[5,14,5,21],[5,22,5,29],[5,30,5,37],[5,38,5,45],[5,46,5,53],[5,54,5,56],[6,6,6,13],[6,14,6,21],[6,22,6,29],[6,30,6,37],[6,38,6,45],[6,46,6,53]]}
["Selectie uitslagen"]
[{"$nulls":13},1,{"$nulls":7},2,{"$nulls":7},3,{"$nulls":7},4,{"$nulls":7},5,{"$nulls":7},6,{"$f":"N2+V2+AD2+AL2+AT2+BB2","v":21},{"$f":"IF($O$4>0,(LARGE(($N2,$V2,$AD2,$AL2,$AT2,$BB2),1)),\"0\")","v":"0"},{"$f":"BC2-BD2","v":21},{"$f":"IF($O$4>1,(LARGE(($N2,$V2,$AD2,$AL2,$AT2,$BB2),1))+(LARGE(($N2,$V2,$AD2,$AL2,$AT2,$BB2),2)),\"0\")","v":"0"},{"$nulls":4},{"$f":"IF(G2>99,199,G2)","v":0},{"$f":"IF(H2>99,0,H2)","v":0},{"$f":"IF(J2>99,199,J2)","v":0},{"$f":"IF(K2>99,0,K2)","v":0},{"$f":"BK2+BM2","v":0},{"$f":"IF(O2>99,199,O2)","v":0},{"$f":"IF(P2>99,0,P2)","v":0},{"$f":"IF(R2>99,199,R2)","v":0},{"$f":"IF(S2>99,0,S2)","v":0},{"$f":"BP2+BR2","v":0},{"$f":"IF(W2>99,199,W2)","v":0},{"$f":"IF(X2>99,0,X2)","v":0},{"$f":"IF(Z2>99,199,Z2)","v":0},{"$f":"IF(AA2>99,0,AA2)","v":0},{"$f":"BU2+BW2","v":0},{"$f":"IF(AE2>99,199,AE2)","v":0},{"$f":"IF(AF2>99,0,AF2)","v":0},{"$f":"IF(AH2>99,199,AH2)","v":0},{"$f":"IF(AI2>99,0,AI2)","v":0},{"$f":"BZ2+CB2","v":0},{"$f":"IF(AM2>99,199,AM2)","v":0},{"$f":"IF(AN2>99,0,AN2)","v":0},{"$f":"IF(AP2>99,199,AP2)","v":0},{"$f":"IF(AQ2>99,0,AQ2)","v":0},{"$f":"CE2+CG2","v":0},{"$f":"IF(AU2>99,199,AU2)","v":0},{"$f":"IF(AV2>99,0,AV2)","v":0},{"$f":"IF(AX2>99,199,AX2)","v":0},{"$f":"IF(AY2>99,0,AY2)","v":0},{"$f":"CJ2+CL2","v":0}]
["Kring:",null,{"$f":"Instellingen!B3","v":"Kring NVF"},null,null,"Aantal afvaardiging Regio:",{"$nulls":8},5,{"$nulls":39},"Aantal wedstrijden:",{"$nulls":3},{"$f":"Instellingen!B6","v":2}]
["Klasse:",null,"L",null,null,"Aantal afval resultaten:",{"$nulls":8},{"$f":"Instellingen!B7","v":0}]
["Cat.:",null,"A / B",null,null,"Plaatsingspunten niet gestart:",{"$nulls":8},{"$f":"Instellingen!B5","v":99},{"$nulls":39},"Aantal reserves:",{"$nulls":3},2]
[{"$nulls":5},"Lokatie:",{"$f":"Instellingen!B40","v":"Wezep"},{"$nulls":7},{"$f":"Instellingen!B41","v":"Nunspeet"},{"$nulls":7},{"$f":"Instellingen!B42","v":" "},{"$nulls":7},{"$f":"Instellingen!B43","v":" "},{"$nulls":7},{"$f":"Instellingen!B44","v":" "},{"$nulls":7},{"$f":"Instellingen!B45","v":" "},{"$nulls":7},"Springen"]
[{"$nulls":5},"Datum:",{"$f":"Instellingen!C40","v":"04juni2021"},{"$nulls":7},{"$f":"Instellingen!C41","v":"26juni2021"},{"$nulls":7},{"$f":"Instellingen!C42","v":" "},{"$nulls":7},{"$f":"Instellingen!C43","v":" "},{"$nulls":7},{"$f":"Instellingen!C44","v":" "},{"$nulls":7},{"$f":"Instellingen!C45","v":" "},{"$nulls":7},"Tot.","afval","Beste"]
["Pl.","Comb.nr.","Ruiter/amazone","Paard/pony","kl.","vereniging","ftn1","tijd1","wvr1","ftn2","tijd2","wvr2","pl.","pl.p.","ftn1","tijd1","wvr1","ftn2","tijd2","wvr2","pl.","pl.p.","ftn1","tijd1","wvr1","ftn2","tijd2","wvr2","pl.","pl.p.","ftn1","tijd1","wvr1","ftn2","tijd2","wvr2","pl.","pl.p.","ftn1","tijd1","wvr1","ftn2","tijd2","wvr2","pl.","pl.p.","ftn1","tijd1","wvr1","ftn2","tijd2","wvr2","pl.","pl.p.","pl.pnt","pl.pnt","pl.pnt","Afv.","Res.","Afv. Regio","opmerking",null,"ftn1  1e","styl1  1e","ftn2  1e","styl2  1e bar.","1e tot ftn","ftn1  2e","styl1  2e","ftn2  2e","styl2  2e bar.","2e tot ftn","ftn1  3e","styl1  3e","ftn2  3e","styl2  3e bar.","3e tot ftn","ftn1  4e","styl1  4e","ftn2  4e","styl2  4e bar."," 4e tot ftn","ftn1  5e","styl1  5e","ftn2  5e","styl2  5e bar.","5e tot ftn","ftn1  6e","styl1  6e","ftn2  6e","styl2  6e bar."," 6e tot ftn"]
[1,"918406KV","Wim Vos","KSH JOLLY JUMPER","L -B","Bosruiters, PC. De",0,69.53,null,0,37.03,null,1,1,0,59.09,null,0,32.87,null,1,1,{"$nulls":32},{"$f":"N9+V9+AD9+AL9+AT9+BB9","v":2},{"$f":"IF($O$4>0,(LARGE(($N9,$V9,$AD9,$AL9,$AT9,$BB9),1)),\"0\")","v":"0"},{"$f":"BC9-BD9","v":2},1,null,null,"Kringkampioen",null,{"$f":"IF(G9>99,199,G9)","v":0},{"$f":"IF(H9>99,0,H9)","v":69.53},{"$f":"IF(J9>99,199,J9)","v":0},{"$f":"IF(K9>99,0,K9)","v":37.03},{"$f":"BK9+BM9","v":0},{"$f":"IF(O9>99,199,O9)","v":0},{"$f":"IF(P9>99,0,P9)","v":59.09},{"$f":"IF(R9>99,199,R9)","v":0},{"$f":"IF(S9>99,0,S9)","v":32.87},{"$f":"BP9+BR9","v":0},{"$f":"IF(W9>99,199,W9)","v":0},{"$f":"IF(X9>99,0,X9)","v":0},{"$f":"IF(Z9>99,199,Z9)","v":0},{"$f":"IF(AA9>99,0,AA9)","v":0},{"$f":"BU9+BW9","v":0},{"$f":"IF(AE9>99,199,AE9)","v":0},{"$f":"IF(AF9>99,0,AF9)","v":0},{"$f":"IF(AH9>99,199,AH9)","v":0},{"$f":"IF(AI9>99,0,AI9)","v":0},{"$f":"BZ9+CB9","v":0},{"$f":"IF(AM9>99,199,AM9)","v":0},{"$f":"IF(AN9>99,0,AN9)","v":0},{"$f":"IF(AP9>99,199,AP9)","v":0},{"$f":"IF(AQ9>99,0,AQ9)","v":0},{"$f":"CE9+CG9","v":0},{"$f":"IF(AU9>99,199,AU9)","v":0},{"$f":"IF(AV9>99,0,AV9)","v":0},{"$f":"IF(AX9>99,199,AX9)","v":0},{"$f":"IF(AY9>99,0,AY9)","v":0},{"$f":"CJ9+CL9","v":0}]
[2,"918851JV","Mienie Vos","Jasper","L -B","Bosruiters, PC. De",0,69.94,null,0,41.83,null,2,2,0,63.76,null,0,48.69,null,3,3,{"$nulls":32},{"$f":"N10+V10+AD10+AL10+AT10+BB10","v":5},{"$f":"IF($O$4>0,(LARGE(($N10,$V10,$AD10,$AL10,$AT10,$BB10),1)),\"0\")","v":"0"},{"$f":"BC10-BD10","v":5},2,{"$nulls":4},{"$f":"IF(G10>99,199,G10)","v":0},{"$f":"IF(H10>99,0,H10)","v":69.94},{"$f":"IF(J10>99,199,J10)","v":0},{"$f":"IF(K10>99,0,K10)","v":41.83},{"$f":"BK10+BM10","v":0},{"$f":"IF(O10>99,199,O10)","v":0},{"$f":"IF(P10>99,0,P10)","v":63.76},{"$f":"IF(R10>99,199,R10)","v":0},{"$f":"IF(S10>99,0,S10)","v":48.69},{"$f":"BP10+BR10","v":0},{"$f":"IF(W10>99,199,W10)","v":0},{"$f":"IF(X10>99,0,X10)","v":0},{"$f":"IF(Z10>99,199,Z10)","v":0},{"$f":"IF(AA10>99,0,AA10)","v":0},{"$f":"BU10+BW10","v":0},{"$f":"IF(AE10>99,199,AE10)","v":0},{"$f":"IF(AF10>99,0,AF10)","v":0},{"$f":"IF(AH10>99,199,AH10)","v":0},{"$f":"IF(AI10>99,0,AI10)","v":0},{"$f":"BZ10+CB10","v":0},{"$f":"IF(AM10>99,199,AM10)","v":0},{"$f":"IF(AN10>99,0,AN10)","v":0},{"$f":"IF(AP10>99,199,AP10)","v":0},{"$f":"IF(AQ10>99,0,AQ10)","v":0},{"$f":"CE10+CG10","v":0},{"$f":"IF(AU10>99,199,AU10)","v":0},{"$f":"IF(AV10>99,0,AV10)","v":0},{"$f":"IF(AX10>99,199,AX10)","v":0},{"$f":"IF(AY10>99,0,AY10)","v":0},{"$f":"CJ10+CL10","v":0}]
[3,"914499BV","Mienie Vos","Blij","L -A","Bosruiters, PC. De",0,77.54,null,4,42.89,null,4,4,0,66.05,null,0,42.55,null,2,2,{"$nulls":32},{"$f":"N11+V11+AD11+AL11+AT11+BB11","v":6},{"$f":"IF($O$4>0,(LARGE(($N11,$V11,$AD11,$AL11,$AT11,$BB11),1)),\"0\")","v":"0"},{"$f":"BC11-BD11","v":6},3,{"$nulls":4},{"$f":"IF(G11>99,199,G11)","v":0},{"$f":"IF(H11>99,0,H11)","v":77.54},{"$f":"IF(J11>99,199,J11)","v":4},{"$f":"IF(K11>99,0,K11)","v":42.89},{"$f":"BK11+BM11","v":4},{"$f":"IF(O11>99,199,O11)","v":0},{"$f":"IF(P11>99,0,P11)","v":66.05},{"$f":"IF(R11>99,199,R11)","v":0},{"$f":"IF(S11>99,0,S11)","v":42.55},{"$f":"BP11+BR11","v":0},{"$f":"IF(W11>99,199,W11)","v":0},{"$f":"IF(X11>99,0,X11)","v":0},{"$f":"IF(Z11>99,199,Z11)","v":0},{"$f":"IF(AA11>99,0,AA11)","v":0},{"$f":"BU11+BW11","v":0},{"$f":"IF(AE11>99,199,AE11)","v":0},{"$f":"IF(AF11>99,0,AF11)","v":0},{"$f":"IF(AH11>99,199,AH11)","v":0},{"$f":"IF(AI11>99,0,AI11)","v":0},{"$f":"BZ11+CB11","v":0},{"$f":"IF(AM11>99,199,AM11)","v":0},{"$f":"IF(AN11>99,0,AN11)","v":0},{"$f":"IF(AP11>99,199,AP11)","v":0},{"$f":"IF(AQ11>99,0,AQ11)","v":0},{"$f":"CE11+CG11","v":0},{"$f":"IF(AU11>99,199,AU11)","v":0},{"$f":"IF(AV11>99,0,AV11)","v":0},{"$f":"IF(AX11>99,199,AX11)","v":0},{"$f":"IF(AY11>99,0,AY11)","v":0},{"$f":"CJ11+CL11","v":0}]
[4,"926676KJ","Romy de Jonge","Fire","L -B","Heuvelruiters, PC. De",0,68.27,null,0,42.36,null,3,3,{"$nulls":7},99,{"$nulls":32},{"$f":"N12+V12+AD12+AL12+AT12+BB12","v":102},{"$f":"IF($O$4>0,(LARGE(($N12,$V12,$AD12,$AL12,$AT12,$BB12),1)),\"0\")","v":"0"},{"$f":"BC12-BD12","v":102},{"$nulls":5},{"$f":"IF(G12>99,199,G12)","v":0},{"$f":"IF(H12>99,0,H12)","v":68.27},{"$f":"IF(J12>99,199,J12)","v":0},{"$f":"IF(K12>99,0,K12)","v":42.36},{"$f":"BK12+BM12","v":0},{"$f":"IF(O12>99,199,O12)","v":0},{"$f":"IF(P12>99,0,P12)","v":0},{"$f":"IF(R12>99,199,R12)","v":0},{"$f":"IF(S12>99,0,S12)","v":0},{"$f":"BP12+BR12","v":0},{"$f":"IF(W12>99,199,W12)","v":0},{"$f":"IF(X12>99,0,X12)","v":0},{"$f":"IF(Z12>99,199,Z12)","v":0},{"$f":"IF(AA12>99,0,AA12)","v":0},{"$f":"BU12+BW12","v":0},{"$f":"IF(AE12>99,199,AE12)","v":0},{"$f":"IF(AF12>99,0,AF12)","v":0},{"$f":"IF(AH12>99,199,AH12)","v":0},{"$f":"IF(AI12>99,0,AI12)","v":0},{"$f":"BZ12+CB12","v":0},{"$f":"IF(AM12>99,199,AM12)","v":0},{"$f":"IF(AN12>99,0,AN12)","v":0},{"$f":"IF(AP12>99,199,AP12)","v":0},{"$f":"IF(AQ12>99,0,AQ12)","v":0},{"$f":"CE12+CG12","v":0},{"$f":"IF(AU12>99,199,AU12)","v":0},{"$f":"IF(AV12>99,0,AV12)","v":0},{"$f":"IF(AX12>99,199,AX12)","v":0},{"$f":"IF(AY12>99,0,AY12)","v":0},{"$f":"CJ12+CL12","v":0}]
[5,"918416DV","Mienie Vos","Dragon H","L -B","Bosruiters, PC. De","Uit11",{"$nulls":6},90,{"$nulls":7},99,{"$nulls":32},{"$f":"N13+V13+AD13+AL13+AT13+BB13","v":189},{"$f":"IF($O$4>0,(LARGE(($N13,$V13,$AD13,$AL13,$AT13,$BB13),1)),\"0\")","v":"0"},{"$f":"BC13-BD13","v":189},{"$nulls":5},{"$f":"IF(G13>99,199,G13)","v":199},{"$f":"IF(H13>99,0,H13)","v":0},{"$f":"IF(J13>99,199,J13)","v":0},{"$f":"IF(K13>99,0,K13)","v":0},{"$f":"BK13+BM13","v":199},{"$f":"IF(O13>99,199,O13)","v":0},{"$f":"IF(P13>99,0,P13)","v":0},{"$f":"IF(R13>99,199,R13)","v":0},{"$f":"IF(S13>99,0,S13)","v":0},{"$f":"BP13+BR13","v":0},{"$f":"IF(W13>99,199,W13)","v":0},{"$f":"IF(X13>99,0,X13)","v":0},{"$f":"IF(Z13>99,199,Z13)","v":0},{"$f":"IF(AA13>99,0,AA13)","v":0},{"$f":"BU13+BW13","v":0},{"$f":"IF(AE13>99,199,AE13)","v":0},{"$f":"IF(AF13>99,0,AF13)","v":0},{"$f":"IF(AH13>99,199,AH13)","v":0},{"$f":"IF(AI13>99,0,AI13)","v":0},{"$f":"BZ13+CB13","v":0},{"$f":"IF(AM13>99,199,AM13)","v":0},{"$f":"IF(AN13>99,0,AN13)","v":0},{"$f":"IF(AP13>99,199,AP13)","v":0},{"$f":"IF(AQ13>99,0,AQ13)","v":0},{"$f":"CE13+CG13","v":0},{"$f":"IF(AU13>99,199,AU13)","v":0},{"$f":"IF(AV13>99,0,AV13)","v":0},{"$f":"IF(AX13>99,199,AX13)","v":0},{"$f":"IF(AY13>99,0,AY13)","v":0},{"$f":"CJ13+CL13","v":0}]

{"sheet":"L(C)","index":5,"n_rows":13,"n_cols":92,"rows_kept":13,"merged":[[0,0,0,60],[2,0,2,1],[2,2,2,4],[2,5,2,13],[2,14,2,21],[2,22,4,37],[2,54,2,57],[2,59,6,60],[3,0,3,1],[3,2,3,4],[3,5,3,13],[3,14,3,21],[3,54,3,57],[4,0,4,1],[4,2,4,4],[4,5,4,13],[4,14,4,21],[4,54,4,57],[5,0,6,4],[5,6,5,13],[5,14,5,21],[5,22,5,29],[5,30,5,37],[5,38,5,45],[5,46,5,53],[5,54,5,56],[6,6,6,13],[6,14,6,21],[6,22,6,29],[6,30,6,37],[6,38,6,45],[6,46,6,53]]}
["Selectie uitslagen"]
[{"$nulls":13},1,{"$nulls":7},2,{"$nulls":7},3,{"$nulls":7},4,{"$nulls":7},5,{"$nulls":7},6,{"$f":"N2+V2+AD2+AL2+AT2+BB2","v":21},{"$f":"IF($O$4>0,(LARGE(($N2,$V2,$AD2,$AL2,$AT2,$BB2),1)),\"0\")","v":"0"},{"$f":"BC2-BD2","v":21},{"$f":"IF($O$4>1,(LARGE(($N2,$V2,$AD2,$AL2,$AT2,$BB2),1))+(LARGE(($N2,$V2,$AD2,$AL2,$AT2,$BB2),2)),\"0\")","v":"0"},{"$nulls":4},{"$f":"IF(G2>99,199,G2)","v":0},{"$f":"IF(H2>99,0,H2)","v":0},{"$f":"IF(J2>99,199,J2)","v":0},{"$f":"IF(K2>99,0,K2)","v":0},{"$f":"BK2+BM2","v":0},{"$f":"IF(O2>99,199,O2)","v":0},{"$f":"IF(P2>99,0,P2)","v":0},{"$f":"IF(R2>99,199,R2)","v":0},{"$f":"IF(S2>99,0,S2)","v":0},{"$f":"BP2+BR2","v":0},{"$f":"IF(W2>99,199,W2)","v":0},{"$f":"IF(X2>99,0,X2)","v":0},{"$f":"IF(Z2>99,199,Z2)","v":0},{"$f":"IF(AA2>99,0,AA2)","v":0},{"$f":"BU2+BW2","v":0},{"$f":"IF(AE2>99,199,AE2)","v":0},{"$f":"IF(AF2>99,0,AF2)","v":0},{"$f":"IF(AH2>99,199,AH2)","v":0},{"$f":"IF(AI2>99,0,AI2)","v":0},{"$f":"BZ2+CB2","v":0},{"$f":"IF(AM2>99,199,AM2)","v":0},{"$f":"IF(AN2>99,0,AN2)","v":0},{"$f":"IF(AP2>99,199,AP2)","v":0},{"$f":"IF(AQ2>99,0,AQ2)","v":0},{"$f":"CE2+CG2","v":0},{"$f":"IF(AU2>99,199,AU2)","v":0},{"$f":"IF(AV2>99,0,AV2)","v":0},{"$f":"IF(AX2>99,199,AX2)","v":0},{"$f":"IF(AY2>99,0,AY2)","v":0},{"$f":"CJ2+CL2","v":0}]
["Kring:",null,{"$f":"Instellingen!B3","v":"Kring NVF"},null,null,"Aantal afvaardiging Regio:",{"$nulls":8},4,{"$nulls":39},"Aantal wedstrijden:",{"$nulls":3},{"$f":"Instellingen!B6","v":2}]
["Klasse:",null,"L",null,null,"Aantal afval resultaten:",{"$nulls":8},{"$f":"Instellingen!B7","v":0}]
["Cat.:",null,"C",null,null,"Plaatsingspunten niet gestart:",{"$nulls":8},{"$f":"Instellingen!B5","v":99},{"$nulls":39},"Aantal reserves:",{"$nulls":3},2]
[{"$nulls":5},"Lokatie:",{"$f":"Instellingen!B40","v":"Wezep"},{"$nulls":7},{"$f":"Instellingen!B41","v":"Nunspeet"},{"$nulls":7},{"$f":"Instellingen!B42","v":" "},{"$nulls":7},{"$f":"Instellingen!B43","v":" "},{"$nulls":7},{"$f":"Instellingen!B44","v":" "},{"$nulls":7},{"$f":"Instellingen!B45","v":" "},{"$nulls":7},"Springen"]
[{"$nulls":5},"Datum:",{"$f":"Instellingen!C40","v":"04juni2021"},{"$nulls":7},{"$f":"Instellingen!C41","v":"26juni2021"},{"$nulls":7},{"$f":"Instellingen!C42","v":" "},{"$nulls":7},{"$f":"Instellingen!C43","v":" "},{"$nulls":7},{"$f":"Instellingen!C44","v":" "},{"$nulls":7},{"$f":"Instellingen!C45","v":" "},{"$nulls":7},"Tot.","afval","Beste"]
["Pl.","Comb.nr.","Ruiter/amazone","Paard/pony","kl.","vereniging","ftn1","tijd1","wvr1","ftn2","tijd2","wvr2","pl.","pl.p.","ftn1","tijd1","wvr1","ftn2","tijd2","wvr2","pl.","pl.p.","ftn1","tijd1","wvr1","ftn2","tijd2","wvr2","pl.","pl.p.","ftn1","tijd1","wvr1","ftn2","tijd2","wvr2","pl.","pl.p.","ftn1","tijd1","wvr1","ftn2","tijd2","wvr2","pl.","pl.p.","ftn1","tijd1","wvr1","ftn2","tijd2","wvr2","pl.","pl.p.","pl.pnt","pl.pnt","pl.pnt","Afv.","Res.","Afv. Regio","opmerking",null,"ftn1  1e","styl1  1e","ftn2  1e","styl2  1e bar.","1e tot ftn","ftn1  2e","styl1  2e","ftn2  2e","styl2  2e bar.","2e tot ftn","ftn1  3e","styl1  3e","ftn2  3e","styl2  3e bar.","3e tot ftn","ftn1  4e","styl1  4e","ftn2  4e","styl2  4e bar."," 4e tot ftn","ftn1  5e","styl1  5e","ftn2  5e","styl2  5e bar.","5e tot ftn","ftn1  6e","styl1  6e","ftn2  6e","styl2  6e bar."," 6e tot ftn"]
[1,"916404MK","Gustina Karssen","MIK's Turbo Toby","L -C","Bosruiters, PC. De",0,68.96,null,41.64,null,null,4,4,0,54.11,null,4,42.04,null,1,1,{"$nulls":32},{"$f":"N9+V9+AD9+AL9+AT9+BB9","v":5},{"$f":"IF($O$4>0,(LARGE(($N9,$V9,$AD9,$AL9,$AT9,$BB9),1)),\"0\")","v":"0"},{"$f":"BC9-BD9","v":5},1,null,null,"Kringkampioen",null,{"$f":"IF(G9>99,199,G9)","v":0},{"$f":"IF(H9>99,0,H9)","v":68.96},{"$f":"IF(J9>99,199,J9)","v":41.64},{"$f":"IF(K9>99,0,K9)","v":0},{"$f":"BK9+BM9","v":41.64},{"$f":"IF(O9>99,199,O9)","v":0},{"$f":"IF(P9>99,0,P9)","v":54.11},{"$f":"IF(R9>99,199,R9)","v":4},{"$f":"IF(S9>99,0,S9)","v":42.04},{"$f":"BP9+BR9","v":4},{"$f":"IF(W9>99,199,W9)","v":0},{"$f":"IF(X9>99,0,X9)","v":0},{"$f":"IF(Z9>99,199,Z9)","v":0},{"$f":"IF(AA9>99,0,AA9)","v":0},{"$f":"BU9+BW9","v":0},{"$f":"IF(AE9>99,199,AE9)","v":0},{"$f":"IF(AF9>99,0,AF9)","v":0},{"$f":"IF(AH9>99,199,AH9)","v":0},{"$f":"IF(AI9>99,0,AI9)","v":0},{"$f":"BZ9+CB9","v":0},{"$f":"IF(AM9>99,199,AM9)","v":0},{"$f":"IF(AN9>99,0,AN9)","v":0},{"$f":"IF(AP9>99,199,AP9)","v":0},{"$f":"IF(AQ9>99,0,AQ9)","v":0},{"$f":"CE9+CG9","v":0},{"$f":"IF(AU9>99,199,AU9)","v":0},{"$f":"IF(AV9>99,0,AV9)","v":0},{"$f":"IF(AX9>99,199,AX9)","v":0},{"$f":"IF(AY9>99,0,AY9)","v":0},{"$f":"CJ9+CL9","v":0}]
[2,"843501SC","Lieke ten Cate","Sjors","L -C","Noord Veluwe, PC. PSV",0,69.82,null,0,39.06,null,3,3,4,{"v":56,"d":"56.00"},{"$nulls":4},2,2,{"$nulls":32},{"$f":"N10+V10+AD10+AL10+AT10+BB10","v":5},{"$f":"IF($O$4>0,(LARGE(($N10,$V10,$AD10,$AL10,$AT10,$BB10),1)),\"0\")","v":"0"},{"$f":"BC10-BD10","v":5},2,{"$nulls":4},{"$f":"IF(G10>99,199,G10)","v":0},{"$f":"IF(H10>99,0,H10)","v":69.82},{"$f":"IF(J10>99,199,J10)","v":0},{"$f":"IF(K10>99,0,K10)","v":39.06},{"$f":"BK10+BM10","v":0},{"$f":"IF(O10>99,199,O10)","v":4},{"$f":"IF(P10>99,0,P10)","v":56},{"$f":"IF(R10>99,199,R10)","v":0},{"$f":"IF(S10>99,0,S10)","v":0},{"$f":"BP10+BR10","v":4},{"$f":"IF(W10>99,199,W10)","v":0},{"$f":"IF(X10>99,0,X10)","v":0},{"$f":"IF(Z10>99,199,Z10)","v":0},{"$f":"IF(AA10>99,0,AA10)","v":0},{"$f":"BU10+BW10","v":0},{"$f":"IF(AE10>99,199,AE10)","v":0},{"$f":"IF(AF10>99,0,AF10)","v":0},{"$f":"IF(AH10>99,199,AH10)","v":0},{"$f":"IF(AI10>99,0,AI10)","v":0},{"$f":"BZ10+CB10","v":0},{"$f":"IF(AM10>99,199,AM10)","v":0},{"$f":"IF(AN10>99,0,AN10)","v":0},{"$f":"IF(AP10>99,199,AP10)","v":0},{"$f":"IF(AQ10>99,0,AQ10)","v":0},{"$f":"CE10+CG10","v":0},{"$f":"IF(AU10>99,199,AU10)","v":0},{"$f":"IF(AV10>99,0,AV10)","v":0},{"$f":"IF(AX10>99,199,AX10)","v":0},{"$f":"IF(AY10>99,0,AY10)","v":0},{"$f":"CJ10+CL10","v":0}]
[3,"915600VJ","Romy de Jonge","Velvet Mistery","L -C","Heuvelruiters, PC. De",0,{"v":61.2,"d":"61.20"},null,0,37.43,null,2,2,4,64.91,{"$nulls":4},3,3,{"$nulls":32},{"$f":"N11+V11+AD11+AL11+AT11+BB11","v":5},{"$f":"IF($O$4>0,(LARGE(($N11,$V11,$AD11,$AL11,$AT11,$BB11),1)),\"0\")","v":"0"},{"$f":"BC11-BD11","v":5},3,{"$nulls":4},{"$f":"IF(G11>99,199,G11)","v":0},{"$f":"IF(H11>99,0,H11)","v":61.2},{"$f":"IF(J11>99,199,J11)","v":0},{"$f":"IF(K11>99,0,K11)","v":37.43},{"$f":"BK11+BM11","v":0},{"$f":"IF(O11>99,199,O11)","v":4},{"$f":"IF(P11>99,0,P11)","v":64.91},{"$f":"IF(R11>99,199,R11)","v":0},{"$f":"IF(S11>99,0,S11)","v":0},{"$f":"BP11+BR11","v":4},{"$f":"IF(W11>99,199,W11)","v":0},{"$f":"IF(X11>99,0,X11)","v":0},{"$f":"IF(Z11>99,199,Z11)","v":0},{"$f":"IF(AA11>99,0,AA11)","v":0},{"$f":"BU11+BW11","v":0},{"$f":"IF(AE11>99,199,AE11)","v":0},{"$f":"IF(AF11>99,0,AF11)","v":0},{"$f":"IF(AH11>99,199,AH11)","v":0},{"$f":"IF(AI11>99,0,AI11)","v":0},{"$f":"BZ11+CB11","v":0},{"$f":"IF(AM11>99,199,AM11)","v":0},{"$f":"IF(AN11>99,0,AN11)","v":0},{"$f":"IF(AP11>99,199,AP11)","v":0},{"$f":"IF(AQ11>99,0,AQ11)","v":0},{"$f":"CE11+CG11","v":0},{"$f":"IF(AU11>99,199,AU11)","v":0},{"$f":"IF(AV11>99,0,AV11)","v":0},{"$f":"IF(AX11>99,199,AX11)","v":0},{"$f":"IF(AY11>99,0,AY11)","v":0},{"$f":"CJ11+CL11","v":0}]
[4,"873907KD","Meinke Drost","Kristaline","L -C","WWNA, PC.",8,81.24,{"$nulls":4},5,5,12,62.75,{"$nulls":4},5,5,{"$nulls":32},{"$f":"N12+V12+AD12+AL12+AT12+BB12","v":10},{"$f":"IF($O$4>0,(LARGE(($N12,$V12,$AD12,$AL12,$AT12,$BB12),1)),\"0\")","v":"0"},{"$f":"BC12-BD12","v":10},4,{"$nulls":4},{"$f":"IF(G12>99,199,G12)","v":8},{"$f":"IF(H12>99,0,H12)","v":81.24},{"$f":"IF(J12>99,199,J12)","v":0},{"$f":"IF(K12>99,0,K12)","v":0},{"$f":"BK12+BM12","v":8},{"$f":"IF(O12>99,199,O12)","v":12},{"$f":"IF(P12>99,0,P12)","v":62.75},{"$f":"IF(R12>99,199,R12)","v":0},{"$f":"IF(S12>99,0,S12)","v":0},{"$f":"BP12+BR12","v":12},{"$f":"IF(W12>99,199,W12)","v":0},{"$f":"IF(X12>99,0,X12)","v":0},{"$f":"IF(Z12>99,199,Z12)","v":0},{"$f":"IF(AA12>99,0,AA12)","v":0},{"$f":"BU12+BW12","v":0},{"$f":"IF(AE12>99,199,AE12)","v":0},{"$f":"IF(AF12>99,0,AF12)","v":0},{"$f":"IF(AH12>99,199,AH12)","v":0},{"$f":"IF(AI12>99,0,AI12)","v":0},{"$f":"BZ12+CB12","v":0},{"$f":"IF(AM12>99,199,AM12)","v":0},{"$f":"IF(AN12>99,0,AN12)","v":0},{"$f":"IF(AP12>99,199,AP12)","v":0},{"$f":"IF(AQ12>99,0,AQ12)","v":0},{"$f":"CE12+CG12","v":0},{"$f":"IF(AU12>99,199,AU12)","v":0},{"$f":"IF(AV12>99,0,AV12)","v":0},{"$f":"IF(AX12>99,199,AX12)","v":0},{"$f":"IF(AY12>99,0,AY12)","v":0},{"$f":"CJ12+CL12","v":0}]
[5,"850341MR","Silke Van Riel","Magnum","L -C","Flevoruiters, PC.",0,79.21,null,0,32.08,null,1,99,8,62.19,{"$nulls":4},4,99,{"$nulls":32},{"$f":"N13+V13+AD13+AL13+AT13+BB13","v":198},{"$f":"IF($O$4>0,(LARGE(($N13,$V13,$AD13,$AL13,$AT13,$BB13),1)),\"0\")","v":"0"},{"$f":"BC13-BD13","v":198},{"$nulls":3},"Flexibel M",null,{"$f":"IF(G13>99,199,G13)","v":0},{"$f":"IF(H13>99,0,H13)","v":79.21},{"$f":"IF(J13>99,199,J13)","v":0},{"$f":"IF(K13>99,0,K13)","v":32.08},{"$f":"BK13+BM13","v":0},{"$f":"IF(O13>99,199,O13)","v":8},{"$f":"IF(P13>99,0,P13)","v":62.19},{"$f":"IF(R13>99,199,R13)","v":0},{"$f":"IF(S13>99,0,S13)","v":0},{"$f":"BP13+BR13","v":8},{"$f":"IF(W13>99,199,W13)","v":0},{"$f":"IF(X13>99,0,X13)","v":0},{"$f":"IF(Z13>99,199,Z13)","v":0},{"$f":"IF(AA13>99,0,AA13)","v":0},{"$f":"BU13+BW13","v":0},{"$f":"IF(AE13>99,199,AE13)","v":0},{"$f":"IF(AF13>99,0,AF13)","v":0},{"$f":"IF(AH13>99,199,AH13)","v":0},{"$f":"IF(AI13>99,0,AI13)","v":0},{"$f":"BZ13+CB13","v":0},{"$f":"IF(AM13>99,199,AM13)","v":0},{"$f":"IF(AN13>99,0,AN13)","v":0},{"$f":"IF(AP13>99,199,AP13)","v":0},{"$f":"IF(AQ13>99,0,AQ13)","v":0},{"$f":"CE13+CG13","v":0},{"$f":"IF(AU13>99,199,AU13)","v":0},{"$f":"IF(AV13>99,0,AV13)","v":0},{"$f":"IF(AX13>99,199,AX13)","v":0},{"$f":"IF(AY13>99,0,AY13)","v":0},{"$f":"CJ13+CL13","v":0}]

{"sheet":"L(DE)","index":6,"n_rows":33,"n_cols":92,"rows_kept":33,"merged":[[0,0,0,60],[2,0,2,1],[2,2,2,4],[2,5,2,13],[2,14,2,21],[2,22,4,37],[2,54,2,57],[2,59,6,60],[3,0,3,1],[3,2,3,4],[3,5,3,13],[3,14,3,21],[3,54,3,57],[4,0,4,1],[4,2,4,4],[4,5,4,13],[4,14,4,21],[4,54,4,57],[5,0,6,4],[5,6,5,13],[5,14,5,21],[5,22,5,29],[5,30,5,37],[5,38,5,45],[5,46,5,53],[5,54,5,56],[6,6,6,13],[6,14,6,21],[6,22,6,29],[6,30,6,37],[6,38,6,45],[6,46,6,53]]}
["Selectie uitslagen"]
[{"$nulls":13},1,{"$nulls":7},2,{"$nulls":7},3,{"$nulls":7},4,{"$nulls":7},5,{"$nulls":7},6,{"$f":"N2+V2+AD2+AL2+AT2+BB2","v":21},{"$f":"IF($O$4>0,(LARGE(($N2,$V2,$AD2,$AL2,$AT2,$BB2),1)),\"0\")","v":"0"},{"$f":"BC2-BD2","v":21},{"$f":"IF($O$4>1,(LARGE(($N2,$V2,$AD2,$AL2,$AT2,$BB2),1))+(LARGE(($N2,$V2,$AD2,$AL2,$AT2,$BB2),2)),\"0\")","v":"0"},{"$nulls":4},{"$f":"IF(G2>99,199,G2)","v":0},{"$f":"IF(H2>99,0,H2)","v":0},{"$f":"IF(J2>99,199,J2)","v":0},{"$f":"IF(K2>99,0,K2)","v":0},{"$f":"BK2+BM2","v":0},{"$f":"IF(O2>99,199,O2)","v":0},{"$f":"IF(P2>99,0,P2)","v":0},{"$f":"IF(R2>99,199,R2)","v":0},{"$f":"IF(S2>99,0,S2)","v":0},{"$f":"BP2+BR2","v":0},{"$f":"IF(W2>99,199,W2)","v":0},{"$f":"IF(X2>99,0,X2)","v":0},{"$f":"IF(Z2>99,199,Z2)","v":0},{"$f":"IF(AA2>99,0,AA2)","v":0},{"$f":"BU2+BW2","v":0},{"$f":"IF(AE2>99,199,AE2)","v":0},{"$f":"IF(AF2>99,0,AF2)","v":0},{"$f":"IF(AH2>99,199,AH2)","v":0},{"$f":"IF(AI2>99,0,AI2)","v":0},{"$f":"BZ2+CB2","v":0},{"$f":"IF(AM2>99,199,AM2)","v":0},{"$f":"IF(AN2>99,0,AN2)","v":0},{"$f":"IF(AP2>99,199,AP2)","v":0},{"$f":"IF(AQ2>99,0,AQ2)","v":0},{"$f":"CE2+CG2","v":0},{"$f":"IF(AU2>99,199,AU2)","v":0},{"$f":"IF(AV2>99,0,AV2)","v":0},{"$f":"IF(AX2>99,199,AX2)","v":0},{"$f":"IF(AY2>99,0,AY2)","v":0},{"$f":"CJ2+CL2","v":0}]
["Kring:",null,{"$f":"Instellingen!B3","v":"Kring NVF"},null,null,"Aantal afvaardiging Regio:",{"$nulls":8},12,{"$nulls":39},"Aantal wedstrijden:",{"$nulls":3},{"$f":"Instellingen!B6","v":2}]
["Klasse:",null,"L",null,null,"Aantal afval resultaten:",{"$nulls":8},{"$f":"Instellingen!B7","v":0}]
["Cat.:",null,"D / E",null,null,"Plaatsingspunten niet gestart:",{"$nulls":8},{"$f":"Instellingen!B5","v":99},{"$nulls":39},"Aantal reserves:",{"$nulls":3},2]
[{"$nulls":5},"Lokatie:",{"$f":"Instellingen!B40","v":"Wezep"},{"$nulls":7},{"$f":"Instellingen!B41","v":"Nunspeet"},{"$nulls":7},{"$f":"Instellingen!B42","v":" "},{"$nulls":7},{"$f":"Instellingen!B43","v":" "},{"$nulls":7},{"$f":"Instellingen!B44","v":" "},{"$nulls":7},{"$f":"Instellingen!B45","v":" "},{"$nulls":7},"Springen"]
[{"$nulls":5},"Datum:",{"$f":"Instellingen!C40","v":"04juni2021"},{"$nulls":7},{"$f":"Instellingen!C41","v":"26juni2021"},{"$nulls":7},{"$f":"Instellingen!C42","v":" "},{"$nulls":7},{"$f":"Instellingen!C43","v":" "},{"$nulls":7},{"$f":"Instellingen!C44","v":" "},{"$nulls":7},{"$f":"Instellingen!C45","v":" "},{"$nulls":7},"Tot.","afval","Beste"]
["Pl.","Comb.nr.","Ruiter/amazone","Paard/pony","kl.","vereniging","ftn1","tijd1","wvr1","ftn2","tijd2","wvr2","pl.","pl.p.","ftn1","tijd1","wvr1","ftn2","tijd2","wvr2","pl.","pl.p.","ftn1","tijd1","wvr1","ftn2","tijd2","wvr2","pl.","pl.p.","ftn1","tijd1","wvr1","ftn2","tijd2","wvr2","pl.","pl.p.","ftn1","tijd1","wvr1","ftn2","tijd2","wvr2","pl.","pl.p.","ftn1","tijd1","wvr1","ftn2","tijd2","wvr2","pl.","pl.p.","pl.pnt","pl.pnt","pl.pnt","Afv.","Res.","Afv. Regio","opmerking",null,"ftn1  1e","styl1  1e","ftn2  1e","styl2  1e bar.","1e tot ftn","ftn1  2e","styl1  2e","ftn2  2e","styl2  2e bar.","2e tot ftn","ftn1  3e","styl1  3e","ftn2  3e","styl2  3e bar.","3e tot ftn","ftn1  4e","styl1  4e","ftn2  4e","styl2  4e bar."," 4e tot ftn","ftn1  5e","styl1  5e","ftn2  5e","styl2  5e bar.","5e tot ftn","ftn1  6e","styl1  6e","ftn2  6e","styl2  6e bar."," 6e tot ftn"]
[1,"924746UV","Bethany Vos","Lady Crown VS","L -D","Pothoven (po), HS",0,{"v":79.8,"d":"79.80"},null,0,42.35,null,5,5,0,60.12,null,0,37.61,null,3,3,{"$nulls":32},{"$f":"N9+V9+AD9+AL9+AT9+BB9","v":8},{"$f":"IF($O$4>0,(LARGE(($N9,$V9,$AD9,$AL9,$AT9,$BB9),1)),\"0\")","v":"0"},{"$f":"BC9-BD9","v":8},1,null,null,"Kringkampioen",null,{"$f":"IF(G9>99,199,G9)","v":0},{"$f":"IF(H9>99,0,H9)","v":79.8},{"$f":"IF(J9>99,199,J9)","v":0},{"$f":"IF(K9>99,0,K9)","v":42.35},{"$f":"BK9+BM9","v":0},{"$f":"IF(O9>99,199,O9)","v":0},{"$f":"IF(P9>99,0,P9)","v":60.12},{"$f":"IF(R9>99,199,R9)","v":0},{"$f":"IF(S9>99,0,S9)","v":37.61},{"$f":"BP9+BR9","v":0},{"$f":"IF(W9>99,199,W9)","v":0},{"$f":"IF(X9>99,0,X9)","v":0},{"$f":"IF(Z9>99,199,Z9)","v":0},{"$f":"IF(AA9>99,0,AA9)","v":0},{"$f":"BU9+BW9","v":0},{"$f":"IF(AE9>99,199,AE9)","v":0},{"$f":"IF(AF9>99,0,AF9)","v":0},{"$f":"IF(AH9>99,199,AH9)","v":0},{"$f":"IF(AI9>99,0,AI9)","v":0},{"$f":"BZ9+CB9","v":0},{"$f":"IF(AM9>99,199,AM9)","v":0},{"$f":"IF(AN9>99,0,AN9)","v":0},{"$f":"IF(AP9>99,199,AP9)","v":0},{"$f":"IF(AQ9>99,0,AQ9)","v":0},{"$f":"CE9+CG9","v":0},{"$f":"IF(AU9>99,199,AU9)","v":0},{"$f":"IF(AV9>99,0,AV9)","v":0},{"$f":"IF(AX9>99,199,AX9)","v":0},{"$f":"IF(AY9>99,0,AY9)","v":0},{"$f":"CJ9+CL9","v":0}]
[2,"918497FV","Bethany Vos","Fleur J&F","L -D","Pothoven (po), HS",0,72.64,null,4,35.08,null,8,8,0,60.09,null,0,35.27,null,1,1,{"$nulls":32},9,{"$f":"IF($O$4>0,(LARGE(($N10,$V10,$AD10,$AL10,$AT10,$BB10),1)),\"0\")","v":"0"},9,2,{"$nulls":4},0,72.64,4,35.08,4,0,60.09,0,35.27,0,0,0,0,0,0,0,0,0,0,0,0,0,0,0,0,0,0,0,0,0]
[3,"907011QR","Silke Van Riel","Quinn De L'equille","L -D","Flevoruiters, PC.",0,67.77,null,0,{"v":33.2,"d":"33.20"},null,2,2,4,61.24,{"$nulls":4},11,11,{"$nulls":32},13,{"$f":"IF($O$4>0,(LARGE(($N11,$V11,$AD11,$AL11,$AT11,$BB11),1)),\"0\")","v":"0"},13,3,{"$nulls":4},0,67.77,0,33.2,0,4,61.24,0,0,4,0,0,0,0,0,0,0,0,0,0,0,0,0,0,0,0,0,0,0,0]
[4,"924344SA","Quiana Altena","Surprise Limited Azmiraff","L -D","Heuvelruiters, PC. De",0,68.86,null,"Uit11",null,null,13,13,0,56.37,null,0,36.76,null,2,2,{"$nulls":32},15,{"$f":"IF($O$4>0,(LARGE(($N12,$V12,$AD12,$AL12,$AT12,$BB12),1)),\"0\")","v":"0"},15,4,{"$nulls":4},0,68.86,199,0,199,0,56.37,0,36.76,0,0,0,0,0,0,0,0,0,0,0,0,0,0,0,0,0,0,0,0,0]
[5,"908329SH","Babette Hanse","Shadow","L -D","Flevoruiters, PC.",0,72.55,null,4,45.72,null,10,10,0,59.99,null,0,38.13,null,5,5,{"$nulls":32},15,{"$f":"IF($O$4>0,(LARGE(($N13,$V13,$AD13,$AL13,$AT13,$BB13),1)),\"0\")","v":"0"},15,5,{"$nulls":4},0,72.55,4,45.72,4,0,59.99,0,38.13,0,0,0,0,0,0,0,0,0,0,0,0,0,0,0,0,0,0,0,0,0]
[6,"920298CK","Mariana Karssen","Carlando","L -D","Bosruiters, PC. De",0,71.44,null,4,45.23,null,9,9,0,62.37,null,0,49.34,null,6,6,{"$nulls":32},15,{"$f":"IF($O$4>0,(LARGE(($N14,$V14,$AD14,$AL14,$AT14,$BB14),1)),\"0\")","v":"0"},15,6,{"$nulls":4},0,71.44,4,45.23,4,0,62.37,0,49.34,0,0,0,0,0,0,0,0,0,0,0,0,0,0,0,0,0,0,0,0,0]
[7,"840843LA","Desiree Agterhuis","Lotte","L -D","Driehoekruiters, PC. De",0,{"v":77.6,"d":"77.60"},null,0,48.75,null,7,7,0,64.61,null,4,49.48,null,9,9,{"$nulls":32},16,{"$f":"IF($O$4>0,(LARGE(($N15,$V15,$AD15,$AL15,$AT15,$BB15),1)),\"0\")","v":"0"},16,7,{"$nulls":4},0,77.6,0,48.75,0,0,64.61,4,49.48,4,0,0,0,0,0,0,0,0,0,0,0,0,0,0,0,0,0,0,0,0]
[8,"887125OG","Marlou Grovenstein","Oleandra","L -D","Flevoruiters, PC.",0,64.35,null,0,43.85,null,6,6,4,57.38,{"$nulls":4},10,10,{"$nulls":32},16,{"$f":"IF($O$4>0,(LARGE(($N16,$V16,$AD16,$AL16,$AT16,$BB16),1)),\"0\")","v":"0"},16,8,{"$nulls":4},0,64.35,0,43.85,0,4,57.38,0,0,4,0,0,0,0,0,0,0,0,0,0,0,0,0,0,0,0,0,0,0,0]
[9,"907949NV","Mariesa Veenstra","Newgrange Snowdrop","L -D","Heuvelruiters, PC. De",0,69.43,null,0,35.97,null,4,4,8,{"v":58.4,"d":"58.40"},{"$nulls":4},12,12,{"$nulls":32},16,{"$f":"IF($O$4>0,(LARGE(($N17,$V17,$AD17,$AL17,$AT17,$BB17),1)),\"0\")","v":"0"},16,9,{"$nulls":4},0,69.43,0,35.97,0,8,58.4,0,0,8,0,0,0,0,0,0,0,0,0,0,0,0,0,0,0,0,0,0,0,0]
[10,"905375KK","Gustina Karssen","King","L -D","Bosruiters, PC. De",0,70.04,null,0,{"v":34.6,"d":"34.60"},null,3,3,8,{"v":61.7,"d":"61.70"},{"$nulls":4},14,14,{"$nulls":32},17,{"$f":"IF($O$4>0,(LARGE(($N18,$V18,$AD18,$AL18,$AT18,$BB18),1)),\"0\")","v":"0"},17,10,{"$nulls":4},0,70.04,0,34.6,0,8,61.7,0,0,8,0,0,0,0,0,0,0,0,0,0,0,0,0,0,0,0,0,0,0,0]
[11,"899629PK","Kyra Klopman","Prodise`s Varro","L -D","Bosruiters, PC. De",0,68.51,null,0,32.78,null,1,1,8,80.53,{"$nulls":4},16,16,{"$nulls":32},17,{"$f":"IF($O$4>0,(LARGE(($N19,$V19,$AD19,$AL19,$AT19,$BB19),1)),\"0\")","v":"0"},17,11,{"$nulls":4},0,68.51,0,32.78,0,8,80.53,0,0,8,0,0,0,0,0,0,0,0,0,0,0,0,0,0,0,0,0,0,0,0]
[12,"895361ZT","Eva Twisk","Zepp","L -D","Flevoruiters, PC.",0,80.11,null,11,54.15,null,12,12,0,66.68,null,4,49.32,null,8,8,{"$nulls":32},20,{"$f":"IF($O$4>0,(LARGE(($N20,$V20,$AD20,$AL20,$AT20,$BB20),1)),\"0\")","v":"0"},20,12,{"$nulls":4},0,80.11,11,54.15,11,0,66.68,4,49.32,4,0,0,0,0,0,0,0,0,0,0,0,0,0,0,0,0,0,0,0,0]
[13,"913704MG","Annika de Groot","Migchelshoeve's Matez","L -D","W.E.T, PC.",6,88.38,{"$nulls":4},22,22,0,58.91,null,4,47.93,null,7,7,{"$nulls":32},29,{"$f":"IF($O$4>0,(LARGE(($N21,$V21,$AD21,$AL21,$AT21,$BB21),1)),\"0\")","v":"0"},29,null,1,{"$nulls":3},6,88.38,0,0,6,0,58.91,4,47.93,4,0,0,0,0,0,0,0,0,0,0,0,0,0,0,0,0,0,0,0,0]
[14,"897570NB","Emma Bremer","Nicky","L -E","Flevoruiters, PC.",4,75.41,{"$nulls":4},17,17,8,63.38,{"$nulls":4},15,15,{"$nulls":32},32,{"$f":"IF($O$4>0,(LARGE(($N22,$V22,$AD22,$AL22,$AT22,$BB22),1)),\"0\")","v":"0"},32,null,2,{"$nulls":3},4,75.41,0,0,4,8,63.38,0,0,8,0,0,0,0,0,0,0,0,0,0,0,0,0,0,0,0,0,0,0,0]
[15,"911874RD","Elvira Van den Dragt","Replay","L -D","Klein Maar Dapper, PC.",4,70.96,{"$nulls":4},15,15,21,115.13,{"$nulls":4},18,18,{"$nulls":32},33,{"$f":"IF($O$4>0,(LARGE(($N23,$V23,$AD23,$AL23,$AT23,$BB23),1)),\"0\")","v":"0"},33,null,3,{"$nulls":3},4,70.96,0,0,4,21,0,0,0,21,0,0,0,0,0,0,0,0,0,0,0,0,0,0,0,0,0,0,0,0]
[16,"906516HI","Nizbeth Israël","Hamlet's Apple's Goldeneye","L -D","Flevoruiters, PC.",5,85.47,{"$nulls":4},21,21,8,58.65,{"$nulls":4},13,13,{"$nulls":32},34,{"$f":"IF($O$4>0,(LARGE(($N24,$V24,$AD24,$AL24,$AT24,$BB24),1)),\"0\")","v":"0"},34,{"$nulls":5},5,85.47,0,0,5,8,58.65,0,0,8,0,0,0,0,0,0,0,0,0,0,0,0,0,0,0,0,0,0,0,0]
[17,"906507TI","Tereza Israel","Tricia's Kim","L -D","Flevoruiters, PC.",4,77.58,{"$nulls":4},19,19,23,105.84,{"$nulls":4},19,19,{"$nulls":32},38,{"$f":"IF($O$4>0,(LARGE(($N25,$V25,$AD25,$AL25,$AT25,$BB25),1)),\"0\")","v":"0"},38,{"$nulls":5},4,77.58,0,0,4,23,0,0,0,23,0,0,0,0,0,0,0,0,0,0,0,0,0,0,0,0,0,0,0,0]
[18,"908794TK","Aimee Kostelijk","TJM XTC van Seldsum","L -E","Flevoruiters, PC.",21,103.01,{"$nulls":4},25,25,20,93.94,{"$nulls":4},17,17,{"$nulls":32},42,{"$f":"IF($O$4>0,(LARGE(($N26,$V26,$AD26,$AL26,$AT26,$BB26),1)),\"0\")","v":"0"},42,{"$nulls":5},21,0,0,0,21,20,93.94,0,0,20,0,0,0,0,0,0,0,0,0,0,0,0,0,0,0,0,0,0,0,0]
[19,"917550SG","Marlou Grovenstein","Sky High","L -D","Flevoruiters, PC.",0,{"v":64.6,"d":"64.60"},null,7,54.81,null,11,11,"3W",{"$nulls":6},90,{"$nulls":32},101,{"$f":"IF($O$4>0,(LARGE(($N27,$V27,$AD27,$AL27,$AT27,$BB27),1)),\"0\")","v":"0"},101,{"$nulls":5},0,64.6,7,54.81,7,199,0,0,0,199,0,0,0,0,0,0,0,0,0,0,0,0,0,0,0,0,0,0,0,0]
[20,"901006BL","Mila Van Leeuwen","Bovenheigraaf's Bruce","L -D","Driehoekruiters, PC. De",8,74.22,{"$nulls":4},23,23,{"$nulls":7},99,{"$nulls":32},122,{"$f":"IF($O$4>0,(LARGE(($N28,$V28,$AD28,$AL28,$AT28,$BB28),1)),\"0\")","v":"0"},122,{"$nulls":5},8,74.22,0,0,8,0,0,0,0,0,0,0,0,0,0,0,0,0,0,0,0,0,0,0,0,0,0,0,0,0]
[21,"909966GV","Bethany Vos","Giorgio","L -D","Pothoven (po), HS",8,80.97,{"$nulls":4},24,24,{"$nulls":7},99,{"$nulls":32},123,{"$f":"IF($O$4>0,(LARGE(($N29,$V29,$AD29,$AL29,$AT29,$BB29),1)),\"0\")","v":"0"},123,{"$nulls":5},8,80.97,0,0,8,0,0,0,0,0,0,0,0,0,0,0,0,0,0,0,0,0,0,0,0,0,0,0,0,0]
[22,"919006SH","Babette Hanse","Special Eslhofs Esmee","L -D","Flevoruiters, PC.",4,76.12,{"$nulls":4},18,99,0,57.36,null,0,38.03,null,4,99,{"$nulls":32},198,{"$f":"IF($O$4>0,(LARGE(($N30,$V30,$AD30,$AL30,$AT30,$BB30),1)),\"0\")","v":"0"},198,{"$nulls":3},"Flexibel M",null,4,76.12,0,0,4,0,57.36,0,38.03,0,0,0,0,0,0,0,0,0,0,0,0,0,0,0,0,0,0,0,0,0]
[22,"881788IT","Janna Twisk","Idaia Hp","L -D","Flevoruiters, PC.",0,72.67,{"$nulls":4},14,99,{"$nulls":7},99,{"$nulls":32},198,{"$f":"IF($O$4>0,(LARGE(($N31,$V31,$AD31,$AL31,$AT31,$BB31),1)),\"0\")","v":"0"},198,{"$nulls":3},"Flexibel M",null,0,72.67,0,0,0,0,0,0,0,0,0,0,0,0,0,0,0,0,0,0,0,0,0,0,0,0,0,0,0,0]
[22,"883686MT","Eva Twisk","Miss- Dexter","L -D","Flevoruiters, PC.",4,73.26,{"$nulls":4},16,99,{"$nulls":7},99,{"$nulls":32},198,{"$f":"IF($O$4>0,(LARGE(($N32,$V32,$AD32,$AL32,$AT32,$BB32),1)),\"0\")","v":"0"},198,{"$nulls":3},"Flexibel M",null,4,73.26,0,0,4,0,0,0,0,0,0,0,0,0,0,0,0,0,0,0,0,0,0,0,0,0,0,0,0,0]
[22,"899048MM","Zahra-Lindi Malkus","Lucky's Inspiration","L -D","Heuvelruiters, PC. De",4,82.75,{"$nulls":4},20,99,{"$nulls":7},99,{"$nulls":32},198,{"$f":"IF($O$4>0,(LARGE(($N33,$V33,$AD33,$AL33,$AT33,$BB33),1)),\"0\")","v":"0"},198,{"$nulls":3},"Flexibel M",null,4,82.75,0,0,4,0,0,0,0,0,0,0,0,0,0,0,0,0,0,0,0,0,0,0,0,0,0,0,0,0]

{"sheet":"M(C)","index":7,"n_rows":11,"n_cols":92,"rows_kept":11,"merged":[[0,0,0,60],[2,0,2,1],[2,2,2,4],[2,5,2,13],[2,14,2,21],[2,22,4,37],[2,54,2,57],[2,59,6,60],[3,0,3,1],[3,2,3,4],[3,5,3,13],[3,14,3,21],[3,54,3,57],[4,0,4,1],[4,2,4,4],[4,5,4,13],[4,14,4,21],[4,54,4,57],[5,0,6,4],[5,6,5,13],[5,14,5,21],[5,22,5,29],[5,30,5,37],[5,38,5,45],[5,46,5,53],[5,54,5,56],[6,6,6,13],[6,14,6,21],[6,22,6,29],[6,30,6,37],[6,38,6,45],[6,46,6,53]]}
["Selectie uitslagen"]
[{"$nulls":13},1,{"$nulls":7},2,{"$nulls":7},3,{"$nulls":7},4,{"$nulls":7},5,{"$nulls":7},6,{"$f":"N2+V2+AD2+AL2+AT2+BB2","v":21},{"$f":"IF($O$4>0,(LARGE(($N2,$V2,$AD2,$AL2,$AT2,$BB2),1)),\"0\")","v":"0"},{"$f":"BC2-BD2","v":21},{"$f":"IF($O$4>1,(LARGE(($N2,$V2,$AD2,$AL2,$AT2,$BB2),1))+(LARGE(($N2,$V2,$AD2,$AL2,$AT2,$BB2),2)),\"0\")","v":"0"},{"$nulls":4},{"$f":"IF(G2>99,199,G2)","v":0},{"$f":"IF(H2>99,0,H2)","v":0},{"$f":"IF(J2>99,199,J2)","v":0},{"$f":"IF(K2>99,0,K2)","v":0},{"$f":"BK2+BM2","v":0},{"$f":"IF(O2>99,199,O2)","v":0},{"$f":"IF(P2>99,0,P2)","v":0},{"$f":"IF(R2>99,199,R2)","v":0},{"$f":"IF(S2>99,0,S2)","v":0},{"$f":"BP2+BR2","v":0},{"$f":"IF(W2>99,199,W2)","v":0},{"$f":"IF(X2>99,0,X2)","v":0},{"$f":"IF(Z2>99,199,Z2)","v":0},{"$f":"IF(AA2>99,0,AA2)","v":0},{"$f":"BU2+BW2","v":0},{"$f":"IF(AE2>99,199,AE2)","v":0},{"$f":"IF(AF2>99,0,AF2)","v":0},{"$f":"IF(AH2>99,199,AH2)","v":0},{"$f":"IF(AI2>99,0,AI2)","v":0},{"$f":"BZ2+CB2","v":0},{"$f":"IF(AM2>99,199,AM2)","v":0},{"$f":"IF(AN2>99,0,AN2)","v":0},{"$f":"IF(AP2>99,199,AP2)","v":0},{"$f":"IF(AQ2>99,0,AQ2)","v":0},{"$f":"CE2+CG2","v":0},{"$f":"IF(AU2>99,199,AU2)","v":0},{"$f":"IF(AV2>99,0,AV2)","v":0},{"$f":"IF(AX2>99,199,AX2)","v":0},{"$f":"IF(AY2>99,0,AY2)","v":0},{"$f":"CJ2+CL2","v":0}]
["Kring:",null,{"$f":"Instellingen!B3","v":"Kring NVF"},null,null,"Aantal afvaardiging Regio:",{"$nulls":8},2,{"$nulls":39},"Aantal wedstrijden:",{"$nulls":3},{"$f":"Instellingen!B6","v":2}]
["Klasse:",null,"M",null,null,"Aantal afval resultaten:",{"$nulls":8},{"$f":"Instellingen!B7","v":0}]
["Cat.:",null,"C",null,null,"Plaatsingspunten niet gestart:",{"$nulls":8},{"$f":"Instellingen!B5","v":99},{"$nulls":39},"Aantal reserves:",{"$nulls":3},2]
[{"$nulls":5},"Lokatie:",{"$f":"Instellingen!B40","v":"Wezep"},{"$nulls":7},{"$f":"Instellingen!B41","v":"Nunspeet"},{"$nulls":7},{"$f":"Instellingen!B42","v":" "},{"$nulls":7},{"$f":"Instellingen!B43","v":" "},{"$nulls":7},{"$f":"Instellingen!B44","v":" "},{"$nulls":7},{"$f":"Instellingen!B45","v":" "},{"$nulls":7},"Springen"]
[{"$nulls":5},"Datum:",{"$f":"Instellingen!C40","v":"04juni2021"},{"$nulls":7},{"$f":"Instellingen!C41","v":"26juni2021"},{"$nulls":7},{"$f":"Instellingen!C42","v":" "},{"$nulls":7},{"$f":"Instellingen!C43","v":" "},{"$nulls":7},{"$f":"Instellingen!C44","v":" "},{"$nulls":7},{"$f":"Instellingen!C45","v":" "},{"$nulls":7},"Tot.","afval","Beste"]
["Pl.","Comb.nr.","Ruiter/amazone","Paard/pony","kl.","vereniging","ftn1","tijd1","wvr1","ftn2","tijd2","wvr2","pl.","pl.p.","ftn1","tijd1","wvr1","ftn2","tijd2","wvr2","pl.","pl.p.","ftn1","tijd1","wvr1","ftn2","tijd2","wvr2","pl.","pl.p.","ftn1","tijd1","wvr1","ftn2","tijd2","wvr2","pl.","pl.p.","ftn1","tijd1","wvr1","ftn2","tijd2","wvr2","pl.","pl.p.","ftn1","tijd1","wvr1","ftn2","tijd2","wvr2","pl.","pl.p.","pl.pnt","pl.pnt","pl.pnt","Afv.","Res.","Afv. Regio","opmerking",null,"ftn1  1e","styl1  1e","ftn2  1e","styl2  1e bar.","1e tot ftn","ftn1  2e","styl1  2e","ftn2  2e","styl2  2e bar.","2e tot ftn","ftn1  3e","styl1  3e","ftn2  3e","styl2  3e bar.","3e tot ftn","ftn1  4e","styl1  4e","ftn2  4e","styl2  4e bar."," 4e tot ftn","ftn1  5e","styl1  5e","ftn2  5e","styl2  5e bar.","5e tot ftn","ftn1  6e","styl1  6e","ftn2  6e","styl2  6e bar."," 6e tot ftn"]
[1,"850341MR","Silke Van Riel","Magnum","M -C","Flevoruiters, PC.",0,75.29,null,0,37.33,null,1,1,8,60.29,{"$nulls":4},3,3,{"$nulls":32},{"$f":"N9+V9+AD9+AL9+AT9+BB9","v":4},{"$f":"IF($O$4>0,(LARGE(($N9,$V9,$AD9,$AL9,$AT9,$BB9),1)),\"0\")","v":"0"},{"$f":"BC9-BD9","v":4},1,null,null,"Kringkampioen",null,{"$f":"IF(G9>99,199,G9)","v":0},{"$f":"IF(H9>99,0,H9)","v":75.29},{"$f":"IF(J9>99,199,J9)","v":0},{"$f":"IF(K9>99,0,K9)","v":37.33},{"$f":"BK9+BM9","v":0},{"$f":"IF(O9>99,199,O9)","v":8},{"$f":"IF(P9>99,0,P9)","v":60.29},{"$f":"IF(R9>99,199,R9)","v":0},{"$f":"IF(S9>99,0,S9)","v":0},{"$f":"BP9+BR9","v":8},{"$f":"IF(W9>99,199,W9)","v":0},{"$f":"IF(X9>99,0,X9)","v":0},{"$f":"IF(Z9>99,199,Z9)","v":0},{"$f":"IF(AA9>99,0,AA9)","v":0},{"$f":"BU9+BW9","v":0},{"$f":"IF(AE9>99,199,AE9)","v":0},{"$f":"IF(AF9>99,0,AF9)","v":0},{"$f":"IF(AH9>99,199,AH9)","v":0},{"$f":"IF(AI9>99,0,AI9)","v":0},{"$f":"BZ9+CB9","v":0},{"$f":"IF(AM9>99,199,AM9)","v":0},{"$f":"IF(AN9>99,0,AN9)","v":0},{"$f":"IF(AP9>99,199,AP9)","v":0},{"$f":"IF(AQ9>99,0,AQ9)","v":0},{"$f":"CE9+CG9","v":0},{"$f":"IF(AU9>99,199,AU9)","v":0},{"$f":"IF(AV9>99,0,AV9)","v":0},{"$f":"IF(AX9>99,199,AX9)","v":0},{"$f":"IF(AY9>99,0,AY9)","v":0},{"$f":"CJ9+CL9","v":0}]
[2,"754401RS","Louna Sanderse","Roos","M -C","WWNA, PC.",13,87.75,{"$nulls":4},3,3,4,{"v":73.1,"d":"73.10"},{"$nulls":4},2,2,{"$nulls":32},{"$f":"N10+V10+AD10+AL10+AT10+BB10","v":5},{"$f":"IF($O$4>0,(LARGE(($N10,$V10,$AD10,$AL10,$AT10,$BB10),1)),\"0\")","v":"0"},{"$f":"BC10-BD10","v":5},2,{"$nulls":4},{"$f":"IF(G10>99,199,G10)","v":13},{"$f":"IF(H10>99,0,H10)","v":87.75},{"$f":"IF(J10>99,199,J10)","v":0},{"$f":"IF(K10>99,0,K10)","v":0},{"$f":"BK10+BM10","v":13},{"$f":"IF(O10>99,199,O10)","v":4},{"$f":"IF(P10>99,0,P10)","v":73.1},{"$f":"IF(R10>99,199,R10)","v":0},{"$f":"IF(S10>99,0,S10)","v":0},{"$f":"BP10+BR10","v":4},{"$f":"IF(W10>99,199,W10)","v":0},{"$f":"IF(X10>99,0,X10)","v":0},{"$f":"IF(Z10>99,199,Z10)","v":0},{"$f":"IF(AA10>99,0,AA10)","v":0},{"$f":"BU10+BW10","v":0},{"$f":"IF(AE10>99,199,AE10)","v":0},{"$f":"IF(AF10>99,0,AF10)","v":0},{"$f":"IF(AH10>99,199,AH10)","v":0},{"$f":"IF(AI10>99,0,AI10)","v":0},{"$f":"BZ10+CB10","v":0},{"$f":"IF(AM10>99,199,AM10)","v":0},{"$f":"IF(AN10>99,0,AN10)","v":0},{"$f":"IF(AP10>99,199,AP10)","v":0},{"$f":"IF(AQ10>99,0,AQ10)","v":0},{"$f":"CE10+CG10","v":0},{"$f":"IF(AU10>99,199,AU10)","v":0},{"$f":"IF(AV10>99,0,AV10)","v":0},{"$f":"IF(AX10>99,199,AX10)","v":0},{"$f":"IF(AY10>99,0,AY10)","v":0},{"$f":"CJ10+CL10","v":0}]
[3,"807022LK","Kyra Klopman","Luiringe Stefanie's Angela","M -C","Bosruiters, PC. De",0,69.56,{"$nulls":4},2,99,0,58.04,{"$nulls":4},1,99,{"$nulls":32},{"$f":"N11+V11+AD11+AL11+AT11+BB11","v":198},{"$f":"IF($O$4>0,(LARGE(($N11,$V11,$AD11,$AL11,$AT11,$BB11),1)),\"0\")","v":"0"},{"$f":"BC11-BD11","v":198},{"$nulls":3},"Flexibel Z",null,{"$f":"IF(G11>99,199,G11)","v":0},{"$f":"IF(H11>99,0,H11)","v":69.56},{"$f":"IF(J11>99,199,J11)","v":0},{"$f":"IF(K11>99,0,K11)","v":0},{"$f":"BK11+BM11","v":0},{"$f":"IF(O11>99,199,O11)","v":0},{"$f":"IF(P11>99,0,P11)","v":58.04},{"$f":"IF(R11>99,199,R11)","v":0},{"$f":"IF(S11>99,0,S11)","v":0},{"$f":"BP11+BR11","v":0},{"$f":"IF(W11>99,199,W11)","v":0},{"$f":"IF(X11>99,0,X11)","v":0},{"$f":"IF(Z11>99,199,Z11)","v":0},{"$f":"IF(AA11>99,0,AA11)","v":0},{"$f":"BU11+BW11","v":0},{"$f":"IF(AE11>99,199,AE11)","v":0},{"$f":"IF(AF11>99,0,AF11)","v":0},{"$f":"IF(AH11>99,199,AH11)","v":0},{"$f":"IF(AI11>99,0,AI11)","v":0},{"$f":"BZ11+CB11","v":0},{"$f":"IF(AM11>99,199,AM11)","v":0},{"$f":"IF(AN11>99,0,AN11)","v":0},{"$f":"IF(AP11>99,199,AP11)","v":0},{"$f":"IF(AQ11>99,0,AQ11)","v":0},{"$f":"CE11+CG11","v":0},{"$f":"IF(AU11>99,199,AU11)","v":0},{"$f":"IF(AV11>99,0,AV11)","v":0},{"$f":"IF(AX11>99,199,AX11)","v":0},{"$f":"IF(AY11>99,0,AY11)","v":0},{"$f":"CJ11+CL11","v":0}]

{"sheet":"M(DE)","index":8,"n_rows":17,"n_cols":92,"rows_kept":17,"merged":[[0,0,0,60],[2,0,2,1],[2,2,2,4],[2,5,2,13],[2,14,2,21],[2,22,4,37],[2,54,2,57],[2,59,6,60],[3,0,3,1],[3,2,3,4],[3,5,3,13],[3,14,3,21],[3,54,3,57],[4,0,4,1],[4,2,4,4],[4,5,4,13],[4,14,4,21],[4,54,4,57],[5,0,6,4],[5,6,5,13],[5,14,5,21],[5,22,5,29],[5,30,5,37],[5,38,5,45],[5,46,5,53],[5,54,5,56],[6,6,6,13],[6,14,6,21],[6,22,6,29],[6,30,6,37],[6,38,6,45],[6,46,6,53]]}
["Selectie uitslagen"]
[{"$nulls":13},1,{"$nulls":7},2,{"$nulls":7},3,{"$nulls":7},4,{"$nulls":7},5,{"$nulls":7},6,{"$f":"N2+V2+AD2+AL2+AT2+BB2","v":21},{"$f":"IF($O$4>0,(LARGE(($N2,$V2,$AD2,$AL2,$AT2,$BB2),1)),\"0\")","v":"0"},{"$f":"BC2-BD2","v":21},{"$f":"IF($O$4>1,(LARGE(($N2,$V2,$AD2,$AL2,$AT2,$BB2),1))+(LARGE(($N2,$V2,$AD2,$AL2,$AT2,$BB2),2)),\"0\")","v":"0"},{"$nulls":4},{"$f":"IF(G2>99,199,G2)","v":0},{"$f":"IF(H2>99,0,H2)","v":0},{"$f":"IF(J2>99,199,J2)","v":0},{"$f":"IF(K2>99,0,K2)","v":0},{"$f":"BK2+BM2","v":0},{"$f":"IF(O2>99,199,O2)","v":0},{"$f":"IF(P2>99,0,P2)","v":0},{"$f":"IF(R2>99,199,R2)","v":0},{"$f":"IF(S2>99,0,S2)","v":0},{"$f":"BP2+BR2","v":0},{"$f":"IF(W2>99,199,W2)","v":0},{"$f":"IF(X2>99,0,X2)","v":0},{"$f":"IF(Z2>99,199,Z2)","v":0},{"$f":"IF(AA2>99,0,AA2)","v":0},{"$f":"BU2+BW2","v":0},{"$f":"IF(AE2>99,199,AE2)","v":0},{"$f":"IF(AF2>99,0,AF2)","v":0},{"$f":"IF(AH2>99,199,AH2)","v":0},{"$f":"IF(AI2>99,0,AI2)","v":0},{"$f":"BZ2+CB2","v":0},{"$f":"IF(AM2>99,199,AM2)","v":0},{"$f":"IF(AN2>99,0,AN2)","v":0},{"$f":"IF(AP2>99,199,AP2)","v":0},{"$f":"IF(AQ2>99,0,AQ2)","v":0},{"$f":"CE2+CG2","v":0},{"$f":"IF(AU2>99,199,AU2)","v":0},{"$f":"IF(AV2>99,0,AV2)","v":0},{"$f":"IF(AX2>99,199,AX2)","v":0},{"$f":"IF(AY2>99,0,AY2)","v":0},{"$f":"CJ2+CL2","v":0}]
["Kring:",null,{"$f":"Instellingen!B3","v":"Kring NVF"},null,null,"Aantal afvaardiging Regio:",{"$nulls":8},7,{"$nulls":39},"Aantal wedstrijden:",{"$nulls":3},{"$f":"Instellingen!B6","v":2}]
["Klasse:",null,"M",null,null,"Aantal afval resultaten:",{"$nulls":8},{"$f":"Instellingen!B7","v":0}]
["Cat.:",null,"D / E",null,null,"Plaatsingspunten niet gestart:",{"$nulls":8},{"$f":"Instellingen!B5","v":99},{"$nulls":39},"Aantal reserves:",{"$nulls":3},2]
[{"$nulls":5},"Lokatie:",{"$f":"Instellingen!B40","v":"Wezep"},{"$nulls":7},{"$f":"Instellingen!B41","v":"Nunspeet"},{"$nulls":7},{"$f":"Instellingen!B42","v":" "},{"$nulls":7},{"$f":"Instellingen!B43","v":" "},{"$nulls":7},{"$f":"Instellingen!B44","v":" "},{"$nulls":7},{"$f":"Instellingen!B45","v":" "},{"$nulls":7},"Springen"]
[{"$nulls":5},"Datum:",{"$f":"Instellingen!C40","v":"04juni2021"},{"$nulls":7},{"$f":"Instellingen!C41","v":"26juni2021"},{"$nulls":7},{"$f":"Instellingen!C42","v":" "},{"$nulls":7},{"$f":"Instellingen!C43","v":" "},{"$nulls":7},{"$f":"Instellingen!C44","v":" "},{"$nulls":7},{"$f":"Instellingen!C45","v":" "},{"$nulls":7},"Tot.","afval","Beste"]
["Pl.","Comb.nr.","Ruiter/amazone","Paard/pony","kl.","vereniging","ftn1","tijd1","wvr1","ftn2","tijd2","wvr2","pl.","pl.p.","ftn1","tijd1","wvr1","ftn2","tijd2","wvr2","pl.","pl.p.","ftn1","tijd1","wvr1","ftn2","tijd2","wvr2","pl.","pl.p.","ftn1","tijd1","wvr1","ftn2","tijd2","wvr2","pl.","pl.p.","ftn1","tijd1","wvr1","ftn2","tijd2","wvr2","pl.","pl.p.","ftn1","tijd1","wvr1","ftn2","tijd2","wvr2","pl.","pl.p.","pl.pnt","pl.pnt","pl.pnt","Afv.","Res.","Afv. Regio","opmerking",null,"ftn1  1e","styl1  1e","ftn2  1e","styl2  1e bar.","1e tot ftn","ftn1  2e","styl1  2e","ftn2  2e","styl2  2e bar.","2e tot ftn","ftn1  3e","styl1  3e","ftn2  3e","styl2  3e bar.","3e tot ftn","ftn1  4e","styl1  4e","ftn2  4e","styl2  4e bar."," 4e tot ftn","ftn1  5e","styl1  5e","ftn2  5e","styl2  5e bar.","5e tot ftn","ftn1  6e","styl1  6e","ftn2  6e","styl2  6e bar."," 6e tot ftn"]
[1,"866585FA","Quiana Altena","Flessenbos Florian","M -D","Heuvelruiters, PC. De",0,68.01,null,0,40.76,null,4,4,0,57.24,null,0,40.22,null,1,1,{"$nulls":32},{"$f":"N9+V9+AD9+AL9+AT9+BB9","v":5},{"$f":"IF($O$4>0,(LARGE(($N9,$V9,$AD9,$AL9,$AT9,$BB9),1)),\"0\")","v":"0"},{"$f":"BC9-BD9","v":5},1,null,null,"Kringkampioen",null,{"$f":"IF(G9>99,199,G9)","v":0},{"$f":"IF(H9>99,0,H9)","v":68.01},{"$f":"IF(J9>99,199,J9)","v":0},{"$f":"IF(K9>99,0,K9)","v":40.76},{"$f":"BK9+BM9","v":0},{"$f":"IF(O9>99,199,O9)","v":0},{"$f":"IF(P9>99,0,P9)","v":57.24},{"$f":"IF(R9>99,199,R9)","v":0},{"$f":"IF(S9>99,0,S9)","v":40.22},{"$f":"BP9+BR9","v":0},{"$f":"IF(W9>99,199,W9)","v":0},{"$f":"IF(X9>99,0,X9)","v":0},{"$f":"IF(Z9>99,199,Z9)","v":0},{"$f":"IF(AA9>99,0,AA9)","v":0},{"$f":"BU9+BW9","v":0},{"$f":"IF(AE9>99,199,AE9)","v":0},{"$f":"IF(AF9>99,0,AF9)","v":0},{"$f":"IF(AH9>99,199,AH9)","v":0},{"$f":"IF(AI9>99,0,AI9)","v":0},{"$f":"BZ9+CB9","v":0},{"$f":"IF(AM9>99,199,AM9)","v":0},{"$f":"IF(AN9>99,0,AN9)","v":0},{"$f":"IF(AP9>99,199,AP9)","v":0},{"$f":"IF(AQ9>99,0,AQ9)","v":0},{"$f":"CE9+CG9","v":0},{"$f":"IF(AU9>99,199,AU9)","v":0},{"$f":"IF(AV9>99,0,AV9)","v":0},{"$f":"IF(AX9>99,199,AX9)","v":0},{"$f":"IF(AY9>99,0,AY9)","v":0},{"$f":"CJ9+CL9","v":0}]
[2,"881788IT","Janna Twisk","Idaia Hp","M -D","Flevoruiters, PC.",0,71.32,null,0,38.36,null,3,3,0,65.14,null,4,39.56,null,2,2,{"$nulls":32},5,{"$f":"IF($O$4>0,(LARGE(($N10,$V10,$AD10,$AL10,$AT10,$BB10),1)),\"0\")","v":"0"},5,2,{"$nulls":4},0,71.32,0,38.36,0,0,65.14,4,39.56,4,0,0,0,0,0,0,0,0,0,0,0,0,0,0,0,0,0,0,0,0]
[3,"883686MT","Eva Twisk","Miss- Dexter","M -D","Flevoruiters, PC.",0,66.68,null,0,36.15,null,2,2,4,59.29,{"$nulls":4},4,4,{"$nulls":32},6,{"$f":"IF($O$4>0,(LARGE(($N11,$V11,$AD11,$AL11,$AT11,$BB11),1)),\"0\")","v":"0"},6,3,{"$nulls":4},0,66.68,0,36.15,0,4,59.29,0,0,4,0,0,0,0,0,0,0,0,0,0,0,0,0,0,0,0,0,0,0,0]
[4,"918854GV","Bethany Vos","Good Luck VS","M -D","Pothoven (po), HS",0,78.15,null,0,32.75,null,1,1,4,61.63,{"$nulls":4},6,6,{"$nulls":32},7,{"$f":"IF($O$4>0,(LARGE(($N12,$V12,$AD12,$AL12,$AT12,$BB12),1)),\"0\")","v":"0"},7,4,{"$nulls":4},0,78.15,0,32.75,0,4,61.63,0,0,4,0,0,0,0,0,0,0,0,0,0,0,0,0,0,0,0,0,0,0,0]
[5,"885446IV","Ellen de Vet","Idool van het Rozendaelhof","M -D","Flevoruiters, PC.",0,69.36,null,4,37.88,null,5,5,4,60.51,{"$nulls":4},5,5,{"$nulls":32},10,{"$f":"IF($O$4>0,(LARGE(($N13,$V13,$AD13,$AL13,$AT13,$BB13),1)),\"0\")","v":"0"},10,5,{"$nulls":4},0,69.36,4,37.88,4,4,60.51,0,0,4,0,0,0,0,0,0,0,0,0,0,0,0,0,0,0,0,0,0,0,0]
[6,"919006SH","Babette Hanse","Special Eslhofs Esmee","M -D","Flevoruiters, PC.",8,68.49,{"$nulls":4},8,8,4,{"v":58.8,"d":"58.80"},{"$nulls":4},3,3,{"$nulls":32},11,{"$f":"IF($O$4>0,(LARGE(($N14,$V14,$AD14,$AL14,$AT14,$BB14),1)),\"0\")","v":"0"},11,6,{"$nulls":4},8,68.49,0,0,8,4,58.8,0,0,4,0,0,0,0,0,0,0,0,0,0,0,0,0,0,0,0,0,0,0,0]
[7,"899048MM","Zahra-Lindi Malkus","Lucky's Inspiration","M -D","Heuvelruiters, PC. De",4,76.01,{"$nulls":4},6,6,{"$nulls":7},99,{"$nulls":32},105,{"$f":"IF($O$4>0,(LARGE(($N15,$V15,$AD15,$AL15,$AT15,$BB15),1)),\"0\")","v":"0"},105,{"$nulls":5},4,76.01,0,0,4,0,0,0,0,0,0,0,0,0,0,0,0,0,0,0,0,0,0,0,0,0,0,0,0,0]
[8,"859923JI","Tereza Israel","Jawel","M -D","Flevoruiters, PC.",12,97.36,{"$nulls":4},9,9,{"$nulls":7},99,{"$nulls":32},108,{"$f":"IF($O$4>0,(LARGE(($N16,$V16,$AD16,$AL16,$AT16,$BB16),1)),\"0\")","v":"0"},108,{"$nulls":5},12,97.36,0,0,12,0,0,0,0,0,0,0,0,0,0,0,0,0,0,0,0,0,0,0,0,0,0,0,0,0]
[9,"803916MD","Elvira Van den Dragt","Macho's Quess","M -D","Klein Maar Dapper, PC.",4,76.98,{"$nulls":4},7,99,4,68.75,{"$nulls":4},7,99,{"$nulls":32},198,{"$f":"IF($O$4>0,(LARGE(($N17,$V17,$AD17,$AL17,$AT17,$BB17),1)),\"0\")","v":"0"},198,{"$nulls":3},"Flexibel Z",null,4,76.98,0,0,4,4,68.75,0,0,4,0,0,0,0,0,0,0,0,0,0,0,0,0,0,0,0,0,0,0,0]

{"sheet":"Z(C)","index":9,"n_rows":9,"n_cols":92,"rows_kept":9,"merged":[[0,0,0,60],[2,0,2,1],[2,2,2,4],[2,5,2,13],[2,14,2,21],[2,22,4,37],[2,54,2,57],[2,59,6,60],[3,0,3,1],[3,2,3,4],[3,5,3,13],[3,14,3,21],[3,54,3,57],[4,0,4,1],[4,2,4,4],[4,5,4,13],[4,14,4,21],[4,54,4,57],[5,0,6,4],[5,6,5,13],[5,14,5,21],[5,22,5,29],[5,30,5,37],[5,38,5,45],[5,46,5,53],[5,54,5,56],[6,6,6,13],[6,14,6,21],[6,22,6,29],[6,30,6,37],[6,38,6,45],[6,46,6,53]]}
["Selectie uitslagen"]
[{"$nulls":13},1,{"$nulls":7},2,{"$nulls":7},3,{"$nulls":7},4,{"$nulls":7},5,{"$nulls":7},6,{"$f":"N2+V2+AD2+AL2+AT2+BB2","v":21},{"$f":"IF($O$4>0,(LARGE(($N2,$V2,$AD2,$AL2,$AT2,$BB2),1)),\"0\")","v":"0"},{"$f":"BC2-BD2","v":21},{"$f":"IF($O$4>1,(LARGE(($N2,$V2,$AD2,$AL2,$AT2,$BB2),1))+(LARGE(($N2,$V2,$AD2,$AL2,$AT2,$BB2),2)),\"0\")","v":"0"},{"$nulls":4},{"$f":"IF(G2>99,199,G2)","v":0},{"$f":"IF(H2>99,0,H2)","v":0},{"$f":"IF(J2>99,199,J2)","v":0},{"$f":"IF(K2>99,0,K2)","v":0},{"$f":"BK2+BM2","v":0},{"$f":"IF(O2>99,199,O2)","v":0},{"$f":"IF(P2>99,0,P2)","v":0},{"$f":"IF(R2>99,199,R2)","v":0},{"$f":"IF(S2>99,0,S2)","v":0},{"$f":"BP2+BR2","v":0},{"$f":"IF(W2>99,199,W2)","v":0},{"$f":"IF(X2>99,0,X2)","v":0},{"$f":"IF(Z2>99,199,Z2)","v":0},{"$f":"IF(AA2>99,0,AA2)","v":0},{"$f":"BU2+BW2","v":0},{"$f":"IF(AE2>99,199,AE2)","v":0},{"$f":"IF(AF2>99,0,AF2)","v":0},{"$f":"IF(AH2>99,199,AH2)","v":0},{"$f":"IF(AI2>99,0,AI2)","v":0},{"$f":"BZ2+CB2","v":0},{"$f":"IF(AM2>99,199,AM2)","v":0},{"$f":"IF(AN2>99,0,AN2)","v":0},{"$f":"IF(AP2>99,199,AP2)","v":0},{"$f":"IF(AQ2>99,0,AQ2)","v":0},{"$f":"CE2+CG2","v":0},{"$f":"IF(AU2>99,199,AU2)","v":0},{"$f":"IF(AV2>99,0,AV2)","v":0},{"$f":"IF(AX2>99,199,AX2)","v":0},{"$f":"IF(AY2>99,0,AY2)","v":0},{"$f":"CJ2+CL2","v":0}]
["Kring:",null,{"$f":"Instellingen!B3","v":"Kring NVF"},null,null,"Aantal afvaardiging Regio:",{"$nulls":48},"Aantal wedstrijden:",{"$nulls":3},{"$f":"Instellingen!B6","v":2}]
["Klasse:",null,"Z",null,null,"Aantal afval resultaten:",{"$nulls":8},{"$f":"Instellingen!B7","v":0}]
["Cat.:",null,"C",null,null,"Plaatsingspunten niet gestart:",{"$nulls":8},{"$f":"Instellingen!B5","v":99},{"$nulls":39},"Aantal reserves:"]
[{"$nulls":5},"Lokatie:",{"$f":"Instellingen!B40","v":"Wezep"},{"$nulls":7},{"$f":"Instellingen!B41","v":"Nunspeet"},{"$nulls":7},{"$f":"Instellingen!B42","v":" "},{"$nulls":7},{"$f":"Instellingen!B43","v":" "},{"$nulls":7},{"$f":"Instellingen!B44","v":" "},{"$nulls":7},{"$f":"Instellingen!B45","v":" "},{"$nulls":7},"Springen"]
[{"$nulls":5},"Datum:",{"$f":"Instellingen!C40","v":"04juni2021"},{"$nulls":7},{"$f":"Instellingen!C41","v":"26juni2021"},{"$nulls":7},{"$f":"Instellingen!C42","v":" "},{"$nulls":7},{"$f":"Instellingen!C43","v":" "},{"$nulls":7},{"$f":"Instellingen!C44","v":" "},{"$nulls":7},{"$f":"Instellingen!C45","v":" "},{"$nulls":7},"Tot.","afval","Beste"]
["Pl.","Comb.nr.","Ruiter/amazone","Paard/pony","kl.","vereniging","ftn1","tijd1","wvr1","ftn2","tijd2","wvr2","pl.","pl.p.","ftn1","tijd1","wvr1","ftn2","tijd2","wvr2","pl.","pl.p.","ftn1","tijd1","wvr1","ftn2","tijd2","wvr2","pl.","pl.p.","ftn1","tijd1","wvr1","ftn2","tijd2","wvr2","pl.","pl.p.","ftn1","tijd1","wvr1","ftn2","tijd2","wvr2","pl.","pl.p.","ftn1","tijd1","wvr1","ftn2","tijd2","wvr2","pl.","pl.p.","pl.pnt","pl.pnt","pl.pnt","Afv.","Res.","Afv. Regio","opmerking",null,"ftn1  1e","styl1  1e","ftn2  1e","styl2  1e bar.","1e tot ftn","ftn1  2e","styl1  2e","ftn2  2e","styl2  2e bar.","2e tot ftn","ftn1  3e","styl1  3e","ftn2  3e","styl2  3e bar.","3e tot ftn","ftn1  4e","styl1  4e","ftn2  4e","styl2  4e bar."," 4e tot ftn","ftn1  5e","styl1  5e","ftn2  5e","styl2  5e bar.","5e tot ftn","ftn1  6e","styl1  6e","ftn2  6e","styl2  6e bar."," 6e tot ftn"]
[1,"807022LK","Kyra Klopman","Luiringe Stefanie's Angela","Z -C","Bosruiters, PC. De",0,69.38,null,0,34.48,null,1,1,0,{"v":58.8,"d":"58.80"},null,4,39.94,null,1,1,{"$nulls":32},{"$f":"N9+V9+AD9+AL9+AT9+BB9","v":2},{"$f":"IF($O$4>0,(LARGE(($N9,$V9,$AD9,$AL9,$AT9,$BB9),1)),\"0\")","v":"0"},{"$f":"BC9-BD9","v":2},{"$nulls":3},"Kringkampioen",null,{"$f":"IF(G9>99,199,G9)","v":0},{"$f":"IF(H9>99,0,H9)","v":69.38},{"$f":"IF(J9>99,199,J9)","v":0},{"$f":"IF(K9>99,0,K9)","v":34.48},{"$f":"BK9+BM9","v":0},{"$f":"IF(O9>99,199,O9)","v":0},{"$f":"IF(P9>99,0,P9)","v":58.8},{"$f":"IF(R9>99,199,R9)","v":4},{"$f":"IF(S9>99,0,S9)","v":39.94},{"$f":"BP9+BR9","v":4},{"$f":"IF(W9>99,199,W9)","v":0},{"$f":"IF(X9>99,0,X9)","v":0},{"$f":"IF(Z9>99,199,Z9)","v":0},{"$f":"IF(AA9>99,0,AA9)","v":0},{"$f":"BU9+BW9","v":0},{"$f":"IF(AE9>99,199,AE9)","v":0},{"$f":"IF(AF9>99,0,AF9)","v":0},{"$f":"IF(AH9>99,199,AH9)","v":0},{"$f":"IF(AI9>99,0,AI9)","v":0},{"$f":"BZ9+CB9","v":0},{"$f":"IF(AM9>99,199,AM9)","v":0},{"$f":"IF(AN9>99,0,AN9)","v":0},{"$f":"IF(AP9>99,199,AP9)","v":0},{"$f":"IF(AQ9>99,0,AQ9)","v":0},{"$f":"CE9+CG9","v":0},{"$f":"IF(AU9>99,199,AU9)","v":0},{"$f":"IF(AV9>99,0,AV9)","v":0},{"$f":"IF(AX9>99,199,AX9)","v":0},{"$f":"IF(AY9>99,0,AY9)","v":0},{"$f":"CJ9+CL9","v":0}]

{"sheet":"Z(DE)","index":10,"n_rows":12,"n_cols":92,"rows_kept":12,"merged":[[0,0,0,60],[2,0,2,1],[2,2,2,4],[2,5,2,13],[2,14,2,21],[2,22,4,37],[2,54,2,57],[2,59,6,60],[3,0,3,1],[3,2,3,4],[3,5,3,13],[3,14,3,21],[3,54,3,57],[4,0,4,1],[4,2,4,4],[4,5,4,13],[4,14,4,21],[4,54,4,57],[5,0,6,4],[5,6,5,13],[5,14,5,21],[5,22,5,29],[5,30,5,37],[5,38,5,45],[5,46,5,53],[5,54,5,56],[6,6,6,13],[6,14,6,21],[6,22,6,29],[6,30,6,37],[6,38,6,45],[6,46,6,53]]}
["Selectie uitslagen"]
[{"$nulls":13},1,{"$nulls":7},2,{"$nulls":7},3,{"$nulls":7},4,{"$nulls":7},5,{"$nulls":7},6,{"$f":"N2+V2+AD2+AL2+AT2+BB2","v":21},{"$f":"IF($O$4>0,(LARGE(($N2,$V2,$AD2,$AL2,$AT2,$BB2),1)),\"0\")","v":"0"},{"$f":"BC2-BD2","v":21},{"$f":"IF($O$4>1,(LARGE(($N2,$V2,$AD2,$AL2,$AT2,$BB2),1))+(LARGE(($N2,$V2,$AD2,$AL2,$AT2,$BB2),2)),\"0\")","v":"0"},{"$nulls":4},{"$f":"IF(G2>99,199,G2)","v":0},{"$f":"IF(H2>99,0,H2)","v":0},{"$f":"IF(J2>99,199,J2)","v":0},{"$f":"IF(K2>99,0,K2)","v":0},{"$f":"BK2+BM2","v":0},{"$f":"IF(O2>99,199,O2)","v":0},{"$f":"IF(P2>99,0,P2)","v":0},{"$f":"IF(R2>99,199,R2)","v":0},{"$f":"IF(S2>99,0,S2)","v":0},{"$f":"BP2+BR2","v":0},{"$f":"IF(W2>99,199,W2)","v":0},{"$f":"IF(X2>99,0,X2)","v":0},{"$f":"IF(Z2>99,199,Z2)","v":0},{"$f":"IF(AA2>99,0,AA2)","v":0},{"$f":"BU2+BW2","v":0},{"$f":"IF(AE2>99,199,AE2)","v":0},{"$f":"IF(AF2>99,0,AF2)","v":0},{"$f":"IF(AH2>99,199,AH2)","v":0},{"$f":"IF(AI2>99,0,AI2)","v":0},{"$f":"BZ2+CB2","v":0},{"$f":"IF(AM2>99,199,AM2)","v":0},{"$f":"IF(AN2>99,0,AN2)","v":0},{"$f":"IF(AP2>99,199,AP2)","v":0},{"$f":"IF(AQ2>99,0,AQ2)","v":0},{"$f":"CE2+CG2","v":0},{"$f":"IF(AU2>99,199,AU2)","v":0},{"$f":"IF(AV2>99,0,AV2)","v":0},{"$f":"IF(AX2>99,199,AX2)","v":0},{"$f":"IF(AY2>99,0,AY2)","v":0},{"$f":"CJ2+CL2","v":0}]
["Kring:",null,{"$f":"Instellingen!B3","v":"Kring NVF"},null,null,"Aantal afvaardiging Regio:",{"$nulls":48},"Aantal wedstrijden:",{"$nulls":3},{"$f":"Instellingen!B6","v":2}]
["Klasse:",null,"Z",null,null,"Aantal afval resultaten:",{"$nulls":8},{"$f":"Instellingen!B7","v":0}]
["Cat.:",null,"D / E",null,null,"Plaatsingspunten niet gestart:",{"$nulls":8},{"$f":"Instellingen!B5","v":99},{"$nulls":39},"Aantal reserves:"]
[{"$nulls":5},"Lokatie:",{"$f":"Instellingen!B40","v":"Wezep"},{"$nulls":7},{"$f":"Instellingen!B41","v":"Nunspeet"},{"$nulls":7},{"$f":"Instellingen!B42","v":" "},{"$nulls":7},{"$f":"Instellingen!B43","v":" "},{"$nulls":7},{"$f":"Instellingen!B44","v":" "},{"$nulls":7},{"$f":"Instellingen!B45","v":" "},{"$nulls":7},"Springen"]
[{"$nulls":5},"Datum:",{"$f":"Instellingen!C40","v":"04juni2021"},{"$nulls":7},{"$f":"Instellingen!C41","v":"26juni2021"},{"$nulls":7},{"$f":"Instellingen!C42","v":" "},{"$nulls":7},{"$f":"Instellingen!C43","v":" "},{"$nulls":7},{"$f":"Instellingen!C44","v":" "},{"$nulls":7},{"$f":"Instellingen!C45","v":" "},{"$nulls":7},"Tot.","afval","Beste"]
["Pl.","Comb.nr.","Ruiter/amazone","Paard/pony","kl.","vereniging","ftn1","tijd1","wvr1","ftn2","tijd2","wvr2","pl.","pl.p.","ftn1","tijd1","wvr1","ftn2","tijd2","wvr2","pl.","pl.p.","ftn1","tijd1","wvr1","ftn2","tijd2","wvr2","pl.","pl.p.","ftn1","tijd1","wvr1","ftn2","tijd2","wvr2","pl.","pl.p.","ftn1","tijd1","wvr1","ftn2","tijd2","wvr2","pl.","pl.p.","ftn1","tijd1","wvr1","ftn2","tijd2","wvr2","pl.","pl.p.","pl.pnt","pl.pnt","pl.pnt","Afv.","Res.","Afv. Regio","opmerking",null,"ftn1  1e","styl1  1e","ftn2  1e","styl2  1e bar.","1e tot ftn","ftn1  2e","styl1  2e","ftn2  2e","styl2  2e bar.","2e tot ftn","ftn1  3e","styl1  3e","ftn2  3e","styl2  3e bar.","3e tot ftn","ftn1  4e","styl1  4e","ftn2  4e","styl2  4e bar."," 4e tot ftn","ftn1  5e","styl1  5e","ftn2  5e","styl2  5e bar.","5e tot ftn","ftn1  6e","styl1  6e","ftn2  6e","styl2  6e bar."," 6e tot ftn"]
[1,"869554CH","Babette Hanse","Countrys Boy","Z -D","Flevoruiters, PC.",0,67.64,null,0,41.61,null,1,1,0,58.38,null,0,39.26,null,1,1,{"$nulls":32},{"$f":"N9+V9+AD9+AL9+AT9+BB9","v":2},{"$f":"IF($O$4>0,(LARGE(($N9,$V9,$AD9,$AL9,$AT9,$BB9),1)),\"0\")","v":"0"},{"$f":"BC9-BD9","v":2},{"$nulls":3},"Kringkampioen",null,{"$f":"IF(G9>99,199,G9)","v":0},{"$f":"IF(H9>99,0,H9)","v":67.64},{"$f":"IF(J9>99,199,J9)","v":0},{"$f":"IF(K9>99,0,K9)","v":41.61},{"$f":"BK9+BM9","v":0},{"$f":"IF(O9>99,199,O9)","v":0},{"$f":"IF(P9>99,0,P9)","v":58.38},{"$f":"IF(R9>99,199,R9)","v":0},{"$f":"IF(S9>99,0,S9)","v":39.26},{"$f":"BP9+BR9","v":0},{"$f":"IF(W9>99,199,W9)","v":0},{"$f":"IF(X9>99,0,X9)","v":0},{"$f":"IF(Z9>99,199,Z9)","v":0},{"$f":"IF(AA9>99,0,AA9)","v":0},{"$f":"BU9+BW9","v":0},{"$f":"IF(AE9>99,199,AE9)","v":0},{"$f":"IF(AF9>99,0,AF9)","v":0},{"$f":"IF(AH9>99,199,AH9)","v":0},{"$f":"IF(AI9>99,0,AI9)","v":0},{"$f":"BZ9+CB9","v":0},{"$f":"IF(AM9>99,199,AM9)","v":0},{"$f":"IF(AN9>99,0,AN9)","v":0},{"$f":"IF(AP9>99,199,AP9)","v":0},{"$f":"IF(AQ9>99,0,AQ9)","v":0},{"$f":"CE9+CG9","v":0},{"$f":"IF(AU9>99,199,AU9)","v":0},{"$f":"IF(AV9>99,0,AV9)","v":0},{"$f":"IF(AX9>99,199,AX9)","v":0},{"$f":"IF(AY9>99,0,AY9)","v":0},{"$f":"CJ9+CL9","v":0}]
[2,"803916MD","Elvira Van den Dragt","Macho's Quess","Z -D","Klein Maar Dapper, PC.",12,69.99,{"$nulls":4},2,2,4,63.04,{"$nulls":4},4,4,{"$nulls":32},{"$f":"N10+V10+AD10+AL10+AT10+BB10","v":6},{"$f":"IF($O$4>0,(LARGE(($N10,$V10,$AD10,$AL10,$AT10,$BB10),1)),\"0\")","v":"0"},{"$f":"BC10-BD10","v":6},{"$nulls":5},{"$f":"IF(G10>99,199,G10)","v":12},{"$f":"IF(H10>99,0,H10)","v":69.99},{"$f":"IF(J10>99,199,J10)","v":0},{"$f":"IF(K10>99,0,K10)","v":0},{"$f":"BK10+BM10","v":12},{"$f":"IF(O10>99,199,O10)","v":4},{"$f":"IF(P10>99,0,P10)","v":63.04},{"$f":"IF(R10>99,199,R10)","v":0},{"$f":"IF(S10>99,0,S10)","v":0},{"$f":"BP10+BR10","v":4},{"$f":"IF(W10>99,199,W10)","v":0},{"$f":"IF(X10>99,0,X10)","v":0},{"$f":"IF(Z10>99,199,Z10)","v":0},{"$f":"IF(AA10>99,0,AA10)","v":0},{"$f":"BU10+BW10","v":0},{"$f":"IF(AE10>99,199,AE10)","v":0},{"$f":"IF(AF10>99,0,AF10)","v":0},{"$f":"IF(AH10>99,199,AH10)","v":0},{"$f":"IF(AI10>99,0,AI10)","v":0},{"$f":"BZ10+CB10","v":0},{"$f":"IF(AM10>99,199,AM10)","v":0},{"$f":"IF(AN10>99,0,AN10)","v":0},{"$f":"IF(AP10>99,199,AP10)","v":0},{"$f":"IF(AQ10>99,0,AQ10)","v":0},{"$f":"CE10+CG10","v":0},{"$f":"IF(AU10>99,199,AU10)","v":0},{"$f":"IF(AV10>99,0,AV10)","v":0},{"$f":"IF(AX10>99,199,AX10)","v":0},{"$f":"IF(AY10>99,0,AY10)","v":0},{"$f":"CJ10+CL10","v":0}]
[3,"854308MM","River Morssinkhof","Moonlight Flight","Z-D","Klein Maar Dapper, PC.",{"$nulls":7},99,0,51.64,null,4,37.35,null,2,2,{"$nulls":32},{"$f":"N11+V11+AD11+AL11+AT11+BB11","v":101},{"$f":"IF($O$4>0,(LARGE(($N11,$V11,$AD11,$AL11,$AT11,$BB11),1)),\"0\")","v":"0"},{"$f":"BC11-BD11","v":101},{"$nulls":5},{"$f":"IF(G11>99,199,G11)","v":0},{"$f":"IF(H11>99,0,H11)","v":0},{"$f":"IF(J11>99,199,J11)","v":0},{"$f":"IF(K11>99,0,K11)","v":0},{"$f":"BK11+BM11","v":0},{"$f":"IF(O11>99,199,O11)","v":0},{"$f":"IF(P11>99,0,P11)","v":51.64},{"$f":"IF(R11>99,199,R11)","v":4},{"$f":"IF(S11>99,0,S11)","v":37.35},{"$f":"BP11+BR11","v":4},{"$f":"IF(W11>99,199,W11)","v":0},{"$f":"IF(X11>99,0,X11)","v":0},{"$f":"IF(Z11>99,199,Z11)","v":0},{"$f":"IF(AA11>99,0,AA11)","v":0},{"$f":"BU11+BW11","v":0},{"$f":"IF(AE11>99,199,AE11)","v":0},{"$f":"IF(AF11>99,0,AF11)","v":0},{"$f":"IF(AH11>99,199,AH11)","v":0},{"$f":"IF(AI11>99,0,AI11)","v":0},{"$f":"BZ11+CB11","v":0},{"$f":"IF(AM11>99,199,AM11)","v":0},{"$f":"IF(AN11>99,0,AN11)","v":0},{"$f":"IF(AP11>99,199,AP11)","v":0},{"$f":"IF(AQ11>99,0,AQ11)","v":0},{"$f":"CE11+CG11","v":0},{"$f":"IF(AU11>99,199,AU11)","v":0},{"$f":"IF(AV11>99,0,AV11)","v":0},{"$f":"IF(AX11>99,199,AX11)","v":0},{"$f":"IF(AY11>99,0,AY11)","v":0},{"$f":"CJ11+CL11","v":0}]
[4,"888678DM","River Morssinkhof","Dexter Grooted Hart","Z-D","Klein Maar Dapper, PC.",{"$nulls":7},99,0,56.69,null,4,40.03,null,3,3,{"$nulls":32},{"$f":"N12+V12+AD12+AL12+AT12+BB12","v":102},{"$f":"IF($O$4>0,(LARGE(($N12,$V12,$AD12,$AL12,$AT12,$BB12),1)),\"0\")","v":"0"},{"$f":"BC12-BD12","v":102},{"$nulls":5},{"$f":"IF(G12>99,199,G12)","v":0},{"$f":"IF(H12>99,0,H12)","v":0},{"$f":"IF(J12>99,199,J12)","v":0},{"$f":"IF(K12>99,0,K12)","v":0},{"$f":"BK12+BM12","v":0},{"$f":"IF(O12>99,199,O12)","v":0},{"$f":"IF(P12>99,0,P12)","v":56.69},{"$f":"IF(R12>99,199,R12)","v":4},{"$f":"IF(S12>99,0,S12)","v":40.03},{"$f":"BP12+BR12","v":4},{"$f":"IF(W12>99,199,W12)","v":0},{"$f":"IF(X12>99,0,X12)","v":0},{"$f":"IF(Z12>99,199,Z12)","v":0},{"$f":"IF(AA12>99,0,AA12)","v":0},{"$f":"BU12+BW12","v":0},{"$f":"IF(AE12>99,199,AE12)","v":0},{"$f":"IF(AF12>99,0,AF12)","v":0},{"$f":"IF(AH12>99,199,AH12)","v":0},{"$f":"IF(AI12>99,0,AI12)","v":0},{"$f":"BZ12+CB12","v":0},{"$f":"IF(AM12>99,199,AM12)","v":0},{"$f":"IF(AN12>99,0,AN12)","v":0},{"$f":"IF(AP12>99,199,AP12)","v":0},{"$f":"IF(AQ12>99,0,AQ12)","v":0},{"$f":"CE12+CG12","v":0},{"$f":"IF(AU12>99,199,AU12)","v":0},{"$f":"IF(AV12>99,0,AV12)","v":0},{"$f":"IF(AX12>99,199,AX12)","v":0},{"$f":"IF(AY12>99,0,AY12)","v":0},{"$f":"CJ12+CL12","v":0}]

{"sheet":"ZZ(DE)","index":11,"n_rows":9,"n_cols":92,"rows_kept":9,"merged":[[0,0,0,60],[2,0,2,1],[2,2,2,4],[2,5,2,13],[2,14,2,21],[2,22,4,37],[2,54,2,57],[2,59,6,60],[3,0,3,1],[3,2,3,4],[3,5,3,13],[3,14,3,21],[3,54,3,57],[4,0,4,1],[4,2,4,4],[4,5,4,13],[4,14,4,21],[4,54,4,57],[5,0,6,4],[5,6,5,13],[5,14,5,21],[5,22,5,29],[5,30,5,37],[5,38,5,45],[5,46,5,53],[5,54,5,56],[6,6,6,13],[6,14,6,21],[6,22,6,29],[6,30,6,37],[6,38,6,45],[6,46,6,53]]}
["Selectie uitslagen"]
[{"$nulls":13},1,{"$nulls":7},2,{"$nulls":7},3,{"$nulls":7},4,{"$nulls":7},5,{"$nulls":7},6,{"$f":"N2+V2+AD2+AL2+AT2+BB2","v":21},{"$f":"IF($O$4>0,(LARGE(($N2,$V2,$AD2,$AL2,$AT2,$BB2),1)),\"0\")","v":"0"},{"$f":"BC2-BD2","v":21},{"$f":"IF($O$4>1,(LARGE(($N2,$V2,$AD2,$AL2,$AT2,$BB2),1))+(LARGE(($N2,$V2,$AD2,$AL2,$AT2,$BB2),2)),\"0\")","v":"0"},{"$nulls":4},{"$f":"IF(G2>99,199,G2)","v":0},{"$f":"IF(H2>99,0,H2)","v":0},{"$f":"IF(J2>99,199,J2)","v":0},{"$f":"IF(K2>99,0,K2)","v":0},{"$f":"BK2+BM2","v":0},{"$f":"IF(O2>99,199,O2)","v":0},{"$f":"IF(P2>99,0,P2)","v":0},{"$f":"IF(R2>99,199,R2)","v":0},{"$f":"IF(S2>99,0,S2)","v":0},{"$f":"BP2+BR2","v":0},{"$f":"IF(W2>99,199,W2)","v":0},{"$f":"IF(X2>99,0,X2)","v":0},{"$f":"IF(Z2>99,199,Z2)","v":0},{"$f":"IF(AA2>99,0,AA2)","v":0},{"$f":"BU2+BW2","v":0},{"$f":"IF(AE2>99,199,AE2)","v":0},{"$f":"IF(AF2>99,0,AF2)","v":0},{"$f":"IF(AH2>99,199,AH2)","v":0},{"$f":"IF(AI2>99,0,AI2)","v":0},{"$f":"BZ2+CB2","v":0},{"$f":"IF(AM2>99,199,AM2)","v":0},{"$f":"IF(AN2>99,0,AN2)","v":0},{"$f":"IF(AP2>99,199,AP2)","v":0},{"$f":"IF(AQ2>99,0,AQ2)","v":0},{"$f":"CE2+CG2","v":0},{"$f":"IF(AU2>99,199,AU2)","v":0},{"$f":"IF(AV2>99,0,AV2)","v":0},{"$f":"IF(AX2>99,199,AX2)","v":0},{"$f":"IF(AY2>99,0,AY2)","v":0},{"$f":"CJ2+CL2","v":0}]
["Kring:",null,{"$f":"Instellingen!B3","v":"Kring NVF"},null,null,"Aantal afvaardiging Regio:",{"$nulls":48},"Aantal wedstrijden:",{"$nulls":3},{"$f":"Instellingen!B6","v":2}]
["Klasse:",null,"ZZ",null,null,"Aantal afval resultaten:",{"$nulls":8},{"$f":"Instellingen!B7","v":0}]
["Cat.:",null,"D / E",null,null,"Plaatsingspunten niet gestart:",{"$nulls":8},{"$f":"Instellingen!B5","v":99},{"$nulls":39},"Aantal reserves:"]
[{"$nulls":5},"Lokatie:",{"$f":"Instellingen!B40","v":"Wezep"},{"$nulls":7},{"$f":"Instellingen!B41","v":"Nunspeet"},{"$nulls":7},{"$f":"Instellingen!B42","v":" "},{"$nulls":7},{"$f":"Instellingen!B43","v":" "},{"$nulls":7},{"$f":"Instellingen!B44","v":" "},{"$nulls":7},{"$f":"Instellingen!B45","v":" "},{"$nulls":7},"Springen"]
[{"$nulls":5},"Datum:",{"$f":"Instellingen!C40","v":"04juni2021"},{"$nulls":7},{"$f":"Instellingen!C41","v":"26juni2021"},{"$nulls":7},{"$f":"Instellingen!C42","v":" "},{"$nulls":7},{"$f":"Instellingen!C43","v":" "},{"$nulls":7},{"$f":"Instellingen!C44","v":" "},{"$nulls":7},{"$f":"Instellingen!C45","v":" "},{"$nulls":7},"Tot.","afval","Beste"]
["Pl.","Comb.nr.","Ruiter/amazone","Paard/pony","kl.","vereniging","ftn1","tijd1","wvr1","ftn2","tijd2","wvr2","pl.","pl.p.","ftn1","tijd1","wvr1","ftn2","tijd2","wvr2","pl.","pl.p.","ftn1","tijd1","wvr1","ftn2","tijd2","wvr2","pl.","pl.p.","ftn1","tijd1","wvr1","ftn2","tijd2","wvr2","pl.","pl.p.","ftn1","tijd1","wvr1","ftn2","tijd2","wvr2","pl.","pl.p.","ftn1","tijd1","wvr1","ftn2","tijd2","wvr2","pl.","pl.p.","pl.pnt","pl.pnt","pl.pnt","Afv.","Res.","Afv. Regio","opmerking",null,"ftn1  1e","styl1  1e","ftn2  1e","styl2  1e bar.","1e tot ftn","ftn1  2e","styl1  2e","ftn2  2e","styl2  2e bar.","2e tot ftn","ftn1  3e","styl1  3e","ftn2  3e","styl2  3e bar.","3e tot ftn","ftn1  4e","styl1  4e","ftn2  4e","styl2  4e bar."," 4e tot ftn","ftn1  5e","styl1  5e","ftn2  5e","styl2  5e bar.","5e tot ftn","ftn1  6e","styl1  6e","ftn2  6e","styl2  6e bar."," 6e tot ftn"]
[1,"825733SB","Olivia Braaksma","Sara Fortuna","ZZ-D","Heuvelruiters, PC de",{"$nulls":7},99,9,83.66,{"$nulls":4},1,1,{"$nulls":32},{"$f":"N9+V9+AD9+AL9+AT9+BB9","v":100},{"$f":"IF($O$4>0,(LARGE(($N9,$V9,$AD9,$AL9,$AT9,$BB9),1)),\"0\")","v":"0"},{"$f":"BC9-BD9","v":100},{"$nulls":5},{"$f":"IF(G9>99,199,G9)","v":0},{"$f":"IF(H9>99,0,H9)","v":0},{"$f":"IF(J9>99,199,J9)","v":0},{"$f":"IF(K9>99,0,K9)","v":0},{"$f":"BK9+BM9","v":0},{"$f":"IF(O9>99,199,O9)","v":9},{"$f":"IF(P9>99,0,P9)","v":83.66},{"$f":"IF(R9>99,199,R9)","v":0},{"$f":"IF(S9>99,0,S9)","v":0},{"$f":"BP9+BR9","v":9},{"$f":"IF(W9>99,199,W9)","v":0},{"$f":"IF(X9>99,0,X9)","v":0},{"$f":"IF(Z9>99,199,Z9)","v":0},{"$f":"IF(AA9>99,0,AA9)","v":0},{"$f":"BU9+BW9","v":0},{"$f":"IF(AE9>99,199,AE9)","v":0},{"$f":"IF(AF9>99,0,AF9)","v":0},{"$f":"IF(AH9>99,199,AH9)","v":0},{"$f":"IF(AI9>99,0,AI9)","v":0},{"$f":"BZ9+CB9","v":0},{"$f":"IF(AM9>99,199,AM9)","v":0},{"$f":"IF(AN9>99,0,AN9)","v":0},{"$f":"IF(AP9>99,199,AP9)","v":0},{"$f":"IF(AQ9>99,0,AQ9)","v":0},{"$f":"CE9+CG9","v":0},{"$f":"IF(AU9>99,199,AU9)","v":0},{"$f":"IF(AV9>99,0,AV9)","v":0},{"$f":"IF(AX9>99,199,AX9)","v":0},{"$f":"IF(AY9>99,0,AY9)","v":0},{"$f":"CJ9+CL9","v":0}]

{"sheet":"Z-ZZ(CDE)","index":12,"n_rows":8,"n_cols":92,"rows_kept":8,"hidden":true,"merged":[[0,0,0,60],[2,0,2,1],[2,2,2,4],[2,5,2,13],[2,14,2,21],[2,22,4,37],[2,54,2,57],[2,59,6,60],[3,0,3,1],[3,2,3,4],[3,5,3,13],[3,14,3,21],[3,54,3,57],[4,0,4,1],[4,2,4,4],[4,5,4,13],[4,14,4,21],[4,54,4,57],[5,0,6,4],[5,6,5,13],[5,14,5,21],[5,22,5,29],[5,30,5,37],[5,38,5,45],[5,46,5,53],[5,54,5,56],[6,6,6,13],[6,14,6,21],[6,22,6,29],[6,30,6,37],[6,38,6,45],[6,46,6,53]]}
["Selectie uitslagen"]
[{"$nulls":13},1,{"$nulls":7},2,{"$nulls":7},3,{"$nulls":7},4,{"$nulls":7},5,{"$nulls":7},6,{"$f":"N2+V2+AD2+AL2+AT2+BB2","v":21},{"$f":"IF($O$4>0,(LARGE(($N2,$V2,$AD2,$AL2,$AT2,$BB2),1)),\"0\")","v":"0"},{"$f":"BC2-BD2","v":21},{"$f":"IF($O$4>1,(LARGE(($N2,$V2,$AD2,$AL2,$AT2,$BB2),1))+(LARGE(($N2,$V2,$AD2,$AL2,$AT2,$BB2),2)),\"0\")","v":"0"},{"$nulls":4},{"$f":"IF(G2>99,199,G2)","v":0},{"$f":"IF(H2>99,0,H2)","v":0},{"$f":"IF(J2>99,199,J2)","v":0},{"$f":"IF(K2>99,0,K2)","v":0},{"$f":"BK2+BM2","v":0},{"$f":"IF(O2>99,199,O2)","v":0},{"$f":"IF(P2>99,0,P2)","v":0},{"$f":"IF(R2>99,199,R2)","v":0},{"$f":"IF(S2>99,0,S2)","v":0},{"$f":"BP2+BR2","v":0},{"$f":"IF(W2>99,199,W2)","v":0},{"$f":"IF(X2>99,0,X2)","v":0},{"$f":"IF(Z2>99,199,Z2)","v":0},{"$f":"IF(AA2>99,0,AA2)","v":0},{"$f":"BU2+BW2","v":0},{"$f":"IF(AE2>99,199,AE2)","v":0},{"$f":"IF(AF2>99,0,AF2)","v":0},{"$f":"IF(AH2>99,199,AH2)","v":0},{"$f":"IF(AI2>99,0,AI2)","v":0},{"$f":"BZ2+CB2","v":0},{"$f":"IF(AM2>99,199,AM2)","v":0},{"$f":"IF(AN2>99,0,AN2)","v":0},{"$f":"IF(AP2>99,199,AP2)","v":0},{"$f":"IF(AQ2>99,0,AQ2)","v":0},{"$f":"CE2+CG2","v":0},{"$f":"IF(AU2>99,199,AU2)","v":0},{"$f":"IF(AV2>99,0,AV2)","v":0},{"$f":"IF(AX2>99,199,AX2)","v":0},{"$f":"IF(AY2>99,0,AY2)","v":0},{"$f":"CJ2+CL2","v":0}]
["Kring:",null,{"$f":"Instellingen!B3","v":"Kring NVF"},null,null,"Aantal afvaardiging Regio:",{"$nulls":48},"Aantal wedstrijden:",{"$nulls":3},{"$f":"Instellingen!B6","v":2}]
["Klasse:",null,"Z - ZZ",null,null,"Aantal afval resultaten:",{"$nulls":8},{"$f":"Instellingen!B7","v":0}]
["Cat.:",null,"C / D / E",null,null,"Plaatsingspunten niet gestart:",{"$nulls":8},{"$f":"Instellingen!B5","v":99},{"$nulls":39},"Aantal reserves:"]
[{"$nulls":5},"Lokatie:",{"$f":"Instellingen!B40","v":"Wezep"},{"$nulls":7},{"$f":"Instellingen!B41","v":"Nunspeet"},{"$nulls":7},{"$f":"Instellingen!B42","v":" "},{"$nulls":7},{"$f":"Instellingen!B43","v":" "},{"$nulls":7},{"$f":"Instellingen!B44","v":" "},{"$nulls":7},{"$f":"Instellingen!B45","v":" "},{"$nulls":7},"Springen"]
[{"$nulls":5},"Datum:",{"$f":"Instellingen!C40","v":"04juni2021"},{"$nulls":7},{"$f":"Instellingen!C41","v":"26juni2021"},{"$nulls":7},{"$f":"Instellingen!C42","v":" "},{"$nulls":7},{"$f":"Instellingen!C43","v":" "},{"$nulls":7},{"$f":"Instellingen!C44","v":" "},{"$nulls":7},{"$f":"Instellingen!C45","v":" "},{"$nulls":7},"Tot.","afval","Beste"]
["Pl.","Comb.nr.","Ruiter/amazone","Paard/pony","kl.","vereniging","ftn1","tijd1","wvr1","ftn2","tijd2","wvr2","pl.","pl.p.","ftn1","tijd1","wvr1","ftn2","tijd2","wvr2","pl.","pl.p.","ftn1","tijd1","wvr1","ftn2","tijd2","wvr2","pl.","pl.p.","ftn1","tijd1","wvr1","ftn2","tijd2","wvr2","pl.","pl.p.","ftn1","tijd1","wvr1","ftn2","tijd2","wvr2","pl.","pl.p.","ftn1","tijd1","wvr1","ftn2","tijd2","wvr2","pl.","pl.p.","pl.pnt","pl.pnt","pl.pnt","Afv.","Res.","Afv. Regio","opmerking",null,"ftn1  1e","styl1  1e","ftn2  1e","styl2  1e bar.","1e tot ftn","ftn1  2e","styl1  2e","ftn2  2e","styl2  2e bar.","2e tot ftn","ftn1  3e","styl1  3e","ftn2  3e","styl2  3e bar.","3e tot ftn","ftn1  4e","styl1  4e","ftn2  4e","styl2  4e bar."," 4e tot ftn","ftn1  5e","styl1  5e","ftn2  5e","styl2  5e bar.","5e tot ftn","ftn1  6e","styl1  6e","ftn2  6e","styl2  6e bar."," 6e tot ftn"]

{"sheet":"Kampioenen","index":13,"n_rows":35,"n_cols":11,"rows_kept":35,"merged":[[0,0,0,6],[0,7,0,8],[2,1,2,2],[2,4,2,5],[2,7,2,8]]}
["Regio Kampioenen"]
[]
["Kring:","Kring NVF",{"$nulls":5},"Aantal per klasse:",null,1]
["Volgnr.","Comb.nr.","Ruiter/amazone","Paard/pony","Klasse","Cat.","Vereniging","Totaal beste",null,"Totaal pl.pnt.","Opmerking"]
[]
[]
[null,null,"Klasse: B Cat.: A / B"]
[1,"918850JV","Wim Vos","Jasper","B","B -B","Bosruiters, PC. De",4,null,4,"Kringkampioen"]
[]
[null,null,"Klasse: B Cat.: C"]
[1,"925464MH","Loïs Van den Heuvel","Macho","B","B -C","WWNA, PC.",6,null,6,"Kringkampioen"]
[]
[null,null,"Klasse: B Cat.: D / E"]
[1,"919222CP","Liandrie Peek","Cheela","B","B -D","Klein Maar Dapper, PC.",6,null,6,"Kringkampioen"]
[]
[null,null,"Klasse: L Cat.: A / B"]
[1,"918406KV","Wim Vos","KSH JOLLY JUMPER","L","L -B","Bosruiters, PC. De",2,null,2,"Kringkampioen"]
[]
[null,null,"Klasse: L Cat.: C"]
[1,"916404MK","Gustina Karssen","MIK's Turbo Toby","L","L -C","Bosruiters, PC. De",5,null,5,"Kringkampioen"]
[]
[null,null,"Klasse: L Cat.: D / E"]
[1,"924746UV","Bethany Vos","Lady Crown VS","L","L -D","Pothoven (po), HS",8,null,8,"Kringkampioen"]
[]
[null,null,"Klasse: M Cat.: C"]
[1,"850341MR","Silke Van Riel","Magnum","M","M -C","Flevoruiters, PC.",4,null,4,"Kringkampioen"]
[]
[null,null,"Klasse: M Cat.: D / E"]
[1,"866585FA","Quiana Altena","Flessenbos Florian","M","M -D","Heuvelruiters, PC. De",5,null,5,"Kringkampioen"]
[]
[null,null,"Klasse: Z Cat.: C"]
[1,"807022LK","Kyra Klopman","Luiringe Stefanie's Angela","Z","Z -C","Bosruiters, PC. De",2,null,2,"Kringkampioen"]
[]
[null,null,"Klasse: Z Cat.: D / E"]
[1,"869554CH","Babette Hanse","Countrys Boy","Z","Z -D","Flevoruiters, PC.",2,null,2,"Kringkampioen"]

{"sheet":"Diversen","index":14,"n_rows":8,"n_cols":14,"rows_kept":8,"merged":[[0,0,0,11],[2,2,2,3],[2,4,2,6],[2,7,2,13],[5,0,6,13]]}
["Selectie wedstrijd"]
[null,null,9,{"$f":"FLOOR((C2+3)/4,1)","v":3},{"$nulls":3},192,190,{"$f":"H2+I2","v":{"v":382,"d":"382.00"}}]
["Kring:",null,{"$f":"Instellingen!B3","v":"Kring NVF"},null,"Wedstrijd nummer:",null,null,1]
[]
[]
["Dubbele combinaties "]
[]
["Pl.","Comb.nr.","Ruiter/amazone","Paard/pony","klasse","cat.","vereniging","Ftn","Bar.","Stijl tijd",{"$nulls":3},"opmerking"]

{"sheet":"Instellingen","index":15,"n_rows":45,"n_cols":4,"rows_kept":45}
[null,"Waarde","Opmerking"]
["Gegevens:"]
["Naam van de Kring:","Kring NVF"]
["Interval plaatsingspunten:",1,"1=(1,2,3,etc) / 2=(1,3,5,etc)"]
["Plaatsingspunten niet gestart:",99]
["Aantal selectie wedstrijden:",2]
["Aantal afval resultaten:",0]
[]
[]
["Plaatsingspunten niet gefinisht",90,"Blanko is volgens plaatsing"]
[]
[]
["Afvaardiging Regiokampioenschappen",null,"Aanmelden; Afmelden, Blanko is iedereen"]
["Klasse Z-ZZ samenvoegen","Nee"]
["zie dressuur"]
["Zie dressuur"]
["Klasse BB verbergen","Nee"]
["Zie dressuur"]
[]
[]
[]
[]
["Volgorde ex-aequo regeling:",null,"(De laagste waarde heeft voorrang, niet ingevulde gegevens doen niet mee voor de volgorde van het resultaat)"]
["Totaal beste plaatsingspunten:",1,"(dit is een vaste waarde en heeft de hoogste voorrang)"]
["Plaatsingspunten 6e wedstrijd:"]
["Plaatsingspunten 5e wedstrijd:"]
["Plaatsingspunten 4e wedstrijd:"]
["Plaatsingspunten 3e wedstrijd:"]
["Plaatsingspunten 2e wedstrijd:",2]
["Plaatsingspunten 1e wedstrijd:"]
["Totaal alle plaatsingspunten:",3]
{"$rows_empty":7}
["Omschrijving","Lokatie","Datum","Sortering fouten"]
["1e wedstrijd","Wezep","04juni2021","1: fouten barrage"]
["2e wedstrijd","Nunspeet","26juni2021","1: fouten barrage"]
["3e wedstrijd"," "," ","1: fouten barrage"]
["4e wedstrijd"," "," ","1: fouten barrage"]
["5e wedstrijd"," "," ","1: fouten barrage"]
["6e wedstrijd"," "," ","1: fouten barrage"]

{"sheet":"Afvaardiging","index":16,"n_rows":4,"n_cols":10,"rows_kept":4,"merged":[[0,0,0,7],[2,1,2,3],[2,4,2,5]]}
["Afvaardiging aan de Regio Kampioenschappen"]
[]
["Kring:",{"$f":"Instellingen!B3","v":"Kring NVF"},null,null,"Discipline:",null,"Springen"]
["Volgnr.","Comb.nr.","Ruiter / amazone","Paard/pony","Klasse","Cat.","Vereniging","Opmerking",{"$f":"IF(C4<>\"\",RIGHT(C4,LEN(C4)-SEARCH(\" \",C4,1)),\"\")","v":"/ amazone"},{"$f":"IF(C4<>\"\",LEFT(C4, SEARCH(\" \",C4,1)),\"\")","v":"Ruiter "}]